BEGIN:VCALENDAR
VERSION:2.0
PRODID:-//RA MA LIFE - ECPv6.15.15//NONSGML v1.0//EN
CALSCALE:GREGORIAN
METHOD:PUBLISH
X-ORIGINAL-URL:https://ramayogainstitute.com
X-WR-CALDESC:Events for RA MA LIFE
REFRESH-INTERVAL;VALUE=DURATION:PT1H
X-Robots-Tag:noindex
X-PUBLISHED-TTL:PT1H
BEGIN:VTIMEZONE
TZID:America/Los_Angeles
BEGIN:DAYLIGHT
TZOFFSETFROM:-0800
TZOFFSETTO:-0700
TZNAME:PDT
DTSTART:20230312T100000
END:DAYLIGHT
BEGIN:STANDARD
TZOFFSETFROM:-0700
TZOFFSETTO:-0800
TZNAME:PST
DTSTART:20231105T090000
END:STANDARD
BEGIN:DAYLIGHT
TZOFFSETFROM:-0800
TZOFFSETTO:-0700
TZNAME:PDT
DTSTART:20240310T100000
END:DAYLIGHT
BEGIN:STANDARD
TZOFFSETFROM:-0700
TZOFFSETTO:-0800
TZNAME:PST
DTSTART:20241103T090000
END:STANDARD
BEGIN:DAYLIGHT
TZOFFSETFROM:-0800
TZOFFSETTO:-0700
TZNAME:PDT
DTSTART:20250309T100000
END:DAYLIGHT
BEGIN:STANDARD
TZOFFSETFROM:-0700
TZOFFSETTO:-0800
TZNAME:PST
DTSTART:20251102T090000
END:STANDARD
END:VTIMEZONE
BEGIN:VEVENT
DTSTART;TZID=America/Los_Angeles:20240730T173000
DTEND;TZID=America/Los_Angeles:20240730T190000
DTSTAMP:20260425T041735
CREATED:20240722T193713Z
LAST-MODIFIED:20240722T193713Z
UID:1936653-1722360600-1722366000@ramayogainstitute.com
SUMMARY:The Golden Archives with Guru Jagat
DESCRIPTION:TUNE IN\n 
URL:https://ramayogainstitute.com/event/the-golden-archives-with-guru-jagat-29/
LOCATION:Online on RA MA TV
CATEGORIES:RA MA TV Live
ATTACH;FMTTYPE=image/jpeg:https://ramayogainstitute.com/wp-content/uploads/2024/07/IMG_0701.jpg
END:VEVENT
BEGIN:VEVENT
DTSTART;TZID=America/Los_Angeles:20240723T173000
DTEND;TZID=America/Los_Angeles:20240723T190000
DTSTAMP:20260425T041735
CREATED:20240719T034519Z
LAST-MODIFIED:20240719T034921Z
UID:1935566-1721755800-1721761200@ramayogainstitute.com
SUMMARY:The Golden Archives with Guru Jagat
DESCRIPTION:TUNE IN\n 
URL:https://ramayogainstitute.com/event/the-golden-archives-with-guru-jagat-28/
LOCATION:Online on RA MA TV
CATEGORIES:RA MA TV Live
ATTACH;FMTTYPE=image/jpeg:https://ramayogainstitute.com/wp-content/uploads/2024/07/IMG_0701.jpg
END:VEVENT
BEGIN:VEVENT
DTSTART;TZID=America/Los_Angeles:20240722T040000
DTEND;TZID=America/Los_Angeles:20240722T063000
DTSTAMP:20260425T041735
CREATED:20240719T032635Z
LAST-MODIFIED:20240722T044325Z
UID:1935508-1721620800-1721629800@ramayogainstitute.com
SUMMARY:White Sun Sadhana
DESCRIPTION:TUNE IN\nDaily\, 4:00am-6:30am PST\nComplementary in person\nAnd on RA MA TV Community Content Channel \nMany spiritual traditions recognize the early morning hours of the day as a potent and powerful time for deep meditation. The White Sun Sadhana consists of Jap-Ji\, Yoga\, 62 minutes of chanting the Aquarian Sadhana Mantras. Sadhana is always complimentary and open to the public. All level welcome\, no previous experience necessary. \nThe front entrance is locked for this early morning practice. Please enter through the rear door\, 1729 21st Court\, which can be accessed via the back alley that runs parallel to 21st Street.
URL:https://ramayogainstitute.com/event/white-sun-sadhana-35/
LOCATION:Online on RA MA TV
CATEGORIES:Community Content,RA MA TV Live
ATTACH;FMTTYPE=image/jpeg:https://ramayogainstitute.com/wp-content/uploads/2021/11/White-Sun-Sadhana-Album-Cover-2.jpg
END:VEVENT
BEGIN:VEVENT
DTSTART;TZID=America/Los_Angeles:20240721T040000
DTEND;TZID=America/Los_Angeles:20240721T063000
DTSTAMP:20260425T041735
CREATED:20240703T180347Z
LAST-MODIFIED:20240720T163048Z
UID:1932264-1721534400-1721543400@ramayogainstitute.com
SUMMARY:White Sun Sadhana
DESCRIPTION:TUNE IN\nDaily\, 4:00am-6:30am PST\nComplementary in person\nAnd on RA MA TV Community Content Channel \nMany spiritual traditions recognize the early morning hours of the day as a potent and powerful time for deep meditation. The White Sun Sadhana consists of Jap-Ji\, Yoga\, 62 minutes of chanting the Aquarian Sadhana Mantras. Sadhana is always complimentary and open to the public. All level welcome\, no previous experience necessary. \nThe front entrance is locked for this early morning practice. Please enter through the rear door\, 1729 21st Court\, which can be accessed via the back alley that runs parallel to 21st Street.
URL:https://ramayogainstitute.com/event/white-sun-sadhana-31/
LOCATION:Online on RA MA TV
CATEGORIES:Community Content,RA MA TV Live
ATTACH;FMTTYPE=image/jpeg:https://ramayogainstitute.com/wp-content/uploads/2021/11/White-Sun-Sadhana-Album-Cover-2.jpg
END:VEVENT
BEGIN:VEVENT
DTSTART;TZID=America/Los_Angeles:20240720T040000
DTEND;TZID=America/Los_Angeles:20240720T063000
DTSTAMP:20260425T041735
CREATED:20240703T180215Z
LAST-MODIFIED:20240720T050632Z
UID:1932250-1721448000-1721457000@ramayogainstitute.com
SUMMARY:White Sun Sadhana
DESCRIPTION:TUNE IN\nDaily\, 4:00am-6:30am PST\nComplementary in person\nAnd on RA MA TV Community Content Channel \nMany spiritual traditions recognize the early morning hours of the day as a potent and powerful time for deep meditation. The White Sun Sadhana consists of Jap-Ji\, Yoga\, 62 minutes of chanting the Aquarian Sadhana Mantras. Sadhana is always complimentary and open to the public. All level welcome\, no previous experience necessary. \nThe front entrance is locked for this early morning practice. Please enter through the rear door\, 1729 21st Court\, which can be accessed via the back alley that runs parallel to 21st Street.
URL:https://ramayogainstitute.com/event/white-sun-sadhana-30/
LOCATION:Online on RA MA TV
CATEGORIES:Community Content,RA MA TV Live
ATTACH;FMTTYPE=image/jpeg:https://ramayogainstitute.com/wp-content/uploads/2021/11/White-Sun-Sadhana-Album-Cover-2.jpg
END:VEVENT
BEGIN:VEVENT
DTSTART;TZID=America/Los_Angeles:20240719T110000
DTEND;TZID=America/Los_Angeles:20240719T120000
DTSTAMP:20260425T041735
CREATED:20240714T215244Z
LAST-MODIFIED:20240715T173328Z
UID:1934435-1721386800-1721390400@ramayogainstitute.com
SUMMARY:Kundalini Yoga & Meditation with Harmanjot
DESCRIPTION:TUNE IN\nHarmanjot began practicing\, studying and teaching Kundalini yoga in 2008 when she met her teacher Guru Jagat. She worked side by side with Guru Jagat until her passing in August 2021. During this time\, Harmanjot was instrumental to opening and growing the three RA MA Institutes (Los Angeles\, New York City\, Palma de Mallorca)\, and developing the creative programming that made RA MA the unique blend of sacred and secular it became known for. With Guru Jagat’s passing\, Harmanjot’s destiny has called her to continue the mission they worked so closely on together.\nHarmanjot has partnered with top brands to teach yoga and meditation. She is newly contracted with L’Oréal USA as an astrologer to their corporate team. For her client list\, which includes Academy Award winners\, Golden Globe nominees\, executives\, artists\, tastemakers and individuals of all walks of life\, Harmanjot offers private yoga\, meditation and various levels of astrology readings. Taking a page from her teacher’s book\, Harmanjot is soon to launch her wellness-lifestyle brand aimed at carrying the majestic teachings of Kundalini yoga with fidelity and modernism\, empowering the every-woman\, expanding magic in the world\, and living with irreverence.
URL:https://ramayogainstitute.com/event/kundalini-yoga-meditation-with-ra-ma-crew-33/
LOCATION:Online on RA MA TV
CATEGORIES:In Person,RA MA TV Live
ATTACH;FMTTYPE=image/jpeg:https://ramayogainstitute.com/wp-content/uploads/2022/01/Harmanjot-3.jpg
END:VEVENT
BEGIN:VEVENT
DTSTART;TZID=America/Los_Angeles:20240719T040000
DTEND;TZID=America/Los_Angeles:20240719T063000
DTSTAMP:20260425T041735
CREATED:20240703T180035Z
LAST-MODIFIED:20240719T035005Z
UID:1932247-1721361600-1721370600@ramayogainstitute.com
SUMMARY:White Sun Sadhana
DESCRIPTION:TUNE IN\nDaily\, 4:00am-6:30am PST\nComplementary in person\nAnd on RA MA TV Community Content Channel \nMany spiritual traditions recognize the early morning hours of the day as a potent and powerful time for deep meditation. The White Sun Sadhana consists of Jap-Ji\, Yoga\, 62 minutes of chanting the Aquarian Sadhana Mantras. Sadhana is always complimentary and open to the public. All level welcome\, no previous experience necessary. \nThe front entrance is locked for this early morning practice. Please enter through the rear door\, 1729 21st Court\, which can be accessed via the back alley that runs parallel to 21st Street.
URL:https://ramayogainstitute.com/event/white-sun-sadhana-29/
LOCATION:Online on RA MA TV
CATEGORIES:Community Content,RA MA TV Live
ATTACH;FMTTYPE=image/jpeg:https://ramayogainstitute.com/wp-content/uploads/2021/11/White-Sun-Sadhana-Album-Cover-2.jpg
END:VEVENT
BEGIN:VEVENT
DTSTART;TZID=America/Los_Angeles:20240717T110000
DTEND;TZID=America/Los_Angeles:20240717T120000
DTSTAMP:20260425T041735
CREATED:20240712T025658Z
LAST-MODIFIED:20240715T164203Z
UID:1933831-1721214000-1721217600@ramayogainstitute.com
SUMMARY:Kundalini Yoga & Meditation with Jai Gopal
DESCRIPTION:TUNE IN\nJai Gopal fell in love with Kundalini Yoga after experiencing how quickly the technology works to move one mentally and physically to their optimum state of flow. After meeting his teacher\, Harijiwan\, Jai Gopal became dedicated to teaching and helping others learn this powerful mind-body technology. Practicing and teaching Kundalini Yoga for over twenty years\, he very much enjoys studying and sharing the pure teachings of the lineage.
URL:https://ramayogainstitute.com/event/kundalini-yoga-meditation-with-ra-ma-crew-31/
LOCATION:Online on RA MA TV
CATEGORIES:In Person,RA MA TV Live
ATTACH;FMTTYPE=image/jpeg:https://ramayogainstitute.com/wp-content/uploads/2023/07/Jai-Gopal-.jpg
END:VEVENT
BEGIN:VEVENT
DTSTART;TZID=America/Los_Angeles:20240716T173000
DTEND;TZID=America/Los_Angeles:20240716T190000
DTSTAMP:20260425T041735
CREATED:20240703T173129Z
LAST-MODIFIED:20240716T212651Z
UID:1932224-1721151000-1721156400@ramayogainstitute.com
SUMMARY:The Golden Archives with Guru Jagat
DESCRIPTION:TUNE IN\n 
URL:https://ramayogainstitute.com/event/the-golden-archives-with-guru-jagat-27/
LOCATION:Online on RA MA TV
CATEGORIES:RA MA TV Live
ATTACH;FMTTYPE=image/png:https://ramayogainstitute.com/wp-content/uploads/2024/07/Blue-daisies-GJ.png
END:VEVENT
BEGIN:VEVENT
DTSTART;TZID=America/Los_Angeles:20240714T040000
DTEND;TZID=America/Los_Angeles:20240714T063000
DTSTAMP:20260425T041735
CREATED:20240703T172833Z
LAST-MODIFIED:20240714T004545Z
UID:1932217-1720929600-1720938600@ramayogainstitute.com
SUMMARY:White Sun Sadhana
DESCRIPTION:TUNE IN\nDaily\, 4:00am-6:30am PST\nComplementary in person\nAnd on RA MA TV Community Content Channel \nMany spiritual traditions recognize the early morning hours of the day as a potent and powerful time for deep meditation. The White Sun Sadhana consists of Jap-Ji\, Yoga\, 62 minutes of chanting the Aquarian Sadhana Mantras. Sadhana is always complimentary and open to the public. All level welcome\, no previous experience necessary. \nThe front entrance is locked for this early morning practice. Please enter through the rear door\, 1729 21st Court\, which can be accessed via the back alley that runs parallel to 21st Street.
URL:https://ramayogainstitute.com/event/white-sun-sadhana-24/
LOCATION:Online on RA MA TV
CATEGORIES:Community Content,RA MA TV Live
ATTACH;FMTTYPE=image/jpeg:https://ramayogainstitute.com/wp-content/uploads/2021/11/White-Sun-Sadhana-Album-Cover-2.jpg
END:VEVENT
BEGIN:VEVENT
DTSTART;TZID=America/Los_Angeles:20240709T173000
DTEND;TZID=America/Los_Angeles:20240709T190000
DTSTAMP:20260425T041735
CREATED:20240703T173021Z
LAST-MODIFIED:20240703T173021Z
UID:1932220-1720546200-1720551600@ramayogainstitute.com
SUMMARY:The Golden Archives with Guru Jagat
DESCRIPTION:TUNE IN\n 
URL:https://ramayogainstitute.com/event/the-golden-archives-with-guru-jagat-26/
LOCATION:Online on RA MA TV
CATEGORIES:RA MA TV Live
ATTACH;FMTTYPE=image/jpeg:https://ramayogainstitute.com/wp-content/uploads/2021/03/guru-jagat-cal-icon-3.jpg
END:VEVENT
BEGIN:VEVENT
DTSTART;TZID=America/Los_Angeles:20240707T040000
DTEND;TZID=America/Los_Angeles:20240707T063000
DTSTAMP:20260425T041735
CREATED:20240626T192214Z
LAST-MODIFIED:20240704T230437Z
UID:1931102-1720324800-1720333800@ramayogainstitute.com
SUMMARY:White Sun Sadhana
DESCRIPTION:TUNE IN\nDaily\, 4:00am-6:30am PST\nComplementary in person\nAnd on RA MA TV Community Content Channel \nMany spiritual traditions recognize the early morning hours of the day as a potent and powerful time for deep meditation. The White Sun Sadhana consists of Jap-Ji\, Yoga\, 62 minutes of chanting the Aquarian Sadhana Mantras. Sadhana is always complimentary and open to the public. All level welcome\, no previous experience necessary. \nThe front entrance is locked for this early morning practice. Please enter through the rear door\, 1729 21st Court\, which can be accessed via the back alley that runs parallel to 21st Street.
URL:https://ramayogainstitute.com/event/white-sun-sadhana-17/
LOCATION:Online on RA MA TV
CATEGORIES:Community Content,RA MA TV Live
ATTACH;FMTTYPE=image/jpeg:https://ramayogainstitute.com/wp-content/uploads/2021/11/White-Sun-Sadhana-Album-Cover-2.jpg
END:VEVENT
BEGIN:VEVENT
DTSTART;TZID=America/Los_Angeles:20240705T040000
DTEND;TZID=America/Los_Angeles:20240705T063000
DTSTAMP:20260425T041735
CREATED:20240626T191946Z
LAST-MODIFIED:20240704T230337Z
UID:1931095-1720152000-1720161000@ramayogainstitute.com
SUMMARY:White Sun Sadhana
DESCRIPTION:TUNE IN\nDaily\, 4:00am-6:30am PST\nComplementary in person\nAnd on RA MA TV Community Content Channel \nMany spiritual traditions recognize the early morning hours of the day as a potent and powerful time for deep meditation. The White Sun Sadhana consists of Jap-Ji\, Yoga\, 62 minutes of chanting the Aquarian Sadhana Mantras. Sadhana is always complimentary and open to the public. All level welcome\, no previous experience necessary. \nThe front entrance is locked for this early morning practice. Please enter through the rear door\, 1729 21st Court\, which can be accessed via the back alley that runs parallel to 21st Street.
URL:https://ramayogainstitute.com/event/white-sun-sadhana-15/
LOCATION:Online on RA MA TV
CATEGORIES:Community Content,RA MA TV Live
ATTACH;FMTTYPE=image/jpeg:https://ramayogainstitute.com/wp-content/uploads/2021/11/White-Sun-Sadhana-Album-Cover-2.jpg
END:VEVENT
BEGIN:VEVENT
DTSTART;TZID=America/Los_Angeles:20240703T110000
DTEND;TZID=America/Los_Angeles:20240703T120000
DTSTAMP:20260425T041735
CREATED:20240508T183745Z
LAST-MODIFIED:20240703T165307Z
UID:1919250-1720004400-1720008000@ramayogainstitute.com
SUMMARY:Kundalini Yoga & Meditation with RA MA CREW
DESCRIPTION:TUNE IN\nAll Levels Kundalini Yoga & Meditation
URL:https://ramayogainstitute.com/event/energy-kundalini-yoga-meditation-with-marta-ulbricht-2-2024-07-03/
LOCATION:Online on RA MA TV
CATEGORIES:RA MA TV Live
ATTACH;FMTTYPE=image/png:https://ramayogainstitute.com/wp-content/uploads/2024/06/Class-Crown-Chakra-Yoga-Studio-Los-Angeles-Meditate-Meditating-e1718686015147.png
END:VEVENT
BEGIN:VEVENT
DTSTART;TZID=America/Los_Angeles:20240702T173000
DTEND;TZID=America/Los_Angeles:20240702T190000
DTSTAMP:20260425T041735
CREATED:20240626T190924Z
LAST-MODIFIED:20240626T190924Z
UID:1931064-1719941400-1719946800@ramayogainstitute.com
SUMMARY:The Golden Archives with Guru Jagat
DESCRIPTION:TUNE IN\n 
URL:https://ramayogainstitute.com/event/the-golden-archives-with-guru-jagat-25/
LOCATION:Online on RA MA TV
CATEGORIES:RA MA TV Live
ATTACH;FMTTYPE=image/jpeg:https://ramayogainstitute.com/wp-content/uploads/2021/03/guru-jagat-cal-icon-3.jpg
END:VEVENT
BEGIN:VEVENT
DTSTART;TZID=America/Los_Angeles:20240625T173000
DTEND;TZID=America/Los_Angeles:20240625T190000
DTSTAMP:20260425T041735
CREATED:20240615T182547Z
LAST-MODIFIED:20240615T182547Z
UID:1928987-1719336600-1719342000@ramayogainstitute.com
SUMMARY:The Golden Archives with Guru Jagat
DESCRIPTION:TUNE IN\n 
URL:https://ramayogainstitute.com/event/the-golden-archives-with-guru-jagat-24/
LOCATION:Online on RA MA TV
CATEGORIES:RA MA TV Live
ATTACH;FMTTYPE=image/jpeg:https://ramayogainstitute.com/wp-content/uploads/2021/03/guru-jagat-cal-icon-3.jpg
END:VEVENT
BEGIN:VEVENT
DTSTART;TZID=America/Los_Angeles:20240618T173000
DTEND;TZID=America/Los_Angeles:20240618T190000
DTSTAMP:20260425T041735
CREATED:20240608T171956Z
LAST-MODIFIED:20240608T171956Z
UID:1927431-1718731800-1718737200@ramayogainstitute.com
SUMMARY:The Golden Archives with Guru Jagat
DESCRIPTION:TUNE IN\n 
URL:https://ramayogainstitute.com/event/the-golden-archives-with-guru-jagat-23/
LOCATION:Online on RA MA TV
CATEGORIES:RA MA TV Live
ATTACH;FMTTYPE=image/jpeg:https://ramayogainstitute.com/wp-content/uploads/2021/03/guru-jagat-cal-icon-3.jpg
END:VEVENT
BEGIN:VEVENT
DTSTART;TZID=America/Los_Angeles:20240611T173000
DTEND;TZID=America/Los_Angeles:20240611T190000
DTSTAMP:20260425T041735
CREATED:20240605T180405Z
LAST-MODIFIED:20240605T181607Z
UID:1926569-1718127000-1718132400@ramayogainstitute.com
SUMMARY:The Golden Archives with Guru Jagat
DESCRIPTION:TUNE IN\n 
URL:https://ramayogainstitute.com/event/the-golden-archives-with-guru-jagat-22/
LOCATION:Online on RA MA TV
CATEGORIES:RA MA TV Live
ATTACH;FMTTYPE=image/jpeg:https://ramayogainstitute.com/wp-content/uploads/2021/03/guru-jagat-cal-icon-3.jpg
END:VEVENT
BEGIN:VEVENT
DTSTART;TZID=America/Los_Angeles:20240604T173000
DTEND;TZID=America/Los_Angeles:20240604T190000
DTSTAMP:20260425T041735
CREATED:20240508T172744Z
LAST-MODIFIED:20240508T172744Z
UID:1919110-1717522200-1717527600@ramayogainstitute.com
SUMMARY:The Golden Archives with Guru Jagat
DESCRIPTION:TUNE IN\n 
URL:https://ramayogainstitute.com/event/the-golden-archives-with-guru-jagat-21/
LOCATION:Online on RA MA TV
CATEGORIES:RA MA TV Live
ATTACH;FMTTYPE=image/jpeg:https://ramayogainstitute.com/wp-content/uploads/2021/03/guru-jagat-cal-icon-3.jpg
END:VEVENT
BEGIN:VEVENT
DTSTART;TZID=America/Los_Angeles:20240528T173000
DTEND;TZID=America/Los_Angeles:20240528T190000
DTSTAMP:20260425T041735
CREATED:20240508T172616Z
LAST-MODIFIED:20240508T172616Z
UID:1919108-1716917400-1716922800@ramayogainstitute.com
SUMMARY:The Golden Archives with Guru Jagat
DESCRIPTION:TUNE IN\n 
URL:https://ramayogainstitute.com/event/the-golden-archives-with-guru-jagat-20/
LOCATION:Online on RA MA TV
CATEGORIES:RA MA TV Live
ATTACH;FMTTYPE=image/jpeg:https://ramayogainstitute.com/wp-content/uploads/2021/03/guru-jagat-cal-icon-3.jpg
END:VEVENT
BEGIN:VEVENT
DTSTART;TZID=America/Los_Angeles:20240522T173000
DTEND;TZID=America/Los_Angeles:20240522T183000
DTSTAMP:20260425T041735
CREATED:20240508T191243Z
LAST-MODIFIED:20240508T191304Z
UID:1919352-1716399000-1716402600@ramayogainstitute.com
SUMMARY:BEAM |Kundalini Yoga & Meditation with Jen Saltiel
DESCRIPTION:TUNE IN \nJen Saltiel has been practicing and working with the Kundalini Yoga technology since 2012. As a devout student of Guru Jagat’s and Chief of Staff of the RA MA Institute Global team\, she has a deep connection with the teachings and genuine love and desire to deliver them to the world.
URL:https://ramayogainstitute.com/event/beam-kundalini-yoga-meditation-with-jen-saltiel-34/
LOCATION:Online on RA MA TV
CATEGORIES:In Person,RA MA TV Live
ATTACH;FMTTYPE=image/jpeg:https://ramayogainstitute.com/wp-content/uploads/2022/06/Jen-Saltiel-Vimeo-Thumbnail.jpg
END:VEVENT
BEGIN:VEVENT
DTSTART;TZID=America/Los_Angeles:20240521T173000
DTEND;TZID=America/Los_Angeles:20240521T190000
DTSTAMP:20260425T041735
CREATED:20240508T172532Z
LAST-MODIFIED:20240508T172532Z
UID:1918925-1716312600-1716318000@ramayogainstitute.com
SUMMARY:The Golden Archives with Guru Jagat
DESCRIPTION:TUNE IN\n 
URL:https://ramayogainstitute.com/event/the-golden-archives-with-guru-jagat-19/
LOCATION:Online on RA MA TV
CATEGORIES:RA MA TV Live
ATTACH;FMTTYPE=image/jpeg:https://ramayogainstitute.com/wp-content/uploads/2021/03/guru-jagat-cal-icon-3.jpg
END:VEVENT
BEGIN:VEVENT
DTSTART;TZID=America/Los_Angeles:20240515T173000
DTEND;TZID=America/Los_Angeles:20240515T183000
DTSTAMP:20260425T041735
CREATED:20240508T172957Z
LAST-MODIFIED:20240508T172957Z
UID:1919112-1715794200-1715797800@ramayogainstitute.com
SUMMARY:BEAM |Kundalini Yoga & Meditation with Jen Saltiel
DESCRIPTION:TUNE IN \nJen Saltiel has been practicing and working with the Kundalini Yoga technology since 2012. As a devout student of Guru Jagat’s and Chief of Staff of the RA MA Institute Global team\, she has a deep connection with the teachings and genuine love and desire to deliver them to the world.
URL:https://ramayogainstitute.com/event/beam-kundalini-yoga-meditation-with-jen-saltiel-33/
LOCATION:Online on RA MA TV
CATEGORIES:RA MA TV Live
ATTACH;FMTTYPE=image/jpeg:https://ramayogainstitute.com/wp-content/uploads/2022/06/Jen-Saltiel-Vimeo-Thumbnail.jpg
END:VEVENT
BEGIN:VEVENT
DTSTART;TZID=America/Los_Angeles:20240514T173000
DTEND;TZID=America/Los_Angeles:20240514T190000
DTSTAMP:20260425T041735
CREATED:20240508T171808Z
LAST-MODIFIED:20240508T171808Z
UID:1918923-1715707800-1715713200@ramayogainstitute.com
SUMMARY:The Golden Archives with Guru Jagat
DESCRIPTION:TUNE IN\n 
URL:https://ramayogainstitute.com/event/the-golden-archives-with-guru-jagat-18/
LOCATION:Online on RA MA TV
CATEGORIES:RA MA TV Live
ATTACH;FMTTYPE=image/jpeg:https://ramayogainstitute.com/wp-content/uploads/2021/03/guru-jagat-cal-icon-3.jpg
END:VEVENT
BEGIN:VEVENT
DTSTART;TZID=America/Los_Angeles:20240514T110000
DTEND;TZID=America/Los_Angeles:20240514T120000
DTSTAMP:20260425T041735
CREATED:20240508T183412Z
LAST-MODIFIED:20240508T183535Z
UID:1919200-1715684400-1715688000@ramayogainstitute.com
SUMMARY:Prosperity| Kundalini Yoga & Meditation with Malyvahn
DESCRIPTION:TUNE IN\nJoin us for this special new series “Prosperity Hour.” These practices will brighten your day and expand the aura in all directions unlocking your hidden treasures. Invest an hour to charge up and experience your power to set a projection that lasts. Health\, Wealth\, Happiness. Thank you. \nMalyvahn studied with Tej & Harijiwan. Kundalini Yoga and Meditation was a lighting fast practice for her self growth and healing. An entrepreneur at heart. Her goal is to hold a healing space\, guided by the teachings\, where each student can reach their highest bliss of prosperity!
URL:https://ramayogainstitute.com/event/materialize-your-manifestation-kundalini-yoga-meditation-with-malyvahn/
LOCATION:Online on RA MA TV
CATEGORIES:RA MA TV Live
ATTACH;FMTTYPE=image/jpeg:https://ramayogainstitute.com/wp-content/uploads/2022/01/Malyvahn-6.jpg
END:VEVENT
BEGIN:VEVENT
DTSTART;TZID=America/Los_Angeles:20240507T173000
DTEND;TZID=America/Los_Angeles:20240507T190000
DTSTAMP:20260425T041735
CREATED:20240502T040347Z
LAST-MODIFIED:20240502T040347Z
UID:1917544-1715103000-1715108400@ramayogainstitute.com
SUMMARY:The Golden Archives with Guru Jagat
DESCRIPTION:TUNE IN\n 
URL:https://ramayogainstitute.com/event/the-golden-archives-with-guru-jagat-17/
LOCATION:Online on RA MA TV
CATEGORIES:RA MA TV Live
ATTACH;FMTTYPE=image/jpeg:https://ramayogainstitute.com/wp-content/uploads/2021/03/guru-jagat-cal-icon-3.jpg
END:VEVENT
BEGIN:VEVENT
DTSTART;TZID=America/Los_Angeles:20240507T110000
DTEND;TZID=America/Los_Angeles:20240507T120000
DTSTAMP:20260425T041735
CREATED:20240508T182925Z
LAST-MODIFIED:20240508T183025Z
UID:1919175-1715079600-1715083200@ramayogainstitute.com
SUMMARY:Prosperity| Kundalini Yoga & Meditation with Malyvahn
DESCRIPTION:TUNE IN\nJoin us for this special new series “Prosperity Hour.” These practices will brighten your day and expand the aura in all directions unlocking your hidden treasures. Invest an hour to charge up and experience your power to set a projection that lasts. Health\, Wealth\, Happiness. Thank you. \nMalyvahn studied with Tej & Harijiwan. Kundalini Yoga and Meditation was a lighting fast practice for her self growth and healing. An entrepreneur at heart. Her goal is to hold a healing space\, guided by the teachings\, where each student can reach their highest bliss of prosperity!
URL:https://ramayogainstitute.com/event/prosperity-kundalini-yoga-meditation-with-malyvahn-2/
LOCATION:Online on RA MA TV
CATEGORIES:RA MA TV Live
ATTACH;FMTTYPE=image/jpeg:https://ramayogainstitute.com/wp-content/uploads/2022/01/Malyvahn-6.jpg
END:VEVENT
BEGIN:VEVENT
DTSTART;TZID=America/Los_Angeles:20240430T173000
DTEND;TZID=America/Los_Angeles:20240430T190000
DTSTAMP:20260425T041735
CREATED:20240408T202327Z
LAST-MODIFIED:20240408T202327Z
UID:1912076-1714498200-1714503600@ramayogainstitute.com
SUMMARY:The Golden Archives with Guru Jagat
DESCRIPTION:TUNE IN\n 
URL:https://ramayogainstitute.com/event/the-golden-archives-with-guru-jagat-16/
LOCATION:Online on RA MA TV
CATEGORIES:RA MA TV Live
ATTACH;FMTTYPE=image/jpeg:https://ramayogainstitute.com/wp-content/uploads/2021/03/guru-jagat-cal-icon-3.jpg
END:VEVENT
BEGIN:VEVENT
DTSTART;TZID=America/Los_Angeles:20240429T190000
DTEND;TZID=America/Los_Angeles:20240429T201500
DTSTAMP:20260425T041735
CREATED:20240426T211329Z
LAST-MODIFIED:20240429T190613Z
UID:1916346-1714417200-1714421700@ramayogainstitute.com
SUMMARY:BEAM |Kundalini Yoga & Meditation with Jen Saltiel
DESCRIPTION:TUNE IN \nJen Saltiel has been practicing and working with the Kundalini Yoga technology since 2012. As a devout student of Guru Jagat’s and Chief of Staff of the RA MA Institute Global team\, she has a deep connection with the teachings and genuine love and desire to deliver them to the world.
URL:https://ramayogainstitute.com/event/beam-kundalini-yoga-meditation-with-jen-saltiel-27/
LOCATION:Online on RA MA TV
CATEGORIES:RA MA TV Live
ATTACH;FMTTYPE=image/jpeg:https://ramayogainstitute.com/wp-content/uploads/2022/06/Jen-Saltiel-Vimeo-Thumbnail.jpg
END:VEVENT
BEGIN:VEVENT
DTSTART;TZID=America/Los_Angeles:20240429T173000
DTEND;TZID=America/Los_Angeles:20240429T183000
DTSTAMP:20260425T041735
CREATED:20240426T211632Z
LAST-MODIFIED:20240429T190605Z
UID:1916351-1714411800-1714415400@ramayogainstitute.com
SUMMARY:Kundalini Yoga & Meditation with Atma Santokh
DESCRIPTION:TUNE IN\nSpending time with Atma Santokh is an invitation into joyful integration of the vast perfection of Spirit into this faceted human vehicle\, arriving home in rich and rising expression Me. Experience challenging mudras\, deep mantra selections\, and transformative meditation experiences with practical\, engaging\, and down-to-earth verbiage to express the deep love he has for\, and practical application of\, the Kundalini Yoga teachings and techniques.
URL:https://ramayogainstitute.com/event/kundalini-yoga-meditation-with-atma-santokh-62/
LOCATION:Online on RA MA TV
CATEGORIES:RA MA TV Live
ATTACH;FMTTYPE=image/jpeg:https://ramayogainstitute.com/wp-content/uploads/2022/11/Atma-Santokh.jpg
END:VEVENT
END:VCALENDAR