BEGIN:VCALENDAR
VERSION:2.0
PRODID:-//RA MA LIFE - ECPv6.15.15//NONSGML v1.0//EN
CALSCALE:GREGORIAN
METHOD:PUBLISH
X-WR-CALNAME:RA MA LIFE
X-ORIGINAL-URL:https://ramayogainstitute.com
X-WR-CALDESC:Events for RA MA LIFE
REFRESH-INTERVAL;VALUE=DURATION:PT1H
X-Robots-Tag:noindex
X-PUBLISHED-TTL:PT1H
BEGIN:VTIMEZONE
TZID:America/Los_Angeles
BEGIN:DAYLIGHT
TZOFFSETFROM:-0800
TZOFFSETTO:-0700
TZNAME:PDT
DTSTART:20220313T100000
END:DAYLIGHT
BEGIN:STANDARD
TZOFFSETFROM:-0700
TZOFFSETTO:-0800
TZNAME:PST
DTSTART:20221106T090000
END:STANDARD
BEGIN:DAYLIGHT
TZOFFSETFROM:-0800
TZOFFSETTO:-0700
TZNAME:PDT
DTSTART:20230312T100000
END:DAYLIGHT
BEGIN:STANDARD
TZOFFSETFROM:-0700
TZOFFSETTO:-0800
TZNAME:PST
DTSTART:20231105T090000
END:STANDARD
BEGIN:DAYLIGHT
TZOFFSETFROM:-0800
TZOFFSETTO:-0700
TZNAME:PDT
DTSTART:20240310T100000
END:DAYLIGHT
BEGIN:STANDARD
TZOFFSETFROM:-0700
TZOFFSETTO:-0800
TZNAME:PST
DTSTART:20241103T090000
END:STANDARD
BEGIN:DAYLIGHT
TZOFFSETFROM:-0800
TZOFFSETTO:-0700
TZNAME:PDT
DTSTART:20250309T100000
END:DAYLIGHT
BEGIN:STANDARD
TZOFFSETFROM:-0700
TZOFFSETTO:-0800
TZNAME:PST
DTSTART:20251102T090000
END:STANDARD
BEGIN:DAYLIGHT
TZOFFSETFROM:-0800
TZOFFSETTO:-0700
TZNAME:PDT
DTSTART:20260308T100000
END:DAYLIGHT
BEGIN:STANDARD
TZOFFSETFROM:-0700
TZOFFSETTO:-0800
TZNAME:PST
DTSTART:20261101T090000
END:STANDARD
BEGIN:DAYLIGHT
TZOFFSETFROM:-0800
TZOFFSETTO:-0700
TZNAME:PDT
DTSTART:20270314T100000
END:DAYLIGHT
BEGIN:STANDARD
TZOFFSETFROM:-0700
TZOFFSETTO:-0800
TZNAME:PST
DTSTART:20271107T090000
END:STANDARD
END:VTIMEZONE
BEGIN:VEVENT
DTSTART;TZID=America/Los_Angeles:20260217T040000
DTEND;TZID=America/Los_Angeles:20260217T060000
DTSTAMP:20260424T202006
CREATED:20260123T145606Z
LAST-MODIFIED:20260213T150847Z
UID:2010489-1771300800-1771308000@ramayogainstitute.com
SUMMARY:YOUR OWN DRUM | Aquarius New Moon Eclipse
DESCRIPTION:Your Own Drum – Solar Eclipse in Aquarius Workshop. Cultivate faith in your unique genius\, develop unwavering self-awareness\, embody your authentic innate gifts\, experience the rhythm of the universe and march to the beat of Your Own Drum.
URL:https://ramayogainstitute.com/event/for-the-nerves-kundalini-yoga-with-teg-prakash-2026-02-17/
LOCATION:Online on Zoom
CATEGORIES:Pay Per View Workshops,RA MA TV Live,RA MA TV ZOOM
ATTACH;FMTTYPE=image/jpeg:https://ramayogainstitute.com/wp-content/uploads/2025/03/Atma-Santokh-Palma-01.jpg
END:VEVENT
BEGIN:VEVENT
DTSTART;TZID=America/Los_Angeles:20260217T023000
DTEND;TZID=America/Los_Angeles:20260217T033000
DTSTAMP:20260424T202006
CREATED:20260213T154337Z
LAST-MODIFIED:20260213T154338Z
UID:2010733-1771295400-1771299000@ramayogainstitute.com
SUMMARY:AQUARIUS SOLAR ECLIPSE ASTROLOGY
DESCRIPTION:
URL:https://ramayogainstitute.com/event/aquarius-solar-eclipse-astrology/
LOCATION:Online on Zoom
CATEGORIES:Community Content,In Person,RA MA TV Live,RA MA TV ZOOM
ATTACH;FMTTYPE=image/jpeg:https://ramayogainstitute.com/wp-content/uploads/2025/08/teg_prakash_laugh_thumb.jpg
END:VEVENT
BEGIN:VEVENT
DTSTART;TZID=America/Los_Angeles:20260217T003000
DTEND;TZID=America/Los_Angeles:20260217T013000
DTSTAMP:20260424T202006
CREATED:20260206T154522Z
LAST-MODIFIED:20260213T144355Z
UID:2010400-1771288200-1771291800@ramayogainstitute.com
SUMMARY:BETWEEN SUNS | Standing at the Celestial Threshold
DESCRIPTION:Solar Eclipse Workshop · February 17 · 9:30 AM CET via Zoom on RAMA TV \nAs the solar eclipse portal opens\, this workshop offers a space to slow down and become present with what is moving — internally and collectively. \nWe begin with Celestial Communication\, an intuitive transmission to inspire connection to your inner light and attune to the energetic field of the eclipse. \nFrom there\, we move into an embodied practice to open the body\, regulate the nervous system\, and create space for inner expansion. \nDrawing from Satnam Rasayan teachings\, this workshop is truly about being without judgement\, of exploring without fear and allowing what is to be sensed and felt.
URL:https://ramayogainstitute.com/event/letting-light-in-kundalini-yoga-meditation-2026-02-17/
LOCATION:Online on Zoom
CATEGORIES:RA MA TV Live,RA MA TV ZOOM
ATTACH;FMTTYPE=image/jpeg:https://ramayogainstitute.com/wp-content/uploads/2023/03/Johanna.jpeg
END:VEVENT
BEGIN:VEVENT
DTSTART;TZID=America/Los_Angeles:20260214T090000
DTEND;TZID=America/Los_Angeles:20260214T103000
DTSTAMP:20260424T202006
CREATED:20260206T153256Z
LAST-MODIFIED:20260223T161607Z
UID:2009510-1771059600-1771065000@ramayogainstitute.com
SUMMARY:RISE | Kundalini Yoga & Meditation
DESCRIPTION:Kundalini Yoga for elevation\, energy\, and the ever-rising spirit with Shabadpreet.
URL:https://ramayogainstitute.com/event/rise-kundalini-yoga-meditation/
LOCATION:Online on Zoom
CATEGORIES:RA MA TV Live,RA MA TV ZOOM
ATTACH;FMTTYPE=image/jpeg:https://ramayogainstitute.com/wp-content/uploads/2025/06/Solstice_2025_Shabadpreet_Header.jpg
END:VEVENT
BEGIN:VEVENT
DTSTART;TZID=America/Los_Angeles:20260210T003000
DTEND;TZID=America/Los_Angeles:20260210T020000
DTSTAMP:20260424T202006
CREATED:20260206T154522Z
LAST-MODIFIED:20260415T221152Z
UID:2009594-1770683400-1770688800@ramayogainstitute.com
SUMMARY:LETTING LIGHT IN | Kundalini Yoga & Meditation
DESCRIPTION:Kundalini yoga and meditation for a soft morning.
URL:https://ramayogainstitute.com/event/letting-light-in-kundalini-yoga-meditation/2026-02-10/
LOCATION:Online on Zoom
CATEGORIES:RA MA TV Live,RA MA TV ZOOM
ATTACH;FMTTYPE=image/jpeg:https://ramayogainstitute.com/wp-content/uploads/2023/03/Johanna.jpeg
END:VEVENT
BEGIN:VEVENT
DTSTART;TZID=America/Los_Angeles:20260127T003000
DTEND;TZID=America/Los_Angeles:20260127T020000
DTSTAMP:20260424T202006
CREATED:20260127T151003Z
LAST-MODIFIED:20260127T151003Z
UID:2008836-1769473800-1769479200@ramayogainstitute.com
SUMMARY:KUNDALINI YOGA & MEDITATION with Johanna Huettmann
DESCRIPTION:
URL:https://ramayogainstitute.com/event/kundalini-yoga-meditation-with-johanna-huettmann/2026-01-27/
LOCATION:Online on Zoom
CATEGORIES:RA MA TV Live
ATTACH;FMTTYPE=image/jpeg:https://ramayogainstitute.com/wp-content/uploads/2023/03/Johanna.jpeg
END:VEVENT
BEGIN:VEVENT
DTSTART;TZID=America/Los_Angeles:20251026T100000
DTEND;TZID=America/Los_Angeles:20251026T113000
DTSTAMP:20260424T202006
CREATED:20250303T204732Z
LAST-MODIFIED:20250303T204732Z
UID:2012837-1761472800-1761478200@ramayogainstitute.com
SUMMARY:GURU JAGAT GOLDEN ARCHIVES
DESCRIPTION:
URL:https://ramayogainstitute.com/event/guru-jagat-golden-archives-2-2025-10-26/
LOCATION:Online on Zoom
CATEGORIES:RA MA TV Live,RA MA TV ZOOM
ATTACH;FMTTYPE=image/jpeg:https://ramayogainstitute.com/wp-content/uploads/2024/07/GuruJagat_Remember_Header.jpg
END:VEVENT
BEGIN:VEVENT
DTSTART;TZID=America/Los_Angeles:20251019T090000
DTEND;TZID=America/Los_Angeles:20251019T103000
DTSTAMP:20260424T202006
CREATED:20250303T204732Z
LAST-MODIFIED:20250303T204732Z
UID:2012836-1760864400-1760869800@ramayogainstitute.com
SUMMARY:GURU JAGAT GOLDEN ARCHIVES
DESCRIPTION:
URL:https://ramayogainstitute.com/event/guru-jagat-golden-archives-2-2025-10-19/
LOCATION:Online on Zoom
CATEGORIES:RA MA TV Live,RA MA TV ZOOM
ATTACH;FMTTYPE=image/jpeg:https://ramayogainstitute.com/wp-content/uploads/2024/07/GuruJagat_Remember_Header.jpg
END:VEVENT
BEGIN:VEVENT
DTSTART;TZID=America/Los_Angeles:20251012T090000
DTEND;TZID=America/Los_Angeles:20251012T103000
DTSTAMP:20260424T202006
CREATED:20250303T204732Z
LAST-MODIFIED:20250303T204732Z
UID:2012835-1760259600-1760265000@ramayogainstitute.com
SUMMARY:GURU JAGAT GOLDEN ARCHIVES
DESCRIPTION:
URL:https://ramayogainstitute.com/event/guru-jagat-golden-archives-2-2025-10-12/
LOCATION:Online on Zoom
CATEGORIES:RA MA TV Live,RA MA TV ZOOM
ATTACH;FMTTYPE=image/jpeg:https://ramayogainstitute.com/wp-content/uploads/2024/07/GuruJagat_Remember_Header.jpg
END:VEVENT
BEGIN:VEVENT
DTSTART;TZID=America/Los_Angeles:20251005T090000
DTEND;TZID=America/Los_Angeles:20251005T103000
DTSTAMP:20260424T202006
CREATED:20250303T204732Z
LAST-MODIFIED:20250303T204732Z
UID:2012834-1759654800-1759660200@ramayogainstitute.com
SUMMARY:GURU JAGAT GOLDEN ARCHIVES
DESCRIPTION:
URL:https://ramayogainstitute.com/event/guru-jagat-golden-archives-2-2025-10-05/
LOCATION:Online on Zoom
CATEGORIES:RA MA TV Live,RA MA TV ZOOM
ATTACH;FMTTYPE=image/jpeg:https://ramayogainstitute.com/wp-content/uploads/2024/07/GuruJagat_Remember_Header.jpg
END:VEVENT
BEGIN:VEVENT
DTSTART;TZID=America/Los_Angeles:20250928T090000
DTEND;TZID=America/Los_Angeles:20250928T103000
DTSTAMP:20260424T202006
CREATED:20250303T204732Z
LAST-MODIFIED:20250303T204732Z
UID:2012833-1759050000-1759055400@ramayogainstitute.com
SUMMARY:GURU JAGAT GOLDEN ARCHIVES
DESCRIPTION:
URL:https://ramayogainstitute.com/event/guru-jagat-golden-archives-2-2025-09-28/
LOCATION:Online on Zoom
CATEGORIES:RA MA TV Live,RA MA TV ZOOM
ATTACH;FMTTYPE=image/jpeg:https://ramayogainstitute.com/wp-content/uploads/2024/07/GuruJagat_Remember_Header.jpg
END:VEVENT
BEGIN:VEVENT
DTSTART;TZID=America/Los_Angeles:20250921T090000
DTEND;TZID=America/Los_Angeles:20250921T103000
DTSTAMP:20260424T202006
CREATED:20250303T204732Z
LAST-MODIFIED:20250303T204732Z
UID:2012832-1758445200-1758450600@ramayogainstitute.com
SUMMARY:GURU JAGAT GOLDEN ARCHIVES
DESCRIPTION:
URL:https://ramayogainstitute.com/event/guru-jagat-golden-archives-2-2025-09-21/
LOCATION:Online on Zoom
CATEGORIES:RA MA TV Live,RA MA TV ZOOM
ATTACH;FMTTYPE=image/jpeg:https://ramayogainstitute.com/wp-content/uploads/2024/07/GuruJagat_Remember_Header.jpg
END:VEVENT
BEGIN:VEVENT
DTSTART;TZID=America/Los_Angeles:20250914T090000
DTEND;TZID=America/Los_Angeles:20250914T103000
DTSTAMP:20260424T202006
CREATED:20250303T204732Z
LAST-MODIFIED:20250303T204732Z
UID:2012831-1757840400-1757845800@ramayogainstitute.com
SUMMARY:GURU JAGAT GOLDEN ARCHIVES
DESCRIPTION:
URL:https://ramayogainstitute.com/event/guru-jagat-golden-archives-2-2025-09-14/
LOCATION:Online on Zoom
CATEGORIES:RA MA TV Live,RA MA TV ZOOM
ATTACH;FMTTYPE=image/jpeg:https://ramayogainstitute.com/wp-content/uploads/2024/07/GuruJagat_Remember_Header.jpg
END:VEVENT
BEGIN:VEVENT
DTSTART;TZID=America/Los_Angeles:20250907T090000
DTEND;TZID=America/Los_Angeles:20250907T103000
DTSTAMP:20260424T202006
CREATED:20250303T204732Z
LAST-MODIFIED:20250303T204732Z
UID:2012830-1757235600-1757241000@ramayogainstitute.com
SUMMARY:GURU JAGAT GOLDEN ARCHIVES
DESCRIPTION:
URL:https://ramayogainstitute.com/event/guru-jagat-golden-archives-2-2025-09-07/
LOCATION:Online on Zoom
CATEGORIES:RA MA TV Live,RA MA TV ZOOM
ATTACH;FMTTYPE=image/jpeg:https://ramayogainstitute.com/wp-content/uploads/2024/07/GuruJagat_Remember_Header.jpg
END:VEVENT
BEGIN:VEVENT
DTSTART;TZID=America/Los_Angeles:20250831T090000
DTEND;TZID=America/Los_Angeles:20250831T103000
DTSTAMP:20260424T202006
CREATED:20250303T204732Z
LAST-MODIFIED:20250303T204732Z
UID:2012829-1756630800-1756636200@ramayogainstitute.com
SUMMARY:GURU JAGAT GOLDEN ARCHIVES
DESCRIPTION:
URL:https://ramayogainstitute.com/event/guru-jagat-golden-archives-2-2025-08-31/
LOCATION:Online on Zoom
CATEGORIES:RA MA TV Live,RA MA TV ZOOM
ATTACH;FMTTYPE=image/jpeg:https://ramayogainstitute.com/wp-content/uploads/2024/07/GuruJagat_Remember_Header.jpg
END:VEVENT
BEGIN:VEVENT
DTSTART;TZID=America/Los_Angeles:20250824T090000
DTEND;TZID=America/Los_Angeles:20250824T103000
DTSTAMP:20260424T202006
CREATED:20250303T204732Z
LAST-MODIFIED:20250303T204732Z
UID:2012828-1756026000-1756031400@ramayogainstitute.com
SUMMARY:GURU JAGAT GOLDEN ARCHIVES
DESCRIPTION:
URL:https://ramayogainstitute.com/event/guru-jagat-golden-archives-2-2025-08-24/
LOCATION:Online on Zoom
CATEGORIES:RA MA TV Live,RA MA TV ZOOM
ATTACH;FMTTYPE=image/jpeg:https://ramayogainstitute.com/wp-content/uploads/2024/07/GuruJagat_Remember_Header.jpg
END:VEVENT
BEGIN:VEVENT
DTSTART;TZID=America/Los_Angeles:20250817T090000
DTEND;TZID=America/Los_Angeles:20250817T103000
DTSTAMP:20260424T202006
CREATED:20250303T204732Z
LAST-MODIFIED:20250303T204732Z
UID:2012826-1755421200-1755426600@ramayogainstitute.com
SUMMARY:GURU JAGAT GOLDEN ARCHIVES
DESCRIPTION:
URL:https://ramayogainstitute.com/event/guru-jagat-golden-archives-2-2025-08-17/
LOCATION:Online on Zoom
CATEGORIES:RA MA TV Live,RA MA TV ZOOM
ATTACH;FMTTYPE=image/jpeg:https://ramayogainstitute.com/wp-content/uploads/2024/07/GuruJagat_Remember_Header.jpg
END:VEVENT
BEGIN:VEVENT
DTSTART;TZID=America/Los_Angeles:20250810T090000
DTEND;TZID=America/Los_Angeles:20250810T103000
DTSTAMP:20260424T202006
CREATED:20250303T204732Z
LAST-MODIFIED:20250303T204732Z
UID:2012825-1754816400-1754821800@ramayogainstitute.com
SUMMARY:GURU JAGAT GOLDEN ARCHIVES
DESCRIPTION:
URL:https://ramayogainstitute.com/event/guru-jagat-golden-archives-2-2025-08-10/
LOCATION:Online on Zoom
CATEGORIES:RA MA TV Live,RA MA TV ZOOM
ATTACH;FMTTYPE=image/jpeg:https://ramayogainstitute.com/wp-content/uploads/2024/07/GuruJagat_Remember_Header.jpg
END:VEVENT
BEGIN:VEVENT
DTSTART;TZID=America/Los_Angeles:20250803T090000
DTEND;TZID=America/Los_Angeles:20250803T103000
DTSTAMP:20260424T202006
CREATED:20250303T204732Z
LAST-MODIFIED:20250303T204732Z
UID:2012824-1754211600-1754217000@ramayogainstitute.com
SUMMARY:GURU JAGAT GOLDEN ARCHIVES
DESCRIPTION:
URL:https://ramayogainstitute.com/event/guru-jagat-golden-archives-2-2025-08-03/
LOCATION:Online on Zoom
CATEGORIES:RA MA TV Live,RA MA TV ZOOM
ATTACH;FMTTYPE=image/jpeg:https://ramayogainstitute.com/wp-content/uploads/2024/07/GuruJagat_Remember_Header.jpg
END:VEVENT
BEGIN:VEVENT
DTSTART;TZID=America/Los_Angeles:20250801T083000
DTEND;TZID=America/Los_Angeles:20250801T100000
DTSTAMP:20260424T202006
CREATED:20250731T180548Z
LAST-MODIFIED:20250731T180548Z
UID:1989983-1754037000-1754042400@ramayogainstitute.com
SUMMARY:THE CANDLE MEDITATION | Global Practice
DESCRIPTION:Join us for a special practice and meditation as we remember and honor Guru Jagat\, the founder of RA MA Institute. \nwith Shabadpreet\, Harmanjot\, Joanna Pitt\, Teg Prakash\, Nicholas Montgomery\, and friends.
URL:https://ramayogainstitute.com/event/the-candle-meditation-global-practice/
LOCATION:Online on Zoom
CATEGORIES:In Person,RA MA TV Live
ATTACH;FMTTYPE=image/jpeg:https://ramayogainstitute.com/wp-content/uploads/2025/07/ra_ma_crew_mallorca_thumb_1.jpg
END:VEVENT
BEGIN:VEVENT
DTSTART;TZID=America/Los_Angeles:20250727T090000
DTEND;TZID=America/Los_Angeles:20250727T103000
DTSTAMP:20260424T202006
CREATED:20250303T204732Z
LAST-MODIFIED:20250303T204732Z
UID:2012823-1753606800-1753612200@ramayogainstitute.com
SUMMARY:GURU JAGAT GOLDEN ARCHIVES
DESCRIPTION:
URL:https://ramayogainstitute.com/event/guru-jagat-golden-archives-2-2025-07-27/
LOCATION:Online on Zoom
CATEGORIES:RA MA TV Live,RA MA TV ZOOM
ATTACH;FMTTYPE=image/jpeg:https://ramayogainstitute.com/wp-content/uploads/2024/07/GuruJagat_Remember_Header.jpg
END:VEVENT
BEGIN:VEVENT
DTSTART;TZID=America/Los_Angeles:20250720T090000
DTEND;TZID=America/Los_Angeles:20250720T103000
DTSTAMP:20260424T202006
CREATED:20250303T204732Z
LAST-MODIFIED:20250303T204732Z
UID:2012822-1753002000-1753007400@ramayogainstitute.com
SUMMARY:GURU JAGAT GOLDEN ARCHIVES
DESCRIPTION:
URL:https://ramayogainstitute.com/event/guru-jagat-golden-archives-2-2025-07-20/
LOCATION:Online on Zoom
CATEGORIES:RA MA TV Live,RA MA TV ZOOM
ATTACH;FMTTYPE=image/jpeg:https://ramayogainstitute.com/wp-content/uploads/2024/07/GuruJagat_Remember_Header.jpg
END:VEVENT
BEGIN:VEVENT
DTSTART;TZID=America/Los_Angeles:20250713T090000
DTEND;TZID=America/Los_Angeles:20250713T103000
DTSTAMP:20260424T202006
CREATED:20250303T204732Z
LAST-MODIFIED:20250303T204732Z
UID:2012821-1752397200-1752402600@ramayogainstitute.com
SUMMARY:GURU JAGAT GOLDEN ARCHIVES
DESCRIPTION:
URL:https://ramayogainstitute.com/event/guru-jagat-golden-archives-2-2025-07-13/
LOCATION:Online on Zoom
CATEGORIES:RA MA TV Live,RA MA TV ZOOM
ATTACH;FMTTYPE=image/jpeg:https://ramayogainstitute.com/wp-content/uploads/2024/07/GuruJagat_Remember_Header.jpg
END:VEVENT
BEGIN:VEVENT
DTSTART;TZID=America/Los_Angeles:20250706T090000
DTEND;TZID=America/Los_Angeles:20250706T103000
DTSTAMP:20260424T202006
CREATED:20250303T204732Z
LAST-MODIFIED:20250303T204732Z
UID:2012820-1751792400-1751797800@ramayogainstitute.com
SUMMARY:GURU JAGAT GOLDEN ARCHIVES
DESCRIPTION:
URL:https://ramayogainstitute.com/event/guru-jagat-golden-archives-2-2025-07-06/
LOCATION:Online on Zoom
CATEGORIES:RA MA TV Live,RA MA TV ZOOM
ATTACH;FMTTYPE=image/jpeg:https://ramayogainstitute.com/wp-content/uploads/2024/07/GuruJagat_Remember_Header.jpg
END:VEVENT
BEGIN:VEVENT
DTSTART;TZID=America/Los_Angeles:20250629T090000
DTEND;TZID=America/Los_Angeles:20250629T103000
DTSTAMP:20260424T202006
CREATED:20250303T204732Z
LAST-MODIFIED:20250303T204732Z
UID:2012819-1751187600-1751193000@ramayogainstitute.com
SUMMARY:GURU JAGAT GOLDEN ARCHIVES
DESCRIPTION:
URL:https://ramayogainstitute.com/event/guru-jagat-golden-archives-2-2025-06-29/
LOCATION:Online on Zoom
CATEGORIES:RA MA TV Live,RA MA TV ZOOM
ATTACH;FMTTYPE=image/jpeg:https://ramayogainstitute.com/wp-content/uploads/2024/07/GuruJagat_Remember_Header.jpg
END:VEVENT
BEGIN:VEVENT
DTSTART;TZID=America/Los_Angeles:20240204T130000
DTEND;TZID=America/Los_Angeles:20240204T140000
DTSTAMP:20260424T202006
CREATED:20240109T194008Z
LAST-MODIFIED:20240109T194008Z
UID:1887309-1707051600-1707055200@ramayogainstitute.com
SUMMARY:VOCAL LAB| THE LEGACY OF YOUR SOUND| PRACTICE CALL WITH GURUJAS
DESCRIPTION:RSVP ZOOM\nWelcome to Vocal Lab with two-time Grammy Award Winning artist Gurujas\, an extraordinary masterclass designed to elevate your vocal journey and unlock the true power of your voice. \nThis course is for every human being. It is about your own creation story.  It is about the legacy you leave behind with each word\, breath\, thought\, and dream. It is about the millions of sounds emanating from you each millisecond\, the immeasurable impact they have on your life\, and how they shape the world around you. \nYou will learn that no matter what you may have been told\, you are a singer. That every time you utter a sound\, you are performing on the stage of life\, and all of creation is your audience. You will learn that your sounds live forever\, that they go on vibrating through time and space long after your physical body dies\, manifesting and reflecting for all time\, each one a unit of consciousness. You will learn how to increase the magnetism of your own voice\, how to use the life force combined with the breath to generate sounds which will touch another person on the deepest level. \nThe format of Vocal Lab is designed to give you both an experiential energetic transformation\, skill development and exercises related to the technical development of your voice\, and guidance and support every step of the way. \nIf you aspire to make music\, during this course you will produce your own musical track.  \nIf you aspire to make great impact on the planet (& if you find yourself here\, you do).
URL:https://ramayogainstitute.com/event/vocal-lab-the-legacy-of-your-sound-practice-call-with-gurujas-3/
LOCATION:Online on Zoom
CATEGORIES:RA MA TV Live
ATTACH;FMTTYPE=image/jpeg:https://ramayogainstitute.com/wp-content/uploads/2024/01/VocalLab_Gurujas_Header12.jpg
END:VEVENT
BEGIN:VEVENT
DTSTART;TZID=America/Los_Angeles:20240128T130000
DTEND;TZID=America/Los_Angeles:20240128T140000
DTSTAMP:20260424T202006
CREATED:20240109T193229Z
LAST-MODIFIED:20240109T232739Z
UID:1887305-1706446800-1706450400@ramayogainstitute.com
SUMMARY:VOCAL LAB | THE LEGACY OF YOUR SOUND | PRACTICE CALL WITH GURUJAS
DESCRIPTION:RSVP ZOOM\nWelcome to Vocal Lab with two-time Grammy Award Winning artist Gurujas\, an extraordinary masterclass designed to elevate your vocal journey and unlock the true power of your voice. \nThis course is for every human being. It is about your own creation story.  It is about the legacy you leave behind with each word\, breath\, thought\, and dream. It is about the millions of sounds emanating from you each millisecond\, the immeasurable impact they have on your life\, and how they shape the world around you. \nYou will learn that no matter what you may have been told\, you are a singer. That every time you utter a sound\, you are performing on the stage of life\, and all of creation is your audience. You will learn that your sounds live forever\, that they go on vibrating through time and space long after your physical body dies\, manifesting and reflecting for all time\, each one a unit of consciousness. You will learn how to increase the magnetism of your own voice\, how to use the life force combined with the breath to generate sounds which will touch another person on the deepest level. \nThe format of Vocal Lab is designed to give you both an experiential energetic transformation\, skill development and exercises related to the technical development of your voice\, and guidance and support every step of the way. \nIf you aspire to make music\, during this course you will produce your own musical track.  \nIf you aspire to make great impact on the planet (& if you find yourself here\, you do).
URL:https://ramayogainstitute.com/event/vocal-lab-the-legacy-of-your-sound-practice-call-with-gurujas-2/
LOCATION:Online on Zoom
CATEGORIES:RA MA TV Live
ATTACH;FMTTYPE=image/jpeg:https://ramayogainstitute.com/wp-content/uploads/2024/01/VocalLab_Gurujas_Header13.jpg
END:VEVENT
BEGIN:VEVENT
DTSTART;TZID=America/Los_Angeles:20240118T130000
DTEND;TZID=America/Los_Angeles:20240118T140000
DTSTAMP:20260424T202006
CREATED:20240116T123536Z
LAST-MODIFIED:20240116T123536Z
UID:1889030-1705582800-1705586400@ramayogainstitute.com
SUMMARY:VOCAL LAB| THE LEGACY OF YOUR SOUND| PRACTICE CALL WITH GURUJAS
DESCRIPTION:JOIN ZOOM\nWelcome to Vocal Lab with two-time Grammy Award Winning artist Gurujas\, an extraordinary masterclass designed to elevate your vocal journey and unlock the true power of your voice. \nThis course is for every human being. It is about your own creation story.  It is about the legacy you leave behind with each word\, breath\, thought\, and dream. It is about the millions of sounds emanating from you each millisecond\, the immeasurable impact they have on your life\, and how they shape the world around you. \nYou will learn that no matter what you may have been told\, you are a singer. That every time you utter a sound\, you are performing on the stage of life\, and all of creation is your audience. You will learn that your sounds live forever\, that they go on vibrating through time and space long after your physical body dies\, manifesting and reflecting for all time\, each one a unit of consciousness. You will learn how to increase the magnetism of your own voice\, how to use the life force combined with the breath to generate sounds which will touch another person on the deepest level. \nThe format of Vocal Lab is designed to give you both an experiential energetic transformation\, skill development and exercises related to the technical development of your voice\, and guidance and support every step of the way. \nIf you aspire to make music\, during this course you will produce your own musical track.  \nIf you aspire to make great impact on the planet (& if you find yourself here\, you do).
URL:https://ramayogainstitute.com/event/vocal-lab-the-legacy-of-your-sound-practice-call-with-gurujas-6/
LOCATION:Online on Zoom
CATEGORIES:RA MA TV Live
ATTACH;FMTTYPE=image/jpeg:https://ramayogainstitute.com/wp-content/uploads/2024/01/VocalLab_Gurujas_Header12.jpg
END:VEVENT
BEGIN:VEVENT
DTSTART;TZID=America/Los_Angeles:20240112T130000
DTEND;TZID=America/Los_Angeles:20240112T140000
DTSTAMP:20260424T202006
CREATED:20240109T192755Z
LAST-MODIFIED:20240109T194051Z
UID:1887298-1705064400-1705068000@ramayogainstitute.com
SUMMARY:VOCAL LAB| THE LEGACY OF YOUR SOUND| PRACTICE CALL WITH GURUJAS
DESCRIPTION:RSVP ZOOM\nWelcome to Vocal Lab with two-time Grammy Award Winning artist Gurujas\, an extraordinary masterclass designed to elevate your vocal journey and unlock the true power of your voice. \nThis course is for every human being. It is about your own creation story.  It is about the legacy you leave behind with each word\, breath\, thought\, and dream. It is about the millions of sounds emanating from you each millisecond\, the immeasurable impact they have on your life\, and how they shape the world around you. \nYou will learn that no matter what you may have been told\, you are a singer. That every time you utter a sound\, you are performing on the stage of life\, and all of creation is your audience. You will learn that your sounds live forever\, that they go on vibrating through time and space long after your physical body dies\, manifesting and reflecting for all time\, each one a unit of consciousness. You will learn how to increase the magnetism of your own voice\, how to use the life force combined with the breath to generate sounds which will touch another person on the deepest level. \nThe format of Vocal Lab is designed to give you both an experiential energetic transformation\, skill development and exercises related to the technical development of your voice\, and guidance and support every step of the way. \nIf you aspire to make music\, during this course you will produce your own musical track.  \nIf you aspire to make great impact on the planet (& if you find yourself here\, you do).
URL:https://ramayogainstitute.com/event/vocal-lab-the-legacy-of-your-sound-practice-call-with-gurujas/
LOCATION:Online on Zoom
CATEGORIES:RA MA TV Live
ATTACH;FMTTYPE=image/jpeg:https://ramayogainstitute.com/wp-content/uploads/2024/01/VocalLab_Gurujas_Header12.jpg
END:VEVENT
BEGIN:VEVENT
DTSTART;TZID=America/Los_Angeles:20231221T170000
DTEND;TZID=America/Los_Angeles:20231221T180000
DTSTAMP:20260424T202006
CREATED:20231209T205154Z
LAST-MODIFIED:20231221T021938Z
UID:1879144-1703178000-1703181600@ramayogainstitute.com
SUMMARY:Royal Evening Star: Dhartee Hei Meditation
DESCRIPTION:TUNE IN ON ZOOM \nRoyal Evening Star: Dhartee Hei Meditation
URL:https://ramayogainstitute.com/event/royal-evening-star-dhartee-hei-meditation/
LOCATION:Online on Zoom
ATTACH;FMTTYPE=image/jpeg:https://ramayogainstitute.com/wp-content/uploads/2023/12/WinterSolstice_2023_Header6.jpg
END:VEVENT
END:VCALENDAR