BEGIN:VCALENDAR
VERSION:2.0
PRODID:-//RA MA LIFE - ECPv6.15.15//NONSGML v1.0//EN
CALSCALE:GREGORIAN
METHOD:PUBLISH
X-WR-CALNAME:RA MA LIFE
X-ORIGINAL-URL:https://ramayogainstitute.com
X-WR-CALDESC:Events for RA MA LIFE
REFRESH-INTERVAL;VALUE=DURATION:PT1H
X-Robots-Tag:noindex
X-PUBLISHED-TTL:PT1H
BEGIN:VTIMEZONE
TZID:America/Los_Angeles
BEGIN:DAYLIGHT
TZOFFSETFROM:-0800
TZOFFSETTO:-0700
TZNAME:PDT
DTSTART:20200308T100000
END:DAYLIGHT
BEGIN:STANDARD
TZOFFSETFROM:-0700
TZOFFSETTO:-0800
TZNAME:PST
DTSTART:20201101T090000
END:STANDARD
BEGIN:DAYLIGHT
TZOFFSETFROM:-0800
TZOFFSETTO:-0700
TZNAME:PDT
DTSTART:20210314T100000
END:DAYLIGHT
BEGIN:STANDARD
TZOFFSETFROM:-0700
TZOFFSETTO:-0800
TZNAME:PST
DTSTART:20211107T090000
END:STANDARD
BEGIN:DAYLIGHT
TZOFFSETFROM:-0800
TZOFFSETTO:-0700
TZNAME:PDT
DTSTART:20220313T100000
END:DAYLIGHT
BEGIN:STANDARD
TZOFFSETFROM:-0700
TZOFFSETTO:-0800
TZNAME:PST
DTSTART:20221106T090000
END:STANDARD
BEGIN:DAYLIGHT
TZOFFSETFROM:-0800
TZOFFSETTO:-0700
TZNAME:PDT
DTSTART:20230312T100000
END:DAYLIGHT
BEGIN:STANDARD
TZOFFSETFROM:-0700
TZOFFSETTO:-0800
TZNAME:PST
DTSTART:20231105T090000
END:STANDARD
END:VTIMEZONE
BEGIN:VEVENT
DTSTART;TZID=America/Los_Angeles:20221018T110000
DTEND;TZID=America/Los_Angeles:20221018T113000
DTSTAMP:20260425T073832
CREATED:20221015T042110Z
LAST-MODIFIED:20221015T042111Z
UID:1744815-1666090800-1666092600@ramayogainstitute.com
SUMMARY:Vocal Lab: Live Q&A with Gurujas
DESCRIPTION:Learn about the upcoming rare four week vocal course with Gurujas starting Saturday\, Oct. 22. Reveal the infinite potential of your sound current. \nRSVP
URL:https://ramayogainstitute.com/event/vocal-lab-live-qa-with-gurujas/
LOCATION:Online on Zoom
CATEGORIES:Community Content,RA MA TV Live
ATTACH;FMTTYPE=image/jpeg:https://ramayogainstitute.com/wp-content/uploads/2022/10/Gurujas-2.jpg
END:VEVENT
BEGIN:VEVENT
DTSTART;TZID=America/Los_Angeles:20221017T090000
DTEND;TZID=America/Los_Angeles:20221017T103000
DTSTAMP:20260425T073832
CREATED:20211211T021739Z
LAST-MODIFIED:20221013T013323Z
UID:1722730-1665997200-1666002600@ramayogainstitute.com
SUMMARY:Kundalini Yoga and the Cosmos with Teg Prakash
DESCRIPTION:Diving into the connections between deep yogic practice and evolutionary astrology to explore and take advantage of the prevailing cosmic movements. \nTeg Prakash is a Kundalini Yoga teacher\, astrologer\, and intuitive sound healer with a passionate curiosity for the teachings of Kundalini Yoga\, as taught by Yogi Bhajan\, and seeks to bring people to a true sense of their soul through astrology\, their personal power through yoga\, and their peace through the power of sound. \nLearn More & Tune In
URL:https://ramayogainstitute.com/event/teg-prakash-12-13-21-2022-01-03-2022-02-21-2022-07-11-2022-07-25-2022-10-17/
LOCATION:Online on Zoom
CATEGORIES:Community Content,RA MA TV Live
ATTACH;FMTTYPE=image/jpeg:https://ramayogainstitute.com/wp-content/uploads/2022/06/Teg-Prakash-Looking-Up-Vimeo-Thumbnail.jpg
END:VEVENT
BEGIN:VEVENT
DTSTART;TZID=America/Los_Angeles:20221014T090000
DTEND;TZID=America/Los_Angeles:20221014T103000
DTSTAMP:20260425T073832
CREATED:20211211T021739Z
LAST-MODIFIED:20221013T013334Z
UID:1743510-1665738000-1665743400@ramayogainstitute.com
SUMMARY:Kundalini Yoga & Meditation with Teg Prakash
DESCRIPTION:Teg Prakash is a Kundalini Yoga teacher\, astrologer\, and intuitive sound healer with a passionate curiosity for the teachings of Kundalini Yoga\, as taught by Yogi Bhajan\, and seeks to bring people to a true sense of their soul through astrology\, their personal power through yoga\, and their peace through the power of sound. \nLearn More & Tune In
URL:https://ramayogainstitute.com/event/teg-prakash-12-13-21-2022-01-03-2022-02-21-2022-07-11-2022-07-25-2022-10-14/
LOCATION:Online on Zoom
CATEGORIES:Community Content,In Person,RA MA TV Live
ATTACH;FMTTYPE=image/jpeg:https://ramayogainstitute.com/wp-content/uploads/2022/06/Teg-Prakash-Looking-Up-Vimeo-Thumbnail.jpg
END:VEVENT
BEGIN:VEVENT
DTSTART;TZID=America/Los_Angeles:20221014T083000
DTEND;TZID=America/Los_Angeles:20221014T090000
DTSTAMP:20260425T073832
CREATED:20220726T034942Z
LAST-MODIFIED:20221014T023131Z
UID:1727063-1665736200-1665738000@ramayogainstitute.com
SUMMARY:Daily Global Meditations
DESCRIPTION:A short series of meditations to practice daily. \n\nAddiction Meditation\nIntelligence Meditation\nArd Kachari\n\nTUNE IN
URL:https://ramayogainstitute.com/event/daily-global-meditations-2022-2022-10-14/
LOCATION:Online on Zoom
CATEGORIES:Community Content,RA MA TV Live
ATTACH;FMTTYPE=image/jpeg:https://ramayogainstitute.com/wp-content/uploads/2021/12/Students-Training-Los-Angeles.jpg
END:VEVENT
BEGIN:VEVENT
DTSTART;TZID=America/Los_Angeles:20221007T130000
DTEND;TZID=America/Los_Angeles:20221007T140000
DTSTAMP:20260425T073832
CREATED:20221005T011148Z
LAST-MODIFIED:20221005T011932Z
UID:1742678-1665147600-1665151200@ramayogainstitute.com
SUMMARY:Kundalini Training: Mantra & Mudra QA
DESCRIPTION:A Q&A Opportunity with Harijiwan About the Upcoming Kundalini Training \nRSVP \n\n\n\nLEARN MORE ABOUT THE UPCOMING TRAINING
URL:https://ramayogainstitute.com/event/kundalini-training-mantra-mudra-qa/
LOCATION:Online on Zoom
CATEGORIES:Community Content,Courses & Events,RA MA TV Live
ATTACH;FMTTYPE=image/jpeg:https://ramayogainstitute.com/wp-content/uploads/2022/09/Harijiwan-Select.jpg
END:VEVENT
BEGIN:VEVENT
DTSTART;TZID=America/Los_Angeles:20221002T090000
DTEND;TZID=America/Los_Angeles:20221002T103000
DTSTAMP:20260425T073832
CREATED:20211028T002901Z
LAST-MODIFIED:20221002T032346Z
UID:1703186-1664701200-1664706600@ramayogainstitute.com
SUMMARY:Live from CAMP GRACE: Subtle Body Science with Gurujas
DESCRIPTION:Gurujas teaches that Kundalini Yoga is an experientially-based system–a science of joy\, fulfillment and love. She also believes that happiness is a vibrational frequency\, and can be an enduring state of being. Gurujas is the lead singer of the Grammy Award winning group White Sun. \nLearn More & Tune In
URL:https://ramayogainstitute.com/event/kundalini-yoga-meditation-with-gurujas-11-2021-12-05-2022-01-09-2022-02-27-2022-04-19-2022-04-26-2022-10-02/
LOCATION:Online on Zoom
CATEGORIES:RA MA TV Live
ATTACH;FMTTYPE=image/jpeg:https://ramayogainstitute.com/wp-content/uploads/2021/10/Gurujas-7.jpg
END:VEVENT
BEGIN:VEVENT
DTSTART;TZID=America/Los_Angeles:20221002T074500
DTEND;TZID=America/Los_Angeles:20221002T083000
DTSTAMP:20260425T073832
CREATED:20221002T032052Z
LAST-MODIFIED:20221002T032052Z
UID:1742237-1664696700-1664699400@ramayogainstitute.com
SUMMARY:Long Life Meditation
DESCRIPTION:TUNE IN ON ZOOM
URL:https://ramayogainstitute.com/event/long-life-meditation/
LOCATION:Online on Zoom
CATEGORIES:Community Content,RA MA TV Live
ATTACH;FMTTYPE=image/jpeg:https://ramayogainstitute.com/wp-content/uploads/2022/07/Santosh.jpg
END:VEVENT
BEGIN:VEVENT
DTSTART;TZID=America/Los_Angeles:20220915T110000
DTEND;TZID=America/Los_Angeles:20220915T120000
DTSTAMP:20260425T073832
CREATED:20220730T013956Z
LAST-MODIFIED:20220909T021626Z
UID:1727770-1663239600-1663243200@ramayogainstitute.com
SUMMARY:Prosperity Hour with Malyvahn
DESCRIPTION:TUNE IN 
URL:https://ramayogainstitute.com/event/prosperity-hour-with-malyvahn-2022-09-15/
LOCATION:Online on Zoom
CATEGORIES:In Person,RA MA TV Live
ATTACH;FMTTYPE=image/jpeg:https://ramayogainstitute.com/wp-content/uploads/2022/01/Malyvahn-6.jpg
END:VEVENT
BEGIN:VEVENT
DTSTART;TZID=America/Los_Angeles:20220912T130000
DTEND;TZID=America/Los_Angeles:20220912T140000
DTSTAMP:20260425T073832
CREATED:20220909T055319Z
LAST-MODIFIED:20220909T055320Z
UID:1737569-1662987600-1662991200@ramayogainstitute.com
SUMMARY:Kundalini Training: The Meditative Mind Q&A Call
DESCRIPTION:JOIN THE Q&A CALL \n  \nJoin Harijiwan for a live complimentary Q&A Zoom call to learn more about the upcoming Kundalini Training. \nKundalini Training: The Meditative Mind\nWednesday\, September 14\, 2022- Sunday September 18\, 2022 \nBring your questions or come to listen.
URL:https://ramayogainstitute.com/event/kundalini-training-the-meditative-mind-qa-call/
LOCATION:Online on Zoom
CATEGORIES:Community Content,Courses & Events,RA MA TV Live
ATTACH;FMTTYPE=image/jpeg:https://ramayogainstitute.com/wp-content/uploads/2022/09/Snowy-Mountain-Icy-Water.jpg
END:VEVENT
BEGIN:VEVENT
DTSTART;TZID=America/Los_Angeles:20220705T130000
DTEND;TZID=America/Los_Angeles:20220705T140000
DTSTAMP:20260425T073832
CREATED:20220705T004900Z
LAST-MODIFIED:20220705T005646Z
UID:1721558-1657026000-1657029600@ramayogainstitute.com
SUMMARY:Summer Mallorca Residency Q&A Call
DESCRIPTION:Join Harijiwan for a live complimentary Q&A Zoom call to learn more about the upcoming events happening on Mallorca this July. \nKundalini Training: Becoming a Teacher\nFriday\, July 15-Tuesday\, July 19\, 2022 \nRA MA Mystery School: The Knights of Templar\nThursday\, July 21-Sunday\, July 24\, 2022 \nBring your questions or come to listen. \nTUNE IN
URL:https://ramayogainstitute.com/event/summer-mallorca-residency-qa-call/
LOCATION:Online on Zoom
CATEGORIES:Community Content,RA MA TV Live
ATTACH;FMTTYPE=image/jpeg:https://ramayogainstitute.com/wp-content/uploads/2022/07/Mallorca.jpg
END:VEVENT
BEGIN:VEVENT
DTSTART;TZID=America/Los_Angeles:20220131T130000
DTEND;TZID=America/Los_Angeles:20220131T140000
DTSTAMP:20260425T073832
CREATED:20220125T184824Z
LAST-MODIFIED:20220125T184850Z
UID:1686581-1643634000-1643637600@ramayogainstitute.com
SUMMARY:Kundalini Training: The Ten Bodies Q/A with Harijiwan
DESCRIPTION:Harijiwan has been teaching Kundalini yoga since 1975. Known for his unique Gong playing\, his classes are funny\, profound\, poetic and offer students the opportunity to receive rarified instruction and enjoy vast change. \nZoom Link Coming Soon
URL:https://ramayogainstitute.com/event/kundalini-training-the-ten-bodies-q-a-with-harijiwan-1-31-21/
LOCATION:Online on Zoom
CATEGORIES:Community Content
ATTACH;FMTTYPE=image/jpeg:https://ramayogainstitute.com/wp-content/uploads/2021/08/harijiwan-cal-icon.jpg
END:VEVENT
BEGIN:VEVENT
DTSTART;VALUE=DATE:20210801
DTEND;VALUE=DATE:20210818
DTSTAMP:20260425T073832
CREATED:20210802T173130Z
LAST-MODIFIED:20210802T182953Z
UID:1637141-1627776000-1629244799@ramayogainstitute.com
SUMMARY:Akal Recitations in Memory of Guru Jagat
DESCRIPTION:We’ll be on zoom for the next 17 days chanting Akal until August 17th. You are more than welcome to join us. We love you all. Thank you for being together. May our community & each of you continue to thrive in unimaginable ways. \nJoin Us On Zoom
URL:https://ramayogainstitute.com/event/akal-recitations-in-memory-of-guru-jagat/
LOCATION:Online on Zoom
CATEGORIES:Community Content,In Person
ATTACH;FMTTYPE=image/jpeg:https://ramayogainstitute.com/wp-content/uploads/2021/08/image_from_ios.jpg
END:VEVENT
END:VCALENDAR