BEGIN:VCALENDAR
VERSION:2.0
PRODID:-//RA MA LIFE - ECPv6.15.15//NONSGML v1.0//EN
CALSCALE:GREGORIAN
METHOD:PUBLISH
X-WR-CALNAME:RA MA LIFE
X-ORIGINAL-URL:https://ramayogainstitute.com
X-WR-CALDESC:Events for RA MA LIFE
REFRESH-INTERVAL;VALUE=DURATION:PT1H
X-Robots-Tag:noindex
X-PUBLISHED-TTL:PT1H
BEGIN:VTIMEZONE
TZID:America/Los_Angeles
BEGIN:DAYLIGHT
TZOFFSETFROM:-0800
TZOFFSETTO:-0700
TZNAME:PDT
DTSTART:20250309T100000
END:DAYLIGHT
BEGIN:STANDARD
TZOFFSETFROM:-0700
TZOFFSETTO:-0800
TZNAME:PST
DTSTART:20251102T090000
END:STANDARD
BEGIN:DAYLIGHT
TZOFFSETFROM:-0800
TZOFFSETTO:-0700
TZNAME:PDT
DTSTART:20260308T100000
END:DAYLIGHT
BEGIN:STANDARD
TZOFFSETFROM:-0700
TZOFFSETTO:-0800
TZNAME:PST
DTSTART:20261101T090000
END:STANDARD
BEGIN:DAYLIGHT
TZOFFSETFROM:-0800
TZOFFSETTO:-0700
TZNAME:PDT
DTSTART:20270314T100000
END:DAYLIGHT
BEGIN:STANDARD
TZOFFSETFROM:-0700
TZOFFSETTO:-0800
TZNAME:PST
DTSTART:20271107T090000
END:STANDARD
END:VTIMEZONE
BEGIN:VEVENT
DTSTART;TZID=America/Los_Angeles:20260423T173000
DTEND;TZID=America/Los_Angeles:20260423T180000
DTSTAMP:20260424T125239
CREATED:20260223T162404Z
LAST-MODIFIED:20260223T163138Z
UID:2011454-1776965400-1776967200@ramayogainstitute.com
SUMMARY:Global Meditation
DESCRIPTION:
URL:https://ramayogainstitute.com/event/global-meditation-2026-04-23/
LOCATION:RA MA Institute Mallorca\, Carrer de Despuig\, 51\, Palma\, Illes Balears\, 07013\, Spain
CATEGORIES:In Person,RA MA TV Live,RA MA TV ZOOM
ATTACH;FMTTYPE=image/jpeg:https://ramayogainstitute.com/wp-content/uploads/2026/02/Sat_Kriya_1-e1773928469437.jpg
END:VEVENT
BEGIN:VEVENT
DTSTART;TZID=America/Los_Angeles:20260423T070000
DTEND;TZID=America/Los_Angeles:20260423T080000
DTSTAMP:20260424T125239
CREATED:20260223T225402Z
LAST-MODIFIED:20260415T221304Z
UID:2011820-1776927600-1776931200@ramayogainstitute.com
SUMMARY:MANTRA DEEP DIVE
DESCRIPTION:Each week we will chant a different mantra for 31min. \n  \n 
URL:https://ramayogainstitute.com/event/mantra-deep-dive/2026-04-23/
LOCATION:Online on Zoom
CATEGORIES:RA MA TV Live,RA MA TV ZOOM
ATTACH;FMTTYPE=image/jpeg:https://ramayogainstitute.com/wp-content/uploads/2026/03/Global-Meditation-2026_thumb.jpg
END:VEVENT
BEGIN:VEVENT
DTSTART;TZID=America/Los_Angeles:20260422T173000
DTEND;TZID=America/Los_Angeles:20260422T180000
DTSTAMP:20260424T125239
CREATED:20260223T162404Z
LAST-MODIFIED:20260223T163128Z
UID:2011453-1776879000-1776880800@ramayogainstitute.com
SUMMARY:Global Meditation
DESCRIPTION:
URL:https://ramayogainstitute.com/event/global-meditation-2026-04-22/
LOCATION:RA MA Institute Mallorca\, Carrer de Despuig\, 51\, Palma\, Illes Balears\, 07013\, Spain
CATEGORIES:In Person,RA MA TV Live,RA MA TV ZOOM
ATTACH;FMTTYPE=image/jpeg:https://ramayogainstitute.com/wp-content/uploads/2026/02/Sat_Kriya_1-e1773928469437.jpg
END:VEVENT
BEGIN:VEVENT
DTSTART;TZID=America/Los_Angeles:20260421T003000
DTEND;TZID=America/Los_Angeles:20260421T020000
DTSTAMP:20260424T125240
CREATED:20260206T154522Z
LAST-MODIFIED:20260415T221201Z
UID:2013470-1776731400-1776736800@ramayogainstitute.com
SUMMARY:LETTING LIGHT IN | Kundalini Yoga & Meditation
DESCRIPTION:Kundalini yoga and meditation for a soft morning.
URL:https://ramayogainstitute.com/event/letting-light-in-kundalini-yoga-meditation/2026-04-21/
LOCATION:Online on Zoom
CATEGORIES:RA MA TV Live,RA MA TV ZOOM
ATTACH;FMTTYPE=image/jpeg:https://ramayogainstitute.com/wp-content/uploads/2023/03/Johanna.jpeg
END:VEVENT
BEGIN:VEVENT
DTSTART;TZID=America/Los_Angeles:20260416T070000
DTEND;TZID=America/Los_Angeles:20260416T080000
DTSTAMP:20260424T125240
CREATED:20260223T225402Z
LAST-MODIFIED:20260415T221303Z
UID:2011819-1776322800-1776326400@ramayogainstitute.com
SUMMARY:MANTRA DEEP DIVE
DESCRIPTION:Each week we will chant a different mantra for 31min. \n  \n 
URL:https://ramayogainstitute.com/event/mantra-deep-dive/2026-04-16/
LOCATION:Online on Zoom
CATEGORIES:RA MA TV Live,RA MA TV ZOOM
ATTACH;FMTTYPE=image/jpeg:https://ramayogainstitute.com/wp-content/uploads/2026/03/Global-Meditation-2026_thumb.jpg
END:VEVENT
BEGIN:VEVENT
DTSTART;TZID=America/Los_Angeles:20260414T003000
DTEND;TZID=America/Los_Angeles:20260414T020000
DTSTAMP:20260424T125240
CREATED:20260206T154522Z
LAST-MODIFIED:20260415T221200Z
UID:2013469-1776126600-1776132000@ramayogainstitute.com
SUMMARY:LETTING LIGHT IN | Kundalini Yoga & Meditation
DESCRIPTION:Kundalini yoga and meditation for a soft morning.
URL:https://ramayogainstitute.com/event/letting-light-in-kundalini-yoga-meditation/2026-04-14/
LOCATION:Online on Zoom
CATEGORIES:RA MA TV Live,RA MA TV ZOOM
ATTACH;FMTTYPE=image/jpeg:https://ramayogainstitute.com/wp-content/uploads/2023/03/Johanna.jpeg
END:VEVENT
BEGIN:VEVENT
DTSTART;TZID=America/Los_Angeles:20260409T070000
DTEND;TZID=America/Los_Angeles:20260409T080000
DTSTAMP:20260424T125240
CREATED:20260223T225402Z
LAST-MODIFIED:20260415T221302Z
UID:2011818-1775718000-1775721600@ramayogainstitute.com
SUMMARY:MANTRA DEEP DIVE
DESCRIPTION:Each week we will chant a different mantra for 31min. \n  \n 
URL:https://ramayogainstitute.com/event/mantra-deep-dive/2026-04-09/
LOCATION:Online on Zoom
CATEGORIES:RA MA TV Live,RA MA TV ZOOM
ATTACH;FMTTYPE=image/jpeg:https://ramayogainstitute.com/wp-content/uploads/2026/03/Global-Meditation-2026_thumb.jpg
END:VEVENT
BEGIN:VEVENT
DTSTART;TZID=America/Los_Angeles:20260408T173000
DTEND;TZID=America/Los_Angeles:20260408T180000
DTSTAMP:20260424T125240
CREATED:20260223T162404Z
LAST-MODIFIED:20260223T163150Z
UID:2011439-1775669400-1775671200@ramayogainstitute.com
SUMMARY:Global Meditation
DESCRIPTION:
URL:https://ramayogainstitute.com/event/global-meditation-2026-04-08/
LOCATION:RA MA Institute Mallorca\, Carrer de Despuig\, 51\, Palma\, Illes Balears\, 07013\, Spain
CATEGORIES:In Person,RA MA TV Live,RA MA TV ZOOM
ATTACH;FMTTYPE=image/jpeg:https://ramayogainstitute.com/wp-content/uploads/2026/02/Sat_Kriya_1-e1773928469437.jpg
END:VEVENT
BEGIN:VEVENT
DTSTART;TZID=America/Los_Angeles:20260407T173000
DTEND;TZID=America/Los_Angeles:20260407T180000
DTSTAMP:20260424T125240
CREATED:20260223T162404Z
LAST-MODIFIED:20260223T163137Z
UID:2011438-1775583000-1775584800@ramayogainstitute.com
SUMMARY:Global Meditation
DESCRIPTION:
URL:https://ramayogainstitute.com/event/global-meditation-2026-04-07/
LOCATION:RA MA Institute Mallorca\, Carrer de Despuig\, 51\, Palma\, Illes Balears\, 07013\, Spain
CATEGORIES:In Person,RA MA TV Live,RA MA TV ZOOM
ATTACH;FMTTYPE=image/jpeg:https://ramayogainstitute.com/wp-content/uploads/2026/02/Sat_Kriya_1-e1773928469437.jpg
END:VEVENT
BEGIN:VEVENT
DTSTART;TZID=America/Los_Angeles:20260407T003000
DTEND;TZID=America/Los_Angeles:20260407T020000
DTSTAMP:20260424T125240
CREATED:20260206T154522Z
LAST-MODIFIED:20260415T221159Z
UID:2013468-1775521800-1775527200@ramayogainstitute.com
SUMMARY:LETTING LIGHT IN | Kundalini Yoga & Meditation
DESCRIPTION:Kundalini yoga and meditation for a soft morning.
URL:https://ramayogainstitute.com/event/letting-light-in-kundalini-yoga-meditation/2026-04-07/
LOCATION:Online on Zoom
CATEGORIES:RA MA TV Live,RA MA TV ZOOM
ATTACH;FMTTYPE=image/jpeg:https://ramayogainstitute.com/wp-content/uploads/2023/03/Johanna.jpeg
END:VEVENT
BEGIN:VEVENT
DTSTART;TZID=America/Los_Angeles:20260406T173000
DTEND;TZID=America/Los_Angeles:20260406T180000
DTSTAMP:20260424T125240
CREATED:20260223T162404Z
LAST-MODIFIED:20260223T163127Z
UID:2011437-1775496600-1775498400@ramayogainstitute.com
SUMMARY:Global Meditation
DESCRIPTION:
URL:https://ramayogainstitute.com/event/global-meditation-2026-04-06/
LOCATION:RA MA Institute Mallorca\, Carrer de Despuig\, 51\, Palma\, Illes Balears\, 07013\, Spain
CATEGORIES:In Person,RA MA TV Live,RA MA TV ZOOM
ATTACH;FMTTYPE=image/jpeg:https://ramayogainstitute.com/wp-content/uploads/2026/02/Sat_Kriya_1-e1773928469437.jpg
END:VEVENT
BEGIN:VEVENT
DTSTART;TZID=America/Los_Angeles:20260402T070000
DTEND;TZID=America/Los_Angeles:20260402T080000
DTSTAMP:20260424T125240
CREATED:20260223T225402Z
LAST-MODIFIED:20260415T221301Z
UID:2011817-1775113200-1775116800@ramayogainstitute.com
SUMMARY:MANTRA DEEP DIVE
DESCRIPTION:Each week we will chant a different mantra for 31min. \n  \n 
URL:https://ramayogainstitute.com/event/mantra-deep-dive/2026-04-02/
LOCATION:Online on Zoom
CATEGORIES:RA MA TV Live,RA MA TV ZOOM
ATTACH;FMTTYPE=image/jpeg:https://ramayogainstitute.com/wp-content/uploads/2026/03/Global-Meditation-2026_thumb.jpg
END:VEVENT
BEGIN:VEVENT
DTSTART;TZID=America/Los_Angeles:20260331T003000
DTEND;TZID=America/Los_Angeles:20260331T020000
DTSTAMP:20260424T125240
CREATED:20260206T154522Z
LAST-MODIFIED:20260415T221158Z
UID:2013467-1774917000-1774922400@ramayogainstitute.com
SUMMARY:LETTING LIGHT IN | Kundalini Yoga & Meditation
DESCRIPTION:Kundalini yoga and meditation for a soft morning.
URL:https://ramayogainstitute.com/event/letting-light-in-kundalini-yoga-meditation/2026-03-31/
LOCATION:Online on Zoom
CATEGORIES:RA MA TV Live,RA MA TV ZOOM
ATTACH;FMTTYPE=image/jpeg:https://ramayogainstitute.com/wp-content/uploads/2023/03/Johanna.jpeg
END:VEVENT
BEGIN:VEVENT
DTSTART;TZID=America/Los_Angeles:20260326T070000
DTEND;TZID=America/Los_Angeles:20260326T080000
DTSTAMP:20260424T125240
CREATED:20260223T225402Z
LAST-MODIFIED:20260415T221300Z
UID:2011816-1774508400-1774512000@ramayogainstitute.com
SUMMARY:MANTRA DEEP DIVE
DESCRIPTION:Each week we will chant a different mantra for 31min. \n  \n 
URL:https://ramayogainstitute.com/event/mantra-deep-dive/2026-03-26/
LOCATION:Online on Zoom
CATEGORIES:RA MA TV Live,RA MA TV ZOOM
ATTACH;FMTTYPE=image/jpeg:https://ramayogainstitute.com/wp-content/uploads/2026/03/Global-Meditation-2026_thumb.jpg
END:VEVENT
BEGIN:VEVENT
DTSTART;TZID=America/Los_Angeles:20260324T013000
DTEND;TZID=America/Los_Angeles:20260324T030000
DTSTAMP:20260424T125240
CREATED:20260206T154522Z
LAST-MODIFIED:20260415T221157Z
UID:2013466-1774315800-1774321200@ramayogainstitute.com
SUMMARY:LETTING LIGHT IN | Kundalini Yoga & Meditation
DESCRIPTION:Kundalini yoga and meditation for a soft morning.
URL:https://ramayogainstitute.com/event/letting-light-in-kundalini-yoga-meditation/2026-03-24/
LOCATION:Online on Zoom
CATEGORIES:RA MA TV Live,RA MA TV ZOOM
ATTACH;FMTTYPE=image/jpeg:https://ramayogainstitute.com/wp-content/uploads/2023/03/Johanna.jpeg
END:VEVENT
BEGIN:VEVENT
DTSTART;TZID=America/Los_Angeles:20260323T173000
DTEND;TZID=America/Los_Angeles:20260323T180000
DTSTAMP:20260424T125240
CREATED:20260223T162404Z
LAST-MODIFIED:20260223T163149Z
UID:2011423-1774287000-1774288800@ramayogainstitute.com
SUMMARY:Global Meditation
DESCRIPTION:
URL:https://ramayogainstitute.com/event/global-meditation-2026-03-23/
LOCATION:RA MA Institute Mallorca\, Carrer de Despuig\, 51\, Palma\, Illes Balears\, 07013\, Spain
CATEGORIES:In Person,RA MA TV Live,RA MA TV ZOOM
ATTACH;FMTTYPE=image/jpeg:https://ramayogainstitute.com/wp-content/uploads/2026/02/Sat_Kriya_1-e1773928469437.jpg
END:VEVENT
BEGIN:VEVENT
DTSTART;TZID=America/Los_Angeles:20260322T173000
DTEND;TZID=America/Los_Angeles:20260322T180000
DTSTAMP:20260424T125240
CREATED:20260223T162404Z
LAST-MODIFIED:20260223T163136Z
UID:2011422-1774200600-1774202400@ramayogainstitute.com
SUMMARY:Global Meditation
DESCRIPTION:
URL:https://ramayogainstitute.com/event/global-meditation-2026-03-22/
LOCATION:RA MA Institute Mallorca\, Carrer de Despuig\, 51\, Palma\, Illes Balears\, 07013\, Spain
CATEGORIES:In Person,RA MA TV Live,RA MA TV ZOOM
ATTACH;FMTTYPE=image/jpeg:https://ramayogainstitute.com/wp-content/uploads/2026/02/Sat_Kriya_1-e1773928469437.jpg
END:VEVENT
BEGIN:VEVENT
DTSTART;TZID=America/Los_Angeles:20260321T173000
DTEND;TZID=America/Los_Angeles:20260321T180000
DTSTAMP:20260424T125240
CREATED:20260223T162404Z
LAST-MODIFIED:20260223T163125Z
UID:2011421-1774114200-1774116000@ramayogainstitute.com
SUMMARY:Global Meditation
DESCRIPTION:
URL:https://ramayogainstitute.com/event/global-meditation-2026-03-21/
LOCATION:RA MA Institute Mallorca\, Carrer de Despuig\, 51\, Palma\, Illes Balears\, 07013\, Spain
CATEGORIES:In Person,RA MA TV Live,RA MA TV ZOOM
ATTACH;FMTTYPE=image/jpeg:https://ramayogainstitute.com/wp-content/uploads/2026/02/Sat_Kriya_1-e1773928469437.jpg
END:VEVENT
BEGIN:VEVENT
DTSTART;TZID=America/Los_Angeles:20260319T070000
DTEND;TZID=America/Los_Angeles:20260319T080000
DTSTAMP:20260424T125240
CREATED:20260223T225402Z
LAST-MODIFIED:20260415T221259Z
UID:2011815-1773903600-1773907200@ramayogainstitute.com
SUMMARY:MANTRA DEEP DIVE
DESCRIPTION:Each week we will chant a different mantra for 31min. \n  \n 
URL:https://ramayogainstitute.com/event/mantra-deep-dive/2026-03-19/
LOCATION:Online on Zoom
CATEGORIES:RA MA TV Live,RA MA TV ZOOM
ATTACH;FMTTYPE=image/jpeg:https://ramayogainstitute.com/wp-content/uploads/2026/03/Global-Meditation-2026_thumb.jpg
END:VEVENT
BEGIN:VEVENT
DTSTART;TZID=America/Los_Angeles:20260317T013000
DTEND;TZID=America/Los_Angeles:20260317T030000
DTSTAMP:20260424T125240
CREATED:20260206T154522Z
LAST-MODIFIED:20260415T221156Z
UID:2013465-1773711000-1773716400@ramayogainstitute.com
SUMMARY:LETTING LIGHT IN | Kundalini Yoga & Meditation
DESCRIPTION:Kundalini yoga and meditation for a soft morning.
URL:https://ramayogainstitute.com/event/letting-light-in-kundalini-yoga-meditation/2026-03-17/
LOCATION:Online on Zoom
CATEGORIES:RA MA TV Live,RA MA TV ZOOM
ATTACH;FMTTYPE=image/jpeg:https://ramayogainstitute.com/wp-content/uploads/2023/03/Johanna.jpeg
END:VEVENT
BEGIN:VEVENT
DTSTART;TZID=America/Los_Angeles:20260312T070000
DTEND;TZID=America/Los_Angeles:20260312T080000
DTSTAMP:20260424T125240
CREATED:20260223T225402Z
LAST-MODIFIED:20260415T221259Z
UID:2011814-1773298800-1773302400@ramayogainstitute.com
SUMMARY:MANTRA DEEP DIVE
DESCRIPTION:Each week we will chant a different mantra for 31min. \n  \n 
URL:https://ramayogainstitute.com/event/mantra-deep-dive/2026-03-12/
LOCATION:Online on Zoom
CATEGORIES:RA MA TV Live,RA MA TV ZOOM
ATTACH;FMTTYPE=image/jpeg:https://ramayogainstitute.com/wp-content/uploads/2026/03/Global-Meditation-2026_thumb.jpg
END:VEVENT
BEGIN:VEVENT
DTSTART;TZID=America/Los_Angeles:20260310T013000
DTEND;TZID=America/Los_Angeles:20260310T030000
DTSTAMP:20260424T125240
CREATED:20260206T154522Z
LAST-MODIFIED:20260415T221155Z
UID:2013464-1773106200-1773111600@ramayogainstitute.com
SUMMARY:LETTING LIGHT IN | Kundalini Yoga & Meditation
DESCRIPTION:Kundalini yoga and meditation for a soft morning.
URL:https://ramayogainstitute.com/event/letting-light-in-kundalini-yoga-meditation/2026-03-10/
LOCATION:Online on Zoom
CATEGORIES:RA MA TV Live,RA MA TV ZOOM
ATTACH;FMTTYPE=image/jpeg:https://ramayogainstitute.com/wp-content/uploads/2023/03/Johanna.jpeg
END:VEVENT
BEGIN:VEVENT
DTSTART;TZID=America/Los_Angeles:20260307T173000
DTEND;TZID=America/Los_Angeles:20260307T180000
DTSTAMP:20260424T125240
CREATED:20260223T162404Z
LAST-MODIFIED:20260223T163146Z
UID:2011407-1772904600-1772906400@ramayogainstitute.com
SUMMARY:Global Meditation
DESCRIPTION:
URL:https://ramayogainstitute.com/event/global-meditation-2026-03-07/
LOCATION:RA MA Institute Mallorca\, Carrer de Despuig\, 51\, Palma\, Illes Balears\, 07013\, Spain
CATEGORIES:In Person,RA MA TV Live,RA MA TV ZOOM
ATTACH;FMTTYPE=image/jpeg:https://ramayogainstitute.com/wp-content/uploads/2026/02/Sat_Kriya_1-e1773928469437.jpg
END:VEVENT
BEGIN:VEVENT
DTSTART;TZID=America/Los_Angeles:20260306T173000
DTEND;TZID=America/Los_Angeles:20260306T180000
DTSTAMP:20260424T125240
CREATED:20260223T162404Z
LAST-MODIFIED:20260223T163133Z
UID:2011406-1772818200-1772820000@ramayogainstitute.com
SUMMARY:Global Meditation
DESCRIPTION:
URL:https://ramayogainstitute.com/event/global-meditation-2026-03-06/
LOCATION:RA MA Institute Mallorca\, Carrer de Despuig\, 51\, Palma\, Illes Balears\, 07013\, Spain
CATEGORIES:In Person,RA MA TV Live,RA MA TV ZOOM
ATTACH;FMTTYPE=image/jpeg:https://ramayogainstitute.com/wp-content/uploads/2026/02/Sat_Kriya_1-e1773928469437.jpg
END:VEVENT
BEGIN:VEVENT
DTSTART;TZID=America/Los_Angeles:20260305T173000
DTEND;TZID=America/Los_Angeles:20260305T180000
DTSTAMP:20260424T125240
CREATED:20260223T162404Z
LAST-MODIFIED:20260223T163124Z
UID:2011405-1772731800-1772733600@ramayogainstitute.com
SUMMARY:Global Meditation
DESCRIPTION:
URL:https://ramayogainstitute.com/event/global-meditation-2026-03-05/
LOCATION:RA MA Institute Mallorca\, Carrer de Despuig\, 51\, Palma\, Illes Balears\, 07013\, Spain
CATEGORIES:In Person,RA MA TV Live,RA MA TV ZOOM
ATTACH;FMTTYPE=image/jpeg:https://ramayogainstitute.com/wp-content/uploads/2026/02/Sat_Kriya_1-e1773928469437.jpg
END:VEVENT
BEGIN:VEVENT
DTSTART;TZID=America/Los_Angeles:20260305T070000
DTEND;TZID=America/Los_Angeles:20260305T080000
DTSTAMP:20260424T125240
CREATED:20260223T225402Z
LAST-MODIFIED:20260415T221257Z
UID:2011813-1772694000-1772697600@ramayogainstitute.com
SUMMARY:MANTRA DEEP DIVE
DESCRIPTION:Each week we will chant a different mantra for 31min. \n  \n 
URL:https://ramayogainstitute.com/event/mantra-deep-dive/2026-03-05/
LOCATION:Online on Zoom
CATEGORIES:RA MA TV Live,RA MA TV ZOOM
ATTACH;FMTTYPE=image/jpeg:https://ramayogainstitute.com/wp-content/uploads/2026/03/Global-Meditation-2026_thumb.jpg
END:VEVENT
BEGIN:VEVENT
DTSTART;TZID=America/Los_Angeles:20260303T003000
DTEND;TZID=America/Los_Angeles:20260303T020000
DTSTAMP:20260424T125240
CREATED:20260206T154522Z
LAST-MODIFIED:20260415T221155Z
UID:2013463-1772497800-1772503200@ramayogainstitute.com
SUMMARY:LETTING LIGHT IN | Kundalini Yoga & Meditation
DESCRIPTION:Kundalini yoga and meditation for a soft morning.
URL:https://ramayogainstitute.com/event/letting-light-in-kundalini-yoga-meditation/2026-03-03/
LOCATION:Online on Zoom
CATEGORIES:RA MA TV Live,RA MA TV ZOOM
ATTACH;FMTTYPE=image/jpeg:https://ramayogainstitute.com/wp-content/uploads/2023/03/Johanna.jpeg
END:VEVENT
BEGIN:VEVENT
DTSTART;TZID=America/Los_Angeles:20260226T070000
DTEND;TZID=America/Los_Angeles:20260226T080000
DTSTAMP:20260424T125240
CREATED:20260223T225402Z
LAST-MODIFIED:20260415T221256Z
UID:2011808-1772089200-1772092800@ramayogainstitute.com
SUMMARY:MANTRA DEEP DIVE
DESCRIPTION:Each week we will chant a different mantra for 31min. \n  \n 
URL:https://ramayogainstitute.com/event/mantra-deep-dive/2026-02-26/
LOCATION:Online on Zoom
CATEGORIES:RA MA TV Live,RA MA TV ZOOM
ATTACH;FMTTYPE=image/jpeg:https://ramayogainstitute.com/wp-content/uploads/2026/03/Global-Meditation-2026_thumb.jpg
END:VEVENT
BEGIN:VEVENT
DTSTART;TZID=America/Los_Angeles:20260224T003000
DTEND;TZID=America/Los_Angeles:20260224T020000
DTSTAMP:20260424T125240
CREATED:20260206T154522Z
LAST-MODIFIED:20260415T221153Z
UID:2013462-1771893000-1771898400@ramayogainstitute.com
SUMMARY:LETTING LIGHT IN | Kundalini Yoga & Meditation
DESCRIPTION:Kundalini yoga and meditation for a soft morning.
URL:https://ramayogainstitute.com/event/letting-light-in-kundalini-yoga-meditation/2026-02-24/
LOCATION:Online on Zoom
CATEGORIES:RA MA TV Live,RA MA TV ZOOM
ATTACH;FMTTYPE=image/jpeg:https://ramayogainstitute.com/wp-content/uploads/2023/03/Johanna.jpeg
END:VEVENT
BEGIN:VEVENT
DTSTART;TZID=America/Los_Angeles:20260223T173000
DTEND;TZID=America/Los_Angeles:20260223T180000
DTSTAMP:20260424T125240
CREATED:20260223T162404Z
LAST-MODIFIED:20260223T162826Z
UID:2011394-1771867800-1771869600@ramayogainstitute.com
SUMMARY:Global Meditation
DESCRIPTION:Daily Global Meditation with RA MA Crew \nSAT KRIYA \nFebruary 21 – April 1
URL:https://ramayogainstitute.com/event/global-meditation/
LOCATION:RA MA Institute Mallorca\, Carrer de Despuig\, 51\, Palma\, Illes Balears\, 07013\, Spain
CATEGORIES:In Person,RA MA TV Live,RA MA TV ZOOM
ATTACH;FMTTYPE=image/jpeg:https://ramayogainstitute.com/wp-content/uploads/2026/02/Sat_Kriya_1-e1773928469437.jpg
END:VEVENT
END:VCALENDAR