BEGIN:VCALENDAR
VERSION:2.0
PRODID:-//RA MA LIFE - ECPv6.15.15//NONSGML v1.0//EN
CALSCALE:GREGORIAN
METHOD:PUBLISH
X-ORIGINAL-URL:https://ramayogainstitute.com
X-WR-CALDESC:Events for RA MA LIFE
REFRESH-INTERVAL;VALUE=DURATION:PT1H
X-Robots-Tag:noindex
X-PUBLISHED-TTL:PT1H
BEGIN:VTIMEZONE
TZID:America/Los_Angeles
BEGIN:DAYLIGHT
TZOFFSETFROM:-0800
TZOFFSETTO:-0700
TZNAME:PDT
DTSTART:20230312T100000
END:DAYLIGHT
BEGIN:STANDARD
TZOFFSETFROM:-0700
TZOFFSETTO:-0800
TZNAME:PST
DTSTART:20231105T090000
END:STANDARD
BEGIN:DAYLIGHT
TZOFFSETFROM:-0800
TZOFFSETTO:-0700
TZNAME:PDT
DTSTART:20240310T100000
END:DAYLIGHT
BEGIN:STANDARD
TZOFFSETFROM:-0700
TZOFFSETTO:-0800
TZNAME:PST
DTSTART:20241103T090000
END:STANDARD
BEGIN:DAYLIGHT
TZOFFSETFROM:-0800
TZOFFSETTO:-0700
TZNAME:PDT
DTSTART:20250309T100000
END:DAYLIGHT
BEGIN:STANDARD
TZOFFSETFROM:-0700
TZOFFSETTO:-0800
TZNAME:PST
DTSTART:20251102T090000
END:STANDARD
END:VTIMEZONE
BEGIN:VEVENT
DTSTART;TZID=America/Los_Angeles:20240215T190000
DTEND;TZID=America/Los_Angeles:20240215T210000
DTSTAMP:20260422T150538
CREATED:20240206T062625Z
LAST-MODIFIED:20240214T052150Z
UID:1893356-1708023600-1708030800@ramayogainstitute.com
SUMMARY:The Power of Love A Workshop for the Heart
DESCRIPTION:SIGN UP\nTUNE IN\nThe Power of Love: A Workshop for the Heart\nwith Shabadpreet\, Jen Saltiel\, & Soniyah Singh\, Empowered Matchmaker\, Love Researcher\, & Love Coach\nThursday\, February 15\, 2024\n7:00pm-9:00pm PST\nRA MA Los Angeles | RA MA TV\n$33\nIncluded for: Members of RA MA TV Live + RA MA Pass Holders \nThrough Kundalini Yoga\, Deep Meditation\, & Soniyah’s signature “Heart Work” techniques\, experience a profound shift of the heart and lean into your fullest expression of love.\nRelease what’s blocking you from experiencing the highest caliber of love.\nAllow love to fully reveal its transformative power.\nCreate a new foundation to welcome the relationship that you desire\, deserve\, and destined to realize.\nThere is nothing greater than the power of Love. \n 
URL:https://ramayogainstitute.com/event/the-power-of-love-a-workshop-for-the-heart/
LOCATION:Online
CATEGORIES:In Person,Pay Per View Workshops,RA MA TV Live
ATTACH;FMTTYPE=image/jpeg:https://ramayogainstitute.com/wp-content/uploads/2024/02/valentines-day-1.jpg
END:VEVENT
END:VCALENDAR