BEGIN:VCALENDAR
VERSION:2.0
PRODID:-//RA MA LIFE - ECPv6.15.15//NONSGML v1.0//EN
CALSCALE:GREGORIAN
METHOD:PUBLISH
X-ORIGINAL-URL:https://ramayogainstitute.com
X-WR-CALDESC:Events for RA MA LIFE
REFRESH-INTERVAL;VALUE=DURATION:PT1H
X-Robots-Tag:noindex
X-PUBLISHED-TTL:PT1H
BEGIN:VTIMEZONE
TZID:America/Los_Angeles
BEGIN:DAYLIGHT
TZOFFSETFROM:-0800
TZOFFSETTO:-0700
TZNAME:PDT
DTSTART:20210314T100000
END:DAYLIGHT
BEGIN:STANDARD
TZOFFSETFROM:-0700
TZOFFSETTO:-0800
TZNAME:PST
DTSTART:20211107T090000
END:STANDARD
BEGIN:DAYLIGHT
TZOFFSETFROM:-0800
TZOFFSETTO:-0700
TZNAME:PDT
DTSTART:20220313T100000
END:DAYLIGHT
BEGIN:STANDARD
TZOFFSETFROM:-0700
TZOFFSETTO:-0800
TZNAME:PST
DTSTART:20221106T090000
END:STANDARD
BEGIN:DAYLIGHT
TZOFFSETFROM:-0800
TZOFFSETTO:-0700
TZNAME:PDT
DTSTART:20230312T100000
END:DAYLIGHT
BEGIN:STANDARD
TZOFFSETFROM:-0700
TZOFFSETTO:-0800
TZNAME:PST
DTSTART:20231105T090000
END:STANDARD
END:VTIMEZONE
BEGIN:VEVENT
DTSTART;TZID=America/Los_Angeles:20220831T080000
DTEND;TZID=America/Los_Angeles:20220831T090000
DTSTAMP:20260421T204227
CREATED:20220601T025754Z
LAST-MODIFIED:20220824T032544Z
UID:1714614-1661932800-1661936400@ramayogainstitute.com
SUMMARY:Kundalini Yoga & Meditation with Sher Kirtan
DESCRIPTION:Tune In
URL:https://ramayogainstitute.com/event/kundalini-yoga-meditation-with-anne-v-2022-07-13-2022-08-31/
LOCATION:RA MA New York & Online
CATEGORIES:In Person,RA MA TV Live
ATTACH;FMTTYPE=image/jpeg:https://ramayogainstitute.com/wp-content/uploads/2022/04/Sher-Kirtan-Pritam-Siri-Cal-Icon.jpg
END:VEVENT
BEGIN:VEVENT
DTSTART;TZID=America/Los_Angeles:20220824T080000
DTEND;TZID=America/Los_Angeles:20220824T090000
DTSTAMP:20260421T204227
CREATED:20220601T025754Z
LAST-MODIFIED:20220824T032149Z
UID:1714613-1661328000-1661331600@ramayogainstitute.com
SUMMARY:Kundalini Yoga & Meditation with Sher Kirtan
DESCRIPTION:Tune In
URL:https://ramayogainstitute.com/event/kundalini-yoga-meditation-with-anne-v-2022-07-13-2022-08-24/
LOCATION:RA MA New York & Online
CATEGORIES:In Person,RA MA TV Live
ATTACH;FMTTYPE=image/jpeg:https://ramayogainstitute.com/wp-content/uploads/2022/04/Sher-Kirtan-Pritam-Siri-Cal-Icon.jpg
END:VEVENT
BEGIN:VEVENT
DTSTART;TZID=America/Los_Angeles:20220121T060000
DTEND;TZID=America/Los_Angeles:20220121T073000
DTSTAMP:20260421T204227
CREATED:20220120T022219Z
LAST-MODIFIED:20220120T022219Z
UID:1685636-1642744800-1642750200@ramayogainstitute.com
SUMMARY:Kundalini Yoga & Meditation with Sher Kirtan
DESCRIPTION:Sher Kirtan Singh brings harmony\, nobility and strength to the minds and hearts of those around him. \nHe is an artist\, musician\, poet\, and athlete that teaches Kundalini Yoga and Meditation as taught by Yogi Bhajan. He has trained as a teacher and studied Kundalini at RA MA Yoga for Applied Science and Technology with Guru Jagat\, Tej\, and Harijiwan. He also studied at RA MA’s Aquarian Business Academy. \nFor his private clients\, he draws from various modalities for one on one strategic guidance sessions. \nHe is a graduate of New York University’s Tisch School of the Arts with Honors and was awarded scholarship to study at the National Opera Center in NYC. At NYU he immersed himself in the study of music\, theatre\, and dance. He supplemented this curriculum with course study of yogic pedagogy and history\, as well as Child and Adolescent Mental Health Studies. \nHis classes are open to all levels and designed with attention toward the particularity of the environment\, zeitgeist\, and astrological terrain of the moment. \nHis classes are for students seeking to further investigate and crystallize their authentic selves\, while finding inner-strength and creativity in an encouraging\, non-judgmental environment. \nLearn More & Tune In
URL:https://ramayogainstitute.com/event/kundalini-yoga-meditation-with-sher-kirtan/2022-01-21/
LOCATION:RA MA New York & Online
CATEGORIES:In Person,RA MA TV Live
ATTACH;FMTTYPE=image/jpeg:https://ramayogainstitute.com/wp-content/uploads/2022/01/Sher-Kirtan.jpg
END:VEVENT
END:VCALENDAR