BEGIN:VCALENDAR
VERSION:2.0
PRODID:-//RA MA LIFE - ECPv6.15.15//NONSGML v1.0//EN
CALSCALE:GREGORIAN
METHOD:PUBLISH
X-ORIGINAL-URL:https://ramayogainstitute.com
X-WR-CALDESC:Events for RA MA LIFE
REFRESH-INTERVAL;VALUE=DURATION:PT1H
X-Robots-Tag:noindex
X-PUBLISHED-TTL:PT1H
BEGIN:VTIMEZONE
TZID:America/Los_Angeles
BEGIN:DAYLIGHT
TZOFFSETFROM:-0800
TZOFFSETTO:-0700
TZNAME:PDT
DTSTART:20200308T100000
END:DAYLIGHT
BEGIN:STANDARD
TZOFFSETFROM:-0700
TZOFFSETTO:-0800
TZNAME:PST
DTSTART:20201101T090000
END:STANDARD
BEGIN:DAYLIGHT
TZOFFSETFROM:-0800
TZOFFSETTO:-0700
TZNAME:PDT
DTSTART:20210314T100000
END:DAYLIGHT
BEGIN:STANDARD
TZOFFSETFROM:-0700
TZOFFSETTO:-0800
TZNAME:PST
DTSTART:20211107T090000
END:STANDARD
BEGIN:DAYLIGHT
TZOFFSETFROM:-0800
TZOFFSETTO:-0700
TZNAME:PDT
DTSTART:20220313T100000
END:DAYLIGHT
BEGIN:STANDARD
TZOFFSETFROM:-0700
TZOFFSETTO:-0800
TZNAME:PST
DTSTART:20221106T090000
END:STANDARD
END:VTIMEZONE
BEGIN:VEVENT
DTSTART;TZID=America/Los_Angeles:20211128T110000
DTEND;TZID=America/Los_Angeles:20211128T123000
DTSTAMP:20260424T210248
CREATED:20211111T221625Z
LAST-MODIFIED:20211126T222738Z
UID:1665938-1638097200-1638102600@ramayogainstitute.com
SUMMARY:Kundalini Yoga & Meditation with Seva Jagat
DESCRIPTION:Learn More & Tune In
URL:https://ramayogainstitute.com/event/vital-warrior-kundalini-11-21-21-2021-11-28/
CATEGORIES:In Person,RA MA TV Live
END:VEVENT
BEGIN:VEVENT
DTSTART;TZID=America/Los_Angeles:20210915T110000
DTEND;TZID=America/Los_Angeles:20210915T120000
DTSTAMP:20260424T210248
CREATED:20210813T160514Z
LAST-MODIFIED:20210913T162955Z
UID:1640799-1631703600-1631707200@ramayogainstitute.com
SUMMARY:Kundalini Yoga & Meditation with Seva Jagat
DESCRIPTION:Seva Jagat is an Independent Artist and Yogi from Puerto Rico. \nSeva’s interests are sustainability\, social themes and wellness practices. Seva works with Guru Jagat and Aa MA TV\, frequently traveling with the RA MA crew. \nLearn More & Tune In
URL:https://ramayogainstitute.com/event/kundalini-yoga-meditation-with-teg-nam-10-2021-08-24-2021-09-15/
CATEGORIES:In Person,RA MA TV Live
ATTACH;FMTTYPE=image/jpeg:https://ramayogainstitute.com/wp-content/uploads/2021/08/Seva-Jagat-cal-icon.jpg
END:VEVENT
BEGIN:VEVENT
DTSTART;TZID=America/Los_Angeles:20210910T110000
DTEND;TZID=America/Los_Angeles:20210910T120000
DTSTAMP:20260424T210248
CREATED:20210813T160514Z
LAST-MODIFIED:20210910T015018Z
UID:1640797-1631271600-1631275200@ramayogainstitute.com
SUMMARY:Kundalini Yoga & Gong Nap with Seva Jagat
DESCRIPTION:Learn More & Tune In
URL:https://ramayogainstitute.com/event/kundalini-yoga-meditation-with-teg-nam-10-2021-08-24-2021-09-10/
CATEGORIES:In Person,RA MA TV Live
ATTACH;FMTTYPE=image/jpeg:https://ramayogainstitute.com/wp-content/uploads/2021/08/Seva-Jagat-cal-icon.jpg
END:VEVENT
BEGIN:VEVENT
DTSTART;TZID=America/Los_Angeles:20210819T110000
DTEND;TZID=America/Los_Angeles:20210819T120000
DTSTAMP:20260424T210248
CREATED:20210813T162003Z
LAST-MODIFIED:20210925T220640Z
UID:1640903-1629370800-1629374400@ramayogainstitute.com
SUMMARY:Kundalini Yoga & Meditation with Seva Jagat
DESCRIPTION:Seva Jagat is an Independent Artist and Yogi from Puerto Rico. Seva Jagat’s interests are sustainability\, social themes and wellness practices. Seva works with Guru Jagat and RA MA TV\, frequently traveling with the RA MA crew. \nLearn More & Tune In
URL:https://ramayogainstitute.com/event/kundalini-yoga-meditation-with-seva-jagat-7/2021-08-19/
CATEGORIES:In Person,RA MA TV Live
ATTACH;FMTTYPE=image/jpeg:https://ramayogainstitute.com/wp-content/uploads/2021/08/Seva-Jagat-cal-icon.jpg
END:VEVENT
BEGIN:VEVENT
DTSTART;TZID=America/Los_Angeles:20210815T090000
DTEND;TZID=America/Los_Angeles:20210815T103000
DTSTAMP:20260424T210248
CREATED:20210805T223809Z
LAST-MODIFIED:20210815T055319Z
UID:1637922-1629018000-1629023400@ramayogainstitute.com
SUMMARY:Kundalini Yoga & Meditation with Seva Jagat
DESCRIPTION:Tune in on RA MA TV Live \nTune in on Community Content
URL:https://ramayogainstitute.com/event/kundalini-yoga-meditation-with-gurujas-7-2021-08-15/
CATEGORIES:Community Content,RA MA TV Live
ATTACH;FMTTYPE=image/jpeg:https://ramayogainstitute.com/wp-content/uploads/2021/08/Seva-Jagat-cal-icon.jpg
END:VEVENT
BEGIN:VEVENT
DTSTART;TZID=America/Los_Angeles:20210716T110000
DTEND;TZID=America/Los_Angeles:20210716T120000
DTSTAMP:20260424T210248
CREATED:20210707T170803Z
LAST-MODIFIED:20210716T000854Z
UID:1629797-1626433200-1626436800@ramayogainstitute.com
SUMMARY:Kundalini Yoga & Meditation with Seva Jagat
DESCRIPTION:Learn More & Tune In \nJoin In Person
URL:https://ramayogainstitute.com/event/kundalini-yoga-meditation-with-seva-jagat-8/
CATEGORIES:In Person,RA MA TV Live
ATTACH;FMTTYPE=image/jpeg:https://ramayogainstitute.com/wp-content/uploads/2020/08/Seva-Jagat-2.jpg
END:VEVENT
BEGIN:VEVENT
DTSTART;TZID=America/Los_Angeles:20210524T090000
DTEND;TZID=America/Los_Angeles:20210524T103000
DTSTAMP:20260424T210248
CREATED:20210521T193313Z
LAST-MODIFIED:20210522T210616Z
UID:1618236-1621846800-1621852200@ramayogainstitute.com
SUMMARY:Kundalini Yoga & Mediation With Seva Jagat
DESCRIPTION:Join Here \nTune In
URL:https://ramayogainstitute.com/event/kundalini-yoga-mediation-with-seva-jagat/
CATEGORIES:In Person,RA MA TV Live
ATTACH;FMTTYPE=image/jpeg:https://ramayogainstitute.com/wp-content/uploads/2020/08/Seva-Jagat-2.jpg
END:VEVENT
END:VCALENDAR