BEGIN:VCALENDAR
VERSION:2.0
PRODID:-//RA MA LIFE - ECPv6.15.15//NONSGML v1.0//EN
CALSCALE:GREGORIAN
METHOD:PUBLISH
X-ORIGINAL-URL:https://ramayogainstitute.com
X-WR-CALDESC:Events for RA MA LIFE
REFRESH-INTERVAL;VALUE=DURATION:PT1H
X-Robots-Tag:noindex
X-PUBLISHED-TTL:PT1H
BEGIN:VTIMEZONE
TZID:America/Los_Angeles
BEGIN:DAYLIGHT
TZOFFSETFROM:-0800
TZOFFSETTO:-0700
TZNAME:PDT
DTSTART:20230312T100000
END:DAYLIGHT
BEGIN:STANDARD
TZOFFSETFROM:-0700
TZOFFSETTO:-0800
TZNAME:PST
DTSTART:20231105T090000
END:STANDARD
BEGIN:DAYLIGHT
TZOFFSETFROM:-0800
TZOFFSETTO:-0700
TZNAME:PDT
DTSTART:20240310T100000
END:DAYLIGHT
BEGIN:STANDARD
TZOFFSETFROM:-0700
TZOFFSETTO:-0800
TZNAME:PST
DTSTART:20241103T090000
END:STANDARD
BEGIN:DAYLIGHT
TZOFFSETFROM:-0800
TZOFFSETTO:-0700
TZNAME:PDT
DTSTART:20250309T100000
END:DAYLIGHT
BEGIN:STANDARD
TZOFFSETFROM:-0700
TZOFFSETTO:-0800
TZNAME:PST
DTSTART:20251102T090000
END:STANDARD
END:VTIMEZONE
BEGIN:VEVENT
DTSTART;TZID=America/Los_Angeles:20241008T173000
DTEND;TZID=America/Los_Angeles:20241008T184500
DTSTAMP:20260424T090800
CREATED:20241004T004250Z
LAST-MODIFIED:20241004T004250Z
UID:1952403-1728408600-1728413100@ramayogainstitute.com
SUMMARY:Gurmukhi Study & Mantra Recitations with Sat Daya
DESCRIPTION:TUNE IN\nCorrectly pronouncing a mantra enhances its power.\nAmplify the power here for you to unlock. \nStudy the Gurmukhi alphabet and the fundamentals of pronunciation. \nThis class will focus on several consonants and vowels. Work with the precise pronunciation\, tongue placement to generate the consonants\, and the correct vowel tone. \nLock in the new sound pattern with mantra recitations.
URL:https://ramayogainstitute.com/event/gurmukhi-study-mantra-recitations-with-sat-daya/
LOCATION:Online
CATEGORIES:In Person,RA MA TV Live
ATTACH;FMTTYPE=image/png:https://ramayogainstitute.com/wp-content/uploads/2024/09/Screen-Shot-2024-09-23-at-11.00.42-AM.png
END:VEVENT
BEGIN:VEVENT
DTSTART;TZID=America/Los_Angeles:20240928T090000
DTEND;TZID=America/Los_Angeles:20240928T103000
DTSTAMP:20260424T090800
CREATED:20240910T003710Z
LAST-MODIFIED:20240923T182911Z
UID:1945738-1727514000-1727519400@ramayogainstitute.com
SUMMARY:Kundalini Yoga & Meditation with Sat Daya
DESCRIPTION:TUNE IN LIVE OR IN PERSON\nVirtually on RA MA TV Live\nIn Person @ RA MA Los Angeles \nAll Levels are welcome
URL:https://ramayogainstitute.com/event/kundalini-yoga-meditation-with-shabadpreet-26/
LOCATION:Online
CATEGORIES:In Person,RA MA TV Live
ATTACH;FMTTYPE=image/jpeg:https://ramayogainstitute.com/wp-content/uploads/2024/09/IMG_1856.jpg
END:VEVENT
END:VCALENDAR