BEGIN:VCALENDAR
VERSION:2.0
PRODID:-//RA MA LIFE - ECPv6.15.15//NONSGML v1.0//EN
CALSCALE:GREGORIAN
METHOD:PUBLISH
X-ORIGINAL-URL:https://ramayogainstitute.com
X-WR-CALDESC:Events for RA MA LIFE
REFRESH-INTERVAL;VALUE=DURATION:PT1H
X-Robots-Tag:noindex
X-PUBLISHED-TTL:PT1H
BEGIN:VTIMEZONE
TZID:America/Los_Angeles
BEGIN:DAYLIGHT
TZOFFSETFROM:-0800
TZOFFSETTO:-0700
TZNAME:PDT
DTSTART:20220313T100000
END:DAYLIGHT
BEGIN:STANDARD
TZOFFSETFROM:-0700
TZOFFSETTO:-0800
TZNAME:PST
DTSTART:20221106T090000
END:STANDARD
BEGIN:DAYLIGHT
TZOFFSETFROM:-0800
TZOFFSETTO:-0700
TZNAME:PDT
DTSTART:20230312T100000
END:DAYLIGHT
BEGIN:STANDARD
TZOFFSETFROM:-0700
TZOFFSETTO:-0800
TZNAME:PST
DTSTART:20231105T090000
END:STANDARD
BEGIN:DAYLIGHT
TZOFFSETFROM:-0800
TZOFFSETTO:-0700
TZNAME:PDT
DTSTART:20240310T100000
END:DAYLIGHT
BEGIN:STANDARD
TZOFFSETFROM:-0700
TZOFFSETTO:-0800
TZNAME:PST
DTSTART:20241103T090000
END:STANDARD
END:VTIMEZONE
BEGIN:VEVENT
DTSTART;TZID=America/Los_Angeles:20231205T090000
DTEND;TZID=America/Los_Angeles:20231205T103000
DTSTAMP:20260421T190523
CREATED:20230708T001408Z
LAST-MODIFIED:20231204T184951Z
UID:1812174-1701766800-1701772200@ramayogainstitute.com
SUMMARY:Kundalini Yoga & Meditation with Sansaree
DESCRIPTION:TUNE IN LIVE OR IN PERSON\nSansaree has been a student of the teachings since 2007\, she is deeply committed to helping you unlock your inner potential and achieve harmonious balance of mind\, body and soul. Her personal journey with Kundalini began as a quest for inner peace and self discovery and has since become her mission to share the ancient wisdom with others
URL:https://ramayogainstitute.com/event/kundalini-yoga-meditation-with-mandev-11-2023-12-05/
LOCATION:Online
CATEGORIES:In Person,RA MA TV Live
ATTACH;FMTTYPE=image/jpeg:https://ramayogainstitute.com/wp-content/uploads/2023/07/sansaree.jpg
END:VEVENT
BEGIN:VEVENT
DTSTART;TZID=America/Los_Angeles:20231122T090000
DTEND;TZID=America/Los_Angeles:20231122T103000
DTSTAMP:20260421T190523
CREATED:20230708T001408Z
LAST-MODIFIED:20231120T192032Z
UID:1812164-1700643600-1700649000@ramayogainstitute.com
SUMMARY:Kundalini Yoga & Meditation with Sansaree
DESCRIPTION:TUNE IN LIVE OR IN PERSON\nSansaree has been a student of the teachings since 2007\, she is deeply committed to helping you unlock your inner potential and achieve harmonious balance of mind\, body and soul. Her personal journey with Kundalini began as a quest for inner peace and self discovery and has since become her mission to share the ancient wisdom with others
URL:https://ramayogainstitute.com/event/kundalini-yoga-meditation-with-mandev-11-2023-11-22/
LOCATION:Online
CATEGORIES:In Person,RA MA TV Live
ATTACH;FMTTYPE=image/jpeg:https://ramayogainstitute.com/wp-content/uploads/2023/07/sansaree.jpg
END:VEVENT
BEGIN:VEVENT
DTSTART;TZID=America/Los_Angeles:20231116T090000
DTEND;TZID=America/Los_Angeles:20231116T103000
DTSTAMP:20260421T190523
CREATED:20230708T001408Z
LAST-MODIFIED:20231116T050652Z
UID:1812032-1700125200-1700130600@ramayogainstitute.com
SUMMARY:Kundalini Yoga & Meditation with Sansaree
DESCRIPTION:TUNE IN LIVE OR IN PERSON\nSansaree has been a student of the teachings since 2007\, she is deeply committed to helping you unlock your inner potential and achieve harmonious balance of mind\, body and soul. Her personal journey with Kundalini began as a quest for inner peace and self discovery and\, has since become her mission to share the ancient wisdom with others \n 
URL:https://ramayogainstitute.com/event/kundalini-yoga-meditation-with-mandev-11/
LOCATION:Online
CATEGORIES:In Person,RA MA TV Live
ATTACH;FMTTYPE=image/jpeg:https://ramayogainstitute.com/wp-content/uploads/2023/07/sansaree.jpg
END:VEVENT
BEGIN:VEVENT
DTSTART;TZID=America/Los_Angeles:20231102T090000
DTEND;TZID=America/Los_Angeles:20231102T103000
DTSTAMP:20260421T190523
CREATED:20231025T162743Z
LAST-MODIFIED:20231101T223741Z
UID:1863755-1698915600-1698921000@ramayogainstitute.com
SUMMARY:Kundalini Yoga & Meditation with Sansaree
DESCRIPTION:TUNE IN\nSansaree has been a student of the teachings since 2007\, she is deeply committed to helping you unlock your inner potential and achieve harmonious balance of mind\, body and soul. Her personal journey with Kundalini began as a quest for inner peace and self discovery and has since become her mission to share the ancient wisdom with others.
URL:https://ramayogainstitute.com/event/kundalini-yoga-meditation-with-sansaree-2/
LOCATION:Online
CATEGORIES:In Person,RA MA TV Live
ATTACH;FMTTYPE=image/jpeg:https://ramayogainstitute.com/wp-content/uploads/2023/10/Sansaree-1.jpg
END:VEVENT
BEGIN:VEVENT
DTSTART;TZID=America/Los_Angeles:20231020T090000
DTEND;TZID=America/Los_Angeles:20231020T103000
DTSTAMP:20260421T190523
CREATED:20231019T024010Z
LAST-MODIFIED:20231019T032419Z
UID:1862086-1697792400-1697797800@ramayogainstitute.com
SUMMARY:Kundalini Yoga & Meditation with Sansaree
DESCRIPTION:TUNE IN\nSansaree has been a student of the teachings since 2007\, she is deeply committed to helping you unlock your inner potential and achieve harmonious balance of mind\, body and soul. Her personal journey with Kundalini began as a quest for inner peace and self discovery and has since become her mission to share the ancient wisdom with others. \n 
URL:https://ramayogainstitute.com/event/kundalini-yoga-meditation-with-sansaree/
LOCATION:Online
CATEGORIES:In Person,RA MA TV Live
ATTACH;FMTTYPE=image/jpeg:https://ramayogainstitute.com/wp-content/uploads/2023/10/Sansaree.jpg
END:VEVENT
END:VCALENDAR