BEGIN:VCALENDAR
VERSION:2.0
PRODID:-//RA MA LIFE - ECPv6.15.15//NONSGML v1.0//EN
CALSCALE:GREGORIAN
METHOD:PUBLISH
X-ORIGINAL-URL:https://ramayogainstitute.com
X-WR-CALDESC:Events for RA MA LIFE
REFRESH-INTERVAL;VALUE=DURATION:PT1H
X-Robots-Tag:noindex
X-PUBLISHED-TTL:PT1H
BEGIN:VTIMEZONE
TZID:America/Los_Angeles
BEGIN:DAYLIGHT
TZOFFSETFROM:-0800
TZOFFSETTO:-0700
TZNAME:PDT
DTSTART:20230312T100000
END:DAYLIGHT
BEGIN:STANDARD
TZOFFSETFROM:-0700
TZOFFSETTO:-0800
TZNAME:PST
DTSTART:20231105T090000
END:STANDARD
BEGIN:DAYLIGHT
TZOFFSETFROM:-0800
TZOFFSETTO:-0700
TZNAME:PDT
DTSTART:20240310T100000
END:DAYLIGHT
BEGIN:STANDARD
TZOFFSETFROM:-0700
TZOFFSETTO:-0800
TZNAME:PST
DTSTART:20241103T090000
END:STANDARD
BEGIN:DAYLIGHT
TZOFFSETFROM:-0800
TZOFFSETTO:-0700
TZNAME:PDT
DTSTART:20250309T100000
END:DAYLIGHT
BEGIN:STANDARD
TZOFFSETFROM:-0700
TZOFFSETTO:-0800
TZNAME:PST
DTSTART:20251102T090000
END:STANDARD
END:VTIMEZONE
BEGIN:VEVENT
DTSTART;TZID=America/Los_Angeles:20240123T160000
DTEND;TZID=America/Los_Angeles:20240123T180000
DTSTAMP:20260422T093043
CREATED:20240120T101313Z
LAST-MODIFIED:20240123T195117Z
UID:1890332-1706025600-1706032800@ramayogainstitute.com
SUMMARY:KUNDALINI\, YOGIC SCIENCE &  THE MAGIC OF SEXUAL POTENCY|  Talk\, Yogic Practice and Q&A with Pritam Siri & NAHILA
DESCRIPTION:SIGN UP\nTUNE IN\nKUNDALINI\, YOGIC SCIENCE &\nTHE MAGIC OF SEXUAL POTENCY \nTalk\, Yogic Practice and Q&A with Pritam Siri & NAHILA \nA full sensual journey and introduction into the vast kundalini teachings\nfor healthy\, intelligent\, positive and spirit-filled sex. All genders welcome. \nTuesday\, January 23\, 2024\n7:00pm – 9:00pm EST \n$40 Drop-in or RA MA Class Pass\nRA MA TV LIVE
URL:https://ramayogainstitute.com/event/kundalini-yogic-science-the-magic-of-sexual-potency-talk-yogic-practice-and-qa-with-pritam-siri-nahila/
LOCATION:RA MA New York & Online
CATEGORIES:In Person,Pay Per View Workshops,RA MA TV Live
ATTACH;FMTTYPE=image/jpeg:https://ramayogainstitute.com/wp-content/uploads/2024/01/MagicSexualPotency_Header.jpg
END:VEVENT
END:VCALENDAR