BEGIN:VCALENDAR
VERSION:2.0
PRODID:-//RA MA LIFE - ECPv6.15.15//NONSGML v1.0//EN
CALSCALE:GREGORIAN
METHOD:PUBLISH
X-WR-CALNAME:RA MA LIFE
X-ORIGINAL-URL:https://ramayogainstitute.com
X-WR-CALDESC:Events for RA MA LIFE
REFRESH-INTERVAL;VALUE=DURATION:PT1H
X-Robots-Tag:noindex
X-PUBLISHED-TTL:PT1H
BEGIN:VTIMEZONE
TZID:America/Los_Angeles
BEGIN:DAYLIGHT
TZOFFSETFROM:-0800
TZOFFSETTO:-0700
TZNAME:PDT
DTSTART:20230312T100000
END:DAYLIGHT
BEGIN:STANDARD
TZOFFSETFROM:-0700
TZOFFSETTO:-0800
TZNAME:PST
DTSTART:20231105T090000
END:STANDARD
BEGIN:DAYLIGHT
TZOFFSETFROM:-0800
TZOFFSETTO:-0700
TZNAME:PDT
DTSTART:20240310T100000
END:DAYLIGHT
BEGIN:STANDARD
TZOFFSETFROM:-0700
TZOFFSETTO:-0800
TZNAME:PST
DTSTART:20241103T090000
END:STANDARD
BEGIN:DAYLIGHT
TZOFFSETFROM:-0800
TZOFFSETTO:-0700
TZNAME:PDT
DTSTART:20250309T100000
END:DAYLIGHT
BEGIN:STANDARD
TZOFFSETFROM:-0700
TZOFFSETTO:-0800
TZNAME:PST
DTSTART:20251102T090000
END:STANDARD
END:VTIMEZONE
BEGIN:VEVENT
DTSTART;TZID=America/Los_Angeles:20240706T040000
DTEND;TZID=America/Los_Angeles:20240706T070000
DTSTAMP:20260421T204135
CREATED:20240626T192146Z
LAST-MODIFIED:20240706T001147Z
UID:1931099-1720238400-1720249200@ramayogainstitute.com
SUMMARY:Sadhana| Guru Ram Das Meditation for Harijiwan
DESCRIPTION:TUNE IN\nWe will begin with Japji recitation followed by 2.5 hours Guru Ram Das Healing Meditation \nThe front entrance is locked for this early morning practice. Please enter through the rear door\, 1729 21st Court\, which can be accessed via the back alley that runs parallel to 21st Street. \nDaily\, 4:00am-7:00am PST\nComplementary in person\nAnd on RA MA TV Community Content Channel
URL:https://ramayogainstitute.com/event/white-sun-sadhana-16/
LOCATION:Online
CATEGORIES:Community Content,In Person,RA MA TV Live
ATTACH;FMTTYPE=image/jpeg:https://ramayogainstitute.com/wp-content/uploads/2024/06/IMG_0457.jpg
END:VEVENT
END:VCALENDAR