BEGIN:VCALENDAR
VERSION:2.0
PRODID:-//RA MA LIFE - ECPv6.15.15//NONSGML v1.0//EN
CALSCALE:GREGORIAN
METHOD:PUBLISH
X-ORIGINAL-URL:https://ramayogainstitute.com
X-WR-CALDESC:Events for RA MA LIFE
REFRESH-INTERVAL;VALUE=DURATION:PT1H
X-Robots-Tag:noindex
X-PUBLISHED-TTL:PT1H
BEGIN:VTIMEZONE
TZID:America/Los_Angeles
BEGIN:DAYLIGHT
TZOFFSETFROM:-0800
TZOFFSETTO:-0700
TZNAME:PDT
DTSTART:20220313T100000
END:DAYLIGHT
BEGIN:STANDARD
TZOFFSETFROM:-0700
TZOFFSETTO:-0800
TZNAME:PST
DTSTART:20221106T090000
END:STANDARD
BEGIN:DAYLIGHT
TZOFFSETFROM:-0800
TZOFFSETTO:-0700
TZNAME:PDT
DTSTART:20230312T100000
END:DAYLIGHT
BEGIN:STANDARD
TZOFFSETFROM:-0700
TZOFFSETTO:-0800
TZNAME:PST
DTSTART:20231105T090000
END:STANDARD
BEGIN:DAYLIGHT
TZOFFSETFROM:-0800
TZOFFSETTO:-0700
TZNAME:PDT
DTSTART:20240310T100000
END:DAYLIGHT
BEGIN:STANDARD
TZOFFSETFROM:-0700
TZOFFSETTO:-0800
TZNAME:PST
DTSTART:20241103T090000
END:STANDARD
END:VTIMEZONE
BEGIN:VEVENT
DTSTART;TZID=America/Los_Angeles:20231021T150000
DTEND;TZID=America/Los_Angeles:20231021T170000
DTSTAMP:20260422T122728
CREATED:20231011T010236Z
LAST-MODIFIED:20231018T010736Z
UID:1860380-1697900400-1697907600@ramayogainstitute.com
SUMMARY:Breathwork | Connecting to our Angels\, Allies & Ancestors
DESCRIPTION:SIGN UP\nTUNE IN\nBreathwork | Connecting to our Angels\, Allies & Ancestors\nA Breathwork Circle with Neelou Malekpour\nSaturday\, October 21\, 2023\n6:00pm – 8:00pm EDT\n$50 In Advance\, $55 Day Of \nThis is a two-part workshop \n*Arrive with an empty stomach* \nDuring this time of year\, around All Hallows\, the veil between this world and others becomes much thinner and it becomes easier to connect to the love\, light\, and support provided by our ethereal guardians. This two-part workshop will support our connection to our Angels\, Allies\, and Ancestors reminding us that we are always in communion with a magical support system that can help us navigate our lives with greater ease and grace. \nFirst\, Neelou will guide you through some gentle movement followed by journal prompts to bring to the surface anything that no longer serves. Next\, she will guide you into a third-eye opening\, connecting to your personal energetic support system\, followed by a transformational breathwork journey. \nAbout the method Breathwork is an experience based in wholeness. It is a powerful healing modality utilizing the breath to heal old patterns\, dislodge stuck energy\, and balance the chakras. Practicing in a group setting has a powerful collective healing energy that facilitates deep release. Neelou’s style of breathwork incorporates a two-part breath and an exhale. It’s as simple as it is transformational and works to restore the healthy flow of Qi in our bodies. By breathing deeply you oxygenate the areas of your body that need extra attention\, releasing any blockages\, or stuckness\, in order to release the energy to flow freely. The physical and mental health benefits are truly transformational \nThe health benefits are truly transformational: \n• Boosts your circulation \n• Reduces stress \n• Creates feelings of openness \n• It connects you to feelings of love\, peace\, gratitude\, clarity\, communication\, and connection \n• Helps release mental and physical trauma \n• Assists in healing from grief \n• And alleviates anxiety and depression \n 
URL:https://ramayogainstitute.com/event/breathwork-connecting-to-our-angels-allies-ancestors/
LOCATION:RA MA Intitute New York and online
CATEGORIES:Courses & Events,In Person,Pay Per View Workshops
ATTACH;FMTTYPE=image/jpeg:https://ramayogainstitute.com/wp-content/uploads/2023/10/RAMA_Teacher_Breathwork_Neelou_Header.jpg
END:VEVENT
BEGIN:VEVENT
DTSTART;TZID=America/Los_Angeles:20230325T170000
DTEND;TZID=America/Los_Angeles:20230325T190000
DTSTAMP:20260422T122728
CREATED:20230317T024048Z
LAST-MODIFIED:20230317T024048Z
UID:1781808-1679763600-1679770800@ramayogainstitute.com
SUMMARY:Spring Renewal Breathwork
DESCRIPTION:Breathwork is an experience based in wholeness. It is a powerful healing modality utilizing the breath to heal old patterns\, dislodge stuck energy\, and balance the chakras. Practicing in a group setting has a powerful collective healing energy that facilitates deep release. The style of breathwork Neelou facilitates incorporates a three-part breath and is as simple as it is transformational\, and works to restore the healthy flow of Qi in our bodies. By breathing deeply you oxygenate the areas of your body that need extra attention\, releasing any blockages\, or stuckness\, in order to release the energy to flow freely. \nABOUT NEELOU: Neelou Malekpour was born in Seattle and raised in Tehran\, before moving to Los Angeles during the Iranian Revolution. She started SMUDGED as a tribute to her late grandmother\, who taught her to be responsible for the vibrations she put out into the world. Neelou’s first book\, The Art of Sacred Smoke\, published by Penguin Random House\, was released in March of 2022. She has more than seven years of experience teaching breathwork\, sacred smoke\, and mindfulness workshops to individuals as well as corporations.
URL:https://ramayogainstitute.com/event/spring-renewal-breathwork/
LOCATION:Online
CATEGORIES:In Person,Pay Per View Workshops
ATTACH;FMTTYPE=image/jpeg:https://ramayogainstitute.com/wp-content/uploads/2021/02/TripleRoyalSPRING3.jpg
END:VEVENT
END:VCALENDAR