BEGIN:VCALENDAR
VERSION:2.0
PRODID:-//RA MA LIFE - ECPv6.15.15//NONSGML v1.0//EN
CALSCALE:GREGORIAN
METHOD:PUBLISH
X-WR-CALNAME:RA MA LIFE
X-ORIGINAL-URL:https://ramayogainstitute.com
X-WR-CALDESC:Events for RA MA LIFE
REFRESH-INTERVAL;VALUE=DURATION:PT1H
X-Robots-Tag:noindex
X-PUBLISHED-TTL:PT1H
BEGIN:VTIMEZONE
TZID:America/Los_Angeles
BEGIN:DAYLIGHT
TZOFFSETFROM:-0800
TZOFFSETTO:-0700
TZNAME:PDT
DTSTART:20230312T100000
END:DAYLIGHT
BEGIN:STANDARD
TZOFFSETFROM:-0700
TZOFFSETTO:-0800
TZNAME:PST
DTSTART:20231105T090000
END:STANDARD
BEGIN:DAYLIGHT
TZOFFSETFROM:-0800
TZOFFSETTO:-0700
TZNAME:PDT
DTSTART:20240310T100000
END:DAYLIGHT
BEGIN:STANDARD
TZOFFSETFROM:-0700
TZOFFSETTO:-0800
TZNAME:PST
DTSTART:20241103T090000
END:STANDARD
BEGIN:DAYLIGHT
TZOFFSETFROM:-0800
TZOFFSETTO:-0700
TZNAME:PDT
DTSTART:20250309T100000
END:DAYLIGHT
BEGIN:STANDARD
TZOFFSETFROM:-0700
TZOFFSETTO:-0800
TZNAME:PST
DTSTART:20251102T090000
END:STANDARD
END:VTIMEZONE
BEGIN:VEVENT
DTSTART;TZID=America/Los_Angeles:20240607T030000
DTEND;TZID=America/Los_Angeles:20240607T033000
DTSTAMP:20260421T205625
CREATED:20240531T182803Z
LAST-MODIFIED:20240601T155153Z
UID:1924988-1717729200-1717731000@ramayogainstitute.com
SUMMARY:ASTROLOGY FORECAST FOR JUNE with Magdalena
DESCRIPTION:TUNE IN\nAstrology Forecast for June
URL:https://ramayogainstitute.com/event/astrology-forecast-for-june-with-magdalena/
LOCATION:RA MA Mallorca & Online
CATEGORIES:Community Content,In Person,RA MA TV Live
ATTACH;FMTTYPE=image/jpeg:https://ramayogainstitute.com/wp-content/uploads/2020/12/MAGDALENA_Mallorca_Header.jpg
END:VEVENT
BEGIN:VEVENT
DTSTART;TZID=America/Los_Angeles:20240506T030000
DTEND;TZID=America/Los_Angeles:20240506T033000
DTSTAMP:20260421T205625
CREATED:20240504T194050Z
LAST-MODIFIED:20240504T194050Z
UID:1918054-1714964400-1714966200@ramayogainstitute.com
SUMMARY:Astrology Forecast with Magdalena
DESCRIPTION:TUNE IN\nAstrology Forecast with Magdalena
URL:https://ramayogainstitute.com/event/astrology-forecast-with-magdalena/
LOCATION:RA MA Mallorca & Online
CATEGORIES:In Person,RA MA TV Live
ATTACH;FMTTYPE=image/jpeg:https://ramayogainstitute.com/wp-content/uploads/2020/12/MAGDALENA_Mallorca_Header.jpg
END:VEVENT
BEGIN:VEVENT
DTSTART;TZID=America/Los_Angeles:20240419T003000
DTEND;TZID=America/Los_Angeles:20240419T020000
DTSTAMP:20260421T205625
CREATED:20240419T033305Z
LAST-MODIFIED:20240419T033305Z
UID:1914587-1713486600-1713492000@ramayogainstitute.com
SUMMARY:Tending to the fire Within| Kundalini Yoga & Meditation with Magdalena
DESCRIPTION:All Levels Kundalini Yoga & Meditation
URL:https://ramayogainstitute.com/event/tending-to-the-fire-within-kundalini-yoga-meditation-with-magdalena/
LOCATION:RA MA Mallorca & Online
CATEGORIES:In Person,RA MA TV Live
ATTACH;FMTTYPE=image/png:https://ramayogainstitute.com/wp-content/uploads/2023/04/magdalena-lawniczek.png
END:VEVENT
BEGIN:VEVENT
DTSTART;TZID=America/Los_Angeles:20240404T030000
DTEND;TZID=America/Los_Angeles:20240404T033000
DTSTAMP:20260421T205625
CREATED:20240403T173853Z
LAST-MODIFIED:20240403T174413Z
UID:1910002-1712199600-1712201400@ramayogainstitute.com
SUMMARY:April Astrology Forecast with Magdalena
DESCRIPTION:TUNE IN\nApril Astrology Forecast
URL:https://ramayogainstitute.com/event/april-astrology-forecast-with-magdalena/
LOCATION:RA MA Mallorca & Online
CATEGORIES:Community Content,In Person,RA MA TV Live
ATTACH;FMTTYPE=image/jpeg:https://ramayogainstitute.com/wp-content/uploads/2020/12/MAGDALENA_Mallorca_Header.jpg
END:VEVENT
BEGIN:VEVENT
DTSTART;TZID=America/Los_Angeles:20240305T043000
DTEND;TZID=America/Los_Angeles:20240305T050000
DTSTAMP:20260421T205625
CREATED:20240304T004049Z
LAST-MODIFIED:20240304T010004Z
UID:1900340-1709613000-1709614800@ramayogainstitute.com
SUMMARY:Astro Forecast with Magdalena
DESCRIPTION:TUNE IN\nAstro Forecast with Magdalena
URL:https://ramayogainstitute.com/event/astro-fore-cast-with-magdalena/
LOCATION:RA MA Mallorca & Online
CATEGORIES:Community Content,RA MA TV Live
ATTACH;FMTTYPE=image/jpeg:https://ramayogainstitute.com/wp-content/uploads/2024/01/magdalena-pluto-aquarius-2-scaled.jpg
END:VEVENT
END:VCALENDAR