BEGIN:VCALENDAR
VERSION:2.0
PRODID:-//RA MA LIFE - ECPv6.15.15//NONSGML v1.0//EN
CALSCALE:GREGORIAN
METHOD:PUBLISH
X-ORIGINAL-URL:https://ramayogainstitute.com
X-WR-CALDESC:Events for RA MA LIFE
REFRESH-INTERVAL;VALUE=DURATION:PT1H
X-Robots-Tag:noindex
X-PUBLISHED-TTL:PT1H
BEGIN:VTIMEZONE
TZID:America/Los_Angeles
BEGIN:DAYLIGHT
TZOFFSETFROM:-0800
TZOFFSETTO:-0700
TZNAME:PDT
DTSTART:20220313T100000
END:DAYLIGHT
BEGIN:STANDARD
TZOFFSETFROM:-0700
TZOFFSETTO:-0800
TZNAME:PST
DTSTART:20221106T090000
END:STANDARD
BEGIN:DAYLIGHT
TZOFFSETFROM:-0800
TZOFFSETTO:-0700
TZNAME:PDT
DTSTART:20230312T100000
END:DAYLIGHT
BEGIN:STANDARD
TZOFFSETFROM:-0700
TZOFFSETTO:-0800
TZNAME:PST
DTSTART:20231105T090000
END:STANDARD
BEGIN:DAYLIGHT
TZOFFSETFROM:-0800
TZOFFSETTO:-0700
TZNAME:PDT
DTSTART:20240310T100000
END:DAYLIGHT
BEGIN:STANDARD
TZOFFSETFROM:-0700
TZOFFSETTO:-0800
TZNAME:PST
DTSTART:20241103T090000
END:STANDARD
END:VTIMEZONE
BEGIN:VEVENT
DTSTART;TZID=America/Los_Angeles:20230120T090000
DTEND;TZID=America/Los_Angeles:20230120T103000
DTSTAMP:20260422T213013
CREATED:20230112T060346Z
LAST-MODIFIED:20230112T060346Z
UID:1765516-1674205200-1674210600@ramayogainstitute.com
SUMMARY:Kundalini Yoga & Meditation with Kirti Preet Kaur
DESCRIPTION:TUNE IN\nKirti Preet Kaur is a behavioral therapist and a multidimensional wellness practitioner. \nKirti’s wellness work is centered on four pillars: integrity\, a commitment to excellence\, trust\, and a servants heart. She works with corporate teams\, schools\, and people from all walks of life to align body\, mind\, and soul through a variety of modalities\, including sound healing\, reiki\, kundalini yoga\, hypnotherapy\, meditation\, vocal coaching\, breathwork\, and intuitive guidance. \nHer services are offered at the La Prairie Spa at Waldorf Astoria in Beverly Hills\, where she is a Forbes-trained and Forbes 5 Star practitioner. She provided the inspiration for the spa’s new Wellness Menu that incorporates Eastern modalities of health and wellness into a luxury setting. \nIn her work as a therapist\, Kirti serves special needs children and families. She was drawn to become a student of psychology after discovering that her son was special needs. Her own experience and intensive training allow her to offer an empathetic\, heart-led approach to healing and creative expression of the divine self. \n@kirti_wellness
URL:https://ramayogainstitute.com/event/kundalini-yoga-meditation-with-kirti-preet-kaur/
LOCATION:Online
CATEGORIES:In Person,RA MA TV Live
ATTACH;FMTTYPE=image/jpeg:https://ramayogainstitute.com/wp-content/uploads/2023/01/Kirti-Preet-Kaur.jpg
END:VEVENT
END:VCALENDAR