BEGIN:VCALENDAR
VERSION:2.0
PRODID:-//RA MA LIFE - ECPv6.15.15//NONSGML v1.0//EN
CALSCALE:GREGORIAN
METHOD:PUBLISH
X-WR-CALNAME:RA MA LIFE
X-ORIGINAL-URL:https://ramayogainstitute.com
X-WR-CALDESC:Events for RA MA LIFE
REFRESH-INTERVAL;VALUE=DURATION:PT1H
X-Robots-Tag:noindex
X-PUBLISHED-TTL:PT1H
BEGIN:VTIMEZONE
TZID:America/Los_Angeles
BEGIN:DAYLIGHT
TZOFFSETFROM:-0800
TZOFFSETTO:-0700
TZNAME:PDT
DTSTART:20210314T100000
END:DAYLIGHT
BEGIN:STANDARD
TZOFFSETFROM:-0700
TZOFFSETTO:-0800
TZNAME:PST
DTSTART:20211107T090000
END:STANDARD
BEGIN:DAYLIGHT
TZOFFSETFROM:-0800
TZOFFSETTO:-0700
TZNAME:PDT
DTSTART:20220313T100000
END:DAYLIGHT
BEGIN:STANDARD
TZOFFSETFROM:-0700
TZOFFSETTO:-0800
TZNAME:PST
DTSTART:20221106T090000
END:STANDARD
BEGIN:DAYLIGHT
TZOFFSETFROM:-0800
TZOFFSETTO:-0700
TZNAME:PDT
DTSTART:20230312T100000
END:DAYLIGHT
BEGIN:STANDARD
TZOFFSETFROM:-0700
TZOFFSETTO:-0800
TZNAME:PST
DTSTART:20231105T090000
END:STANDARD
BEGIN:DAYLIGHT
TZOFFSETFROM:-0800
TZOFFSETTO:-0700
TZNAME:PDT
DTSTART:20240310T100000
END:DAYLIGHT
BEGIN:STANDARD
TZOFFSETFROM:-0700
TZOFFSETTO:-0800
TZNAME:PST
DTSTART:20241103T090000
END:STANDARD
END:VTIMEZONE
BEGIN:VEVENT
DTSTART;TZID=America/Los_Angeles:20231105T074500
DTEND;TZID=America/Los_Angeles:20231105T083000
DTSTAMP:20260422T224508
CREATED:20221023T082553Z
LAST-MODIFIED:20231026T012124Z
UID:1746288-1699170300-1699173000@ramayogainstitute.com
SUMMARY:Long Life Meditation with Kim Krans
DESCRIPTION:TUNE IN\nArtist Kim Krans brings her creative sensibility to her Kundalini Yoga and meditation classes. Using breathwork\, physical posture\, mantra and mudra\, you will activate your own creative force and experience radical transformation.
URL:https://ramayogainstitute.com/event/long-life-meditation-with-santosh/
LOCATION:Online
CATEGORIES:Community Content,In Person,RA MA TV Live
ATTACH;FMTTYPE=image/jpeg:https://ramayogainstitute.com/wp-content/uploads/2023/05/Kim-Krans-Balck-and-White-by-Seva-Jagat-2-e1688785694725.jpg
END:VEVENT
BEGIN:VEVENT
DTSTART;TZID=America/Los_Angeles:20231104T090000
DTEND;TZID=America/Los_Angeles:20231104T103000
DTSTAMP:20260422T224508
CREATED:20231104T024302Z
LAST-MODIFIED:20231104T024302Z
UID:1866544-1699088400-1699093800@ramayogainstitute.com
SUMMARY:Kundalini Yoga & Meditation with Kim Krans
DESCRIPTION:TUNE IN\nArtist Kim Krans brings her creative sensibility to her Kundalini Yoga and meditation classes. Using breathwork\, physical posture\, mantra and mudra\, you will activate your own creative force and experience radical transformation.
URL:https://ramayogainstitute.com/event/kundalini-yoga-meditation-with-kim-krans-12/
LOCATION:Online
CATEGORIES:In Person,RA MA TV Live
ATTACH;FMTTYPE=image/jpeg:https://ramayogainstitute.com/wp-content/uploads/2023/05/Kim-Krans-Balck-and-White-by-Seva-Jagat-2-e1688785694725.jpg
END:VEVENT
BEGIN:VEVENT
DTSTART;TZID=America/Los_Angeles:20231024T190000
DTEND;TZID=America/Los_Angeles:20231024T203000
DTSTAMP:20260422T224508
CREATED:20231017T231550Z
LAST-MODIFIED:20231017T231550Z
UID:1861844-1698174000-1698179400@ramayogainstitute.com
SUMMARY:Kundalini Yoga & Meditation with Kim Krans
DESCRIPTION:TUNE IN\nArtist Kim Krans brings her creative sensibility to her Kundalini Yoga and meditation classes. Using breathwork\, physical posture\, mantra and mudra\, you will activate your own creative force and experience radical transformation.
URL:https://ramayogainstitute.com/event/kundalini-yoga-meditation-with-kim-krans-10/
LOCATION:Online
CATEGORIES:In Person,RA MA TV Live
ATTACH;FMTTYPE=image/jpeg:https://ramayogainstitute.com/wp-content/uploads/2023/05/Kim-Krans-Outside-Black-and-White-by-Seva-Jagat-2.jpg
END:VEVENT
BEGIN:VEVENT
DTSTART;TZID=America/Los_Angeles:20231022T074500
DTEND;TZID=America/Los_Angeles:20231022T083000
DTSTAMP:20260422T224508
CREATED:20221023T082553Z
LAST-MODIFIED:20231019T161756Z
UID:1854855-1697960700-1697963400@ramayogainstitute.com
SUMMARY:Long Life Meditation with  Kim Krans
DESCRIPTION:TUNE IN
URL:https://ramayogainstitute.com/event/long-life-meditation-with-santosh-2023-10-22/
LOCATION:Online
CATEGORIES:Community Content,In Person,RA MA TV Live
ATTACH;FMTTYPE=image/jpeg:https://ramayogainstitute.com/wp-content/uploads/2023/05/NewMoon_KimKrans_Header.jpg
END:VEVENT
BEGIN:VEVENT
DTSTART;TZID=America/Los_Angeles:20231021T090000
DTEND;TZID=America/Los_Angeles:20231021T103000
DTSTAMP:20260422T224508
CREATED:20231010T023715Z
LAST-MODIFIED:20231010T024450Z
UID:1860184-1697878800-1697884200@ramayogainstitute.com
SUMMARY:Kundalini Yoga and Meditation with Kim Krans
DESCRIPTION:TUNE IN\nPritam Siri is an artist and yogi based in New York City. She has dedicated her time to studying\, working\, and traveling with Guru Jagat from 2016 until her passing in 2021. She is an active student of Kundalini Yoga and Meditation as Taught by Yogi Bhajan and is committed to practicing and sharing kundalini yoga technology.\nHer classes are open and welcome to beginners and seasoned practitioners.
URL:https://ramayogainstitute.com/event/kundalini-yoga-and-meditation-with-kim-krans-3/
LOCATION:Online
CATEGORIES:In Person,RA MA TV Live
ATTACH;FMTTYPE=image/jpeg:https://ramayogainstitute.com/wp-content/uploads/2023/05/Kim-Krans-Outside-Black-and-White-by-Seva-Jagat-2.jpg
END:VEVENT
BEGIN:VEVENT
DTSTART;TZID=America/Los_Angeles:20231018T110000
DTEND;TZID=America/Los_Angeles:20231018T120000
DTSTAMP:20260422T224508
CREATED:20231009T185705Z
LAST-MODIFIED:20231009T185705Z
UID:1859777-1697626800-1697630400@ramayogainstitute.com
SUMMARY:Kundalini Yoga & meditation with Kim Krans
DESCRIPTION:TUNE IN\nArtist Kim Krans brings her creative sensibility to her Kundalini Yoga and meditation classes. Using breathwork\, physical posture\, mantra and mudra\, you will activate your own creative force and experience radical transformation.
URL:https://ramayogainstitute.com/event/kundalini-yoga-meditation-with-kim-krans-9/
LOCATION:Online
CATEGORIES:In Person,RA MA TV Live
ATTACH;FMTTYPE=image/jpeg:https://ramayogainstitute.com/wp-content/uploads/2023/05/NewMoon_KimKrans_Header.jpg
END:VEVENT
BEGIN:VEVENT
DTSTART;TZID=America/Los_Angeles:20231018T090000
DTEND;TZID=America/Los_Angeles:20231018T103000
DTSTAMP:20260422T224508
CREATED:20230708T001408Z
LAST-MODIFIED:20231009T185012Z
UID:1812135-1697619600-1697625000@ramayogainstitute.com
SUMMARY:Kundalini Yoga & Meditation with Kim Krans
DESCRIPTION:TUNE IN LIVE OR IN PERSON\nWEDNESDAYS 9am-10:30AM PDT\nVirtually on RA MA TV Live\nIn Person @ RA MA Los Angeles \nAbout Kim Krans \nArtist Kim Krans brings her creative sensibility to her Kundalini Yoga and meditation classes. Using breathwork\, physical posture\, mantra and mudra\, you will activate your own creative force and experience radical transformation.
URL:https://ramayogainstitute.com/event/kundalini-yoga-meditation-with-mandev-11-2023-10-19/
LOCATION:Online
CATEGORIES:In Person,RA MA TV Live
ATTACH;FMTTYPE=image/jpeg:https://ramayogainstitute.com/wp-content/uploads/2023/05/NewMoon_KimKrans_Header.jpg
END:VEVENT
BEGIN:VEVENT
DTSTART;TZID=America/Los_Angeles:20231017T190000
DTEND;TZID=America/Los_Angeles:20231017T203000
DTSTAMP:20260422T224508
CREATED:20231010T011941Z
LAST-MODIFIED:20231010T011941Z
UID:1860156-1697569200-1697574600@ramayogainstitute.com
SUMMARY:Kundalini Yoga and Meditation with Kim Krans
DESCRIPTION:TUNE IN \nArtist Kim Krans brings her creative sensibility to her Kundalini Yoga and meditation classes. Using breathwork\, physical posture\, mantra and mudra\, you will activate your own creative force and experience radical transformation.
URL:https://ramayogainstitute.com/event/kundalini-yoga-and-meditation-with-kim-krans/2023-10-17/
LOCATION:Online
CATEGORIES:In Person,RA MA TV Live
ATTACH;FMTTYPE=image/jpeg:https://ramayogainstitute.com/wp-content/uploads/2023/05/Kim-Krans-Outside-Black-and-White-by-Seva-Jagat-2.jpg
END:VEVENT
BEGIN:VEVENT
DTSTART;TZID=America/Los_Angeles:20231017T090000
DTEND;TZID=America/Los_Angeles:20231017T103000
DTSTAMP:20260422T224508
CREATED:20230708T001408Z
LAST-MODIFIED:20231009T184413Z
UID:1812134-1697533200-1697538600@ramayogainstitute.com
SUMMARY:Kundalini Yoga & Meditation with Kim Krans
DESCRIPTION:TUNE IN LIVE OR IN PERSON\nTUESDAY| 9am-10:30AM PDT\nVirtually on RA MA TV Live\nIn Person @ RA MA Los Angeles \nAbout Kim Krans \nArtist Kim Krans brings her creative sensibility to her Kundalini Yoga and meditation classes. Using breathwork\, physical posture\, mantra and mudra\, you will activate your own creative force and experience radical transformation. \n 
URL:https://ramayogainstitute.com/event/kundalini-yoga-meditation-with-mandev-11-2023-10-18/
LOCATION:Online
CATEGORIES:In Person,RA MA TV Live
ATTACH;FMTTYPE=image/jpeg:https://ramayogainstitute.com/wp-content/uploads/2023/05/NewMoon_KimKrans_Header.jpg
END:VEVENT
BEGIN:VEVENT
DTSTART;TZID=America/Los_Angeles:20231012T190000
DTEND;TZID=America/Los_Angeles:20231012T203000
DTSTAMP:20260422T224508
CREATED:20230308T220405Z
LAST-MODIFIED:20231003T234248Z
UID:1795651-1697137200-1697142600@ramayogainstitute.com
SUMMARY:Kundalini Yoga &  Meditation  with Kim Krans
DESCRIPTION:TUNE IN\n\nTUESDAYS| 7:00PM-8:30PM PDT\nVirtually on RA MA TV Live\nIn Person @ RA MA Los Angeles\n\nAbout Kim Krans\n\nArtist Kim Krans brings her creative sensibility to her Kundalini Yoga and meditation classes. Using breathwork\, physical posture\, mantra and mudra\, you will activate your own creative force and experience radical transformation.\n\n 
URL:https://ramayogainstitute.com/event/kundalini-yoga-meditation-with-shabadpreet-2-2023-05-23-2023-09-07-2023-09-12-2023-09-19-2023-09-21-2023-10-12/
LOCATION:Online
CATEGORIES:In Person,RA MA TV Live
ATTACH;FMTTYPE=image/jpeg:https://ramayogainstitute.com/wp-content/uploads/2023/05/Kim-Krans-Outside-Black-and-White-by-Seva-Jagat-2.jpg
END:VEVENT
BEGIN:VEVENT
DTSTART;TZID=America/Los_Angeles:20231011T090000
DTEND;TZID=America/Los_Angeles:20231011T103000
DTSTAMP:20260422T224508
CREATED:20231006T163954Z
LAST-MODIFIED:20231006T163954Z
UID:1859176-1697014800-1697020200@ramayogainstitute.com
SUMMARY:Kundalini Yoga & Meditation with Kim Krans
DESCRIPTION:TUNE IN\nArtist Kim Krans brings her creative sensibility to her Kundalini Yoga and meditation classes. Using breathwork\, physical posture\, mantra and mudra\, you will activate your own creative force and experience radical transformation.
URL:https://ramayogainstitute.com/event/kundalini-yoga-meditation-with-kim-krans-8/
LOCATION:Online
CATEGORIES:In Person,RA MA TV Live
ATTACH;FMTTYPE=image/jpeg:https://ramayogainstitute.com/wp-content/uploads/2023/05/Kim-Krans-Balck-and-White-by-Seva-Jagat-2-e1688785694725.jpg
END:VEVENT
BEGIN:VEVENT
DTSTART;TZID=America/Los_Angeles:20231010T090000
DTEND;TZID=America/Los_Angeles:20231010T103000
DTSTAMP:20260422T224508
CREATED:20231006T163708Z
LAST-MODIFIED:20231009T023912Z
UID:1859173-1696928400-1696933800@ramayogainstitute.com
SUMMARY:Kundalini Yoga & Meditation with Kim Krans
DESCRIPTION:TUNE IN\nArtist Kim Krans brings her creative sensibility to her Kundalini Yoga and meditation classes. Using breathwork\, physical posture\, mantra and mudra\, you will activate your own creative force and experience radical transformation.
URL:https://ramayogainstitute.com/event/kundalini-yoga-meditation-with-kim-krans-7/
LOCATION:Online
CATEGORIES:In Person,RA MA TV Live
ATTACH;FMTTYPE=image/jpeg:https://ramayogainstitute.com/wp-content/uploads/2023/05/Kim-Krans-Balck-and-White-by-Seva-Jagat-2-e1688785694725.jpg
END:VEVENT
BEGIN:VEVENT
DTSTART;TZID=America/Los_Angeles:20231002T190000
DTEND;TZID=America/Los_Angeles:20231002T203000
DTSTAMP:20260422T224508
CREATED:20230930T172057Z
LAST-MODIFIED:20231002T041618Z
UID:1855572-1696273200-1696278600@ramayogainstitute.com
SUMMARY:BEAM: Kundalini Yoga and Meditation with Kim Krans
DESCRIPTION:TUNE IN\nArtist Kim Krans brings her creative sensibility to her Kundalini Yoga and meditation classes. Using breathwork\, physical posture\, mantra and mudra\, you will activate your own creative force and experience radical transformation. \n@Kim_krans
URL:https://ramayogainstitute.com/event/beam-kundalini-yoga-and-meditation-with-kim-krans/
LOCATION:Online
CATEGORIES:In Person,RA MA TV Live
ATTACH;FMTTYPE=image/jpeg:https://ramayogainstitute.com/wp-content/uploads/2022/07/Kim-Krans.jpg
END:VEVENT
BEGIN:VEVENT
DTSTART;TZID=America/Los_Angeles:20230928T190000
DTEND;TZID=America/Los_Angeles:20230928T203000
DTSTAMP:20260422T224508
CREATED:20230928T221341Z
LAST-MODIFIED:20230928T221434Z
UID:1854453-1695927600-1695933000@ramayogainstitute.com
SUMMARY:Kundalini Yoga & Meditation with Kim Krans
DESCRIPTION:TUNE IN\nArtist Kim Krans brings her creative sensibility to her Kundalini Yoga and meditation classes. Using Breathwork\, physical posture\, mantra and Mudra\, you will activate your own creative force and experience radical transformation. \n@Kim_Krans \n  \n 
URL:https://ramayogainstitute.com/event/kundalini-yoga-meditation-with-kim-krans-6/
LOCATION:Online
CATEGORIES:In Person,RA MA TV Live
ATTACH;FMTTYPE=image/jpeg:https://ramayogainstitute.com/wp-content/uploads/2022/07/Kim-Krans.jpg
END:VEVENT
BEGIN:VEVENT
DTSTART;TZID=America/Los_Angeles:20230927T190000
DTEND;TZID=America/Los_Angeles:20230927T203000
DTSTAMP:20260422T224508
CREATED:20230926T033232Z
LAST-MODIFIED:20230926T033232Z
UID:1850758-1695841200-1695846600@ramayogainstitute.com
SUMMARY:Kundalini Yoga & Meditation with Kim Krans
DESCRIPTION:TUNE IN VIRTUALLY\nOR \nIN PERSON\n  \n\nWEDNESDAY | Sept 27\, 29 | 7:00PM-8:30PM PDT\nVirtually on RA MA TV Live\nIn Person @ RA MA Los Angeles\nAbout Kim Krans\n\nArtist Kim Krans brings her creative sensibility to her Kundalini Yoga and meditation classes. Using breathwork\, physical posture\, mantra and mudra\, you will activate your own creative force and experience radical transformation.
URL:https://ramayogainstitute.com/event/kundalini-yoga-meditation-with-kim-krans-5/
LOCATION:Online
CATEGORIES:In Person,RA MA TV Live
ATTACH;FMTTYPE=image/jpeg:https://ramayogainstitute.com/wp-content/uploads/2023/05/NewMoon_KimKrans_Header.jpg
END:VEVENT
BEGIN:VEVENT
DTSTART;TZID=America/Los_Angeles:20230919T190000
DTEND;TZID=America/Los_Angeles:20230919T203000
DTSTAMP:20260422T224508
CREATED:20230918T200016Z
LAST-MODIFIED:20230918T200413Z
UID:1844007-1695150000-1695155400@ramayogainstitute.com
SUMMARY:HEAL: Kundalini Yoga & Meditation with Kim Krans
DESCRIPTION:TUNE IN\nArtist Kim Krans brings her creative sensibility to her Kundalini Yoga and meditation classes. Using Breathwork\, Asanas\, mantra and Mudra\, you will activate your own creative force and experience radical transformation.
URL:https://ramayogainstitute.com/event/heal-kundalini-yoga-meditation-with-kim-krans/
LOCATION:Online
CATEGORIES:In Person,RA MA TV Live
ATTACH;FMTTYPE=image/jpeg:https://ramayogainstitute.com/wp-content/uploads/2022/06/KimKransSummerSolsticeBanner.jpg
END:VEVENT
BEGIN:VEVENT
DTSTART;TZID=America/Los_Angeles:20230918T173000
DTEND;TZID=America/Los_Angeles:20230918T184500
DTSTAMP:20260422T224508
CREATED:20230918T165349Z
LAST-MODIFIED:20230918T165514Z
UID:1843696-1695058200-1695062700@ramayogainstitute.com
SUMMARY:Kundalini Yoga & Meditation with Kim Krans
DESCRIPTION:TUNE IN\n  \nArtist Kim Krans brings her creative sensibility to her Kundalini Yoga and meditation classes. Using Breathwork\, asanas\, mantra and Mudra\, you will activate your own creative force and experience radical transformation. \n 
URL:https://ramayogainstitute.com/event/kundalini-yoga-meditation-with-kim-krans-4/
LOCATION:Online
CATEGORIES:In Person,RA MA TV Live
ATTACH;FMTTYPE=image/jpeg:https://ramayogainstitute.com/wp-content/uploads/2022/06/Kim-Krans.jpg
END:VEVENT
BEGIN:VEVENT
DTSTART;TZID=America/Los_Angeles:20230914T193000
DTEND;TZID=America/Los_Angeles:20230914T210000
DTSTAMP:20260422T224508
CREATED:20230903T202250Z
LAST-MODIFIED:20230905T190321Z
UID:1830402-1694719800-1694725200@ramayogainstitute.com
SUMMARY:New Moon Nidra: The Starlight Self
DESCRIPTION:SIGN UP\nTUNE IN\n\nNew Moon Nidra: The Starlight Self with Artist Kim Krans\nThursday\, September 14\, 2023\n7:30pm – 9:00pm PDT | 10:30pm – 12:00am EDT | 4:30am – 6:00am CEST \nRA MA Los Angeles\nVirtually on RA MA TV + Infinite Replay \nWe explore the magic and magnitude of the void – known as the shunya or zero point. Find rest and healing in this powerful space\, as visions reveal themselves in the dark. \nAbout Yoga Nidra\nWelcome to the sacred realm of yoga nidra – the threshold between waking and dreaming. Nidra is the home of creativity unbound\, where answers and new visions reveal themselves in the dark. Through effortless awareness\, we reach the subtle center\, where the forces of creativity and healing await. \nJoin visionary artist Kim Krans as she leads us into the liminal realm this new moon. \nPlease note: most of the practice will be experienced lying down. Please wear cozy clothes\, bring a favorite blanket or pillow\, notebook\, and pen. \n\n 
URL:https://ramayogainstitute.com/event/new-moon-nidra-the-starlight-self/
LOCATION:Online
CATEGORIES:In Person,Pay Per View Workshops
ATTACH;FMTTYPE=image/jpeg:https://ramayogainstitute.com/wp-content/uploads/2023/05/Kim-Krans-Balck-and-White-by-Seva-Jagat-2-e1688785694725.jpg
END:VEVENT
BEGIN:VEVENT
DTSTART;TZID=America/Los_Angeles:20230617T190000
DTEND;TZID=America/Los_Angeles:20230617T203000
DTSTAMP:20260422T224508
CREATED:20230609T211942Z
LAST-MODIFIED:20230615T044259Z
UID:1805961-1687028400-1687033800@ramayogainstitute.com
SUMMARY:New Moon Nidra: The Subtle Art of Victory
DESCRIPTION:SIGN UP\nTUNE IN\nNew Moon Nidra: The Subtle Art of Victory with Artist Kim Krans\n7:00pm – 8:30pm PDT\nVirtually on RA MA TV\nIn Person @ RA MA Los Angeles\n$33 \nWelcome to the sacred realm of yoga nidra – the threshold between waking and dreaming. Nidra is the home of creativity unbound\, where answers and new visions reveal themselves in the dark. Through effortless awareness\, we reach the subtle center\, where the forces of creativity and healing await. \nJoin visionary artist Kim Krans as she leads us into the liminal realm this new moon\, June 18. \nPlease note: most of the practice will be experienced lying down. Please wear cozy clothes\, bring a favorite blanket or pillow\, notebook\, and pen. \n  \n 
URL:https://ramayogainstitute.com/event/subtle-art-of-victory/
LOCATION:Online
CATEGORIES:In Person,Pay Per View Workshops
ATTACH;FMTTYPE=image/jpeg:https://ramayogainstitute.com/wp-content/uploads/2023/05/NewMoon_KimKrans_Header.jpg
END:VEVENT
BEGIN:VEVENT
DTSTART;TZID=America/Los_Angeles:20230615T190000
DTEND;TZID=America/Los_Angeles:20230615T203000
DTSTAMP:20260422T224508
CREATED:20230616T010527Z
LAST-MODIFIED:20230617T184847Z
UID:1807213-1686855600-1686861000@ramayogainstitute.com
SUMMARY:Kundalini Yoga & Meditation with Kim Krans
DESCRIPTION:TUNE IN\nArtist Kim Krans brings her creative sensibility to her Kundalini Yoga and meditation classes. Using breathwork\, physical posture\, mantra and mudra\, you will activate your own creative force and experience radical transformation.
URL:https://ramayogainstitute.com/event/kundalini-yoga-meditation-with-kim-krans-2/2023-06-15/
LOCATION:Online
CATEGORIES:In Person,RA MA TV Live
ATTACH;FMTTYPE=image/jpeg:https://ramayogainstitute.com/wp-content/uploads/2022/07/Kim-Krans.jpg
END:VEVENT
BEGIN:VEVENT
DTSTART;TZID=America/Los_Angeles:20230519T193000
DTEND;TZID=America/Los_Angeles:20230519T210000
DTSTAMP:20260422T224508
CREATED:20230513T031223Z
LAST-MODIFIED:20230519T003552Z
UID:1798811-1684524600-1684530000@ramayogainstitute.com
SUMMARY:New Moon Nidra: Creative Visionary Portal
DESCRIPTION:SIGN UP\nTUNE IN\nNew Moon Nidra\nCreative Visionary Portal with Artist Kim Krans\n7:30pm – 9:00pm PDT\nVirtually on RA MA TV\nIn Person @ RA MA Los Angeles\n$33 \nWelcome to the sacred realm of yoga nidra – the threshold between waking and dreaming. Nidra is the home of creativity unbound\, where answers and new visions reveal themselves in the dark. Through effortless awareness we reach the subtle center\, where the forces of creativity and healing await. \nJoin visionary artist Kim Krans as she leads us into the liminal realm this new moon\, May 19. \nPlease note: most of the practice will be experienced lying down. Please wear cozy clothes\, bring a favorite blanket or pillow\, notebook\, and pen. \n 
URL:https://ramayogainstitute.com/event/new-moon-nidra/
LOCATION:Online
CATEGORIES:In Person,Pay Per View Workshops
ATTACH;FMTTYPE=image/jpeg:https://ramayogainstitute.com/wp-content/uploads/2023/05/NewMoon_KimKrans_Header.jpg
END:VEVENT
BEGIN:VEVENT
DTSTART;TZID=America/Los_Angeles:20230415T090000
DTEND;TZID=America/Los_Angeles:20230415T103000
DTSTAMP:20260422T224508
CREATED:20230406T234600Z
LAST-MODIFIED:20230509T234138Z
UID:1785982-1681549200-1681554600@ramayogainstitute.com
SUMMARY:Kundalini Yoga & Meditation with Kim Krans
DESCRIPTION:TUNE IN\nArtist Kim Krans brings her creative sensibility to her Kundalini Yoga and meditation classes. Using breathwork\, physical posture\, mantra and mudra\, you will activate your own creative force and experience radical transformation.
URL:https://ramayogainstitute.com/event/kundalini-yoga-meditation-with-kim-krans-3/2023-04-15/
LOCATION:Online
CATEGORIES:In Person,RA MA TV Live
ATTACH;FMTTYPE=image/jpeg:https://ramayogainstitute.com/wp-content/uploads/2022/07/Kim-Krans.jpg
END:VEVENT
BEGIN:VEVENT
DTSTART;TZID=America/Los_Angeles:20230408T090000
DTEND;TZID=America/Los_Angeles:20230408T103000
DTSTAMP:20260422T224508
CREATED:20230330T015651Z
LAST-MODIFIED:20230330T222632Z
UID:1784475-1680944400-1680949800@ramayogainstitute.com
SUMMARY:Kundalini Yoga & Meditation with Kim Krans
DESCRIPTION:TUNE IN\nArtist Kim Krans brings her creative sensibility to her Kundalini Yoga and meditation classes. Using breathwork\, physical posture\, mantra and mudra\, you will activate your own creative force and experience radical transformation.
URL:https://ramayogainstitute.com/event/kundalini-yoga-meditation-with-kim-krans/
LOCATION:Online
CATEGORIES:In Person,RA MA TV Live
ATTACH;FMTTYPE=image/jpeg:https://ramayogainstitute.com/wp-content/uploads/2022/07/Kim-Krans.jpg
END:VEVENT
BEGIN:VEVENT
DTSTART;TZID=America/Los_Angeles:20230107T090000
DTEND;TZID=America/Los_Angeles:20230107T103000
DTSTAMP:20260422T224508
CREATED:20211209T010530Z
LAST-MODIFIED:20230107T012819Z
UID:1735918-1673082000-1673087400@ramayogainstitute.com
SUMMARY:Kundalini Yoga & Meditation with Kim Krans
DESCRIPTION:TUNE IN\nKim Krans is a visionary artist\, author\, and creator of The New York Times bestseller THE WILD UNKNOWN TAROT. \nKim received her BFA in drawing at Cooper Union in NYC\, MFA in mixed media at Hunter College\, and an MA in depth psychology and creativity at Pacifica Graduate Institute in California. Her seeker’s heart has brought her to study in-depth practices of Classical Hatha\, Kundalini yoga\, and shamanism in India\, Africa\, Europe\, and the UK. Kim teaches events and workshops that activate the forces of creativity and radical transformation through art\, meditation\, mysticism\, and movement. Though revered for her drawings and publications\, Krans is also a multi-media artist\, filmmaker\, and musician.
URL:https://ramayogainstitute.com/event/shabadpreet-kundalini-12-11-21-2022-01-08-2022-01-15-2022-05-21-2022-05-28-2023-01-07/
LOCATION:Online
CATEGORIES:Community Content,In Person,RA MA TV Live
ATTACH;FMTTYPE=image/jpeg:https://ramayogainstitute.com/wp-content/uploads/2022/07/Kim-Krans.jpg
END:VEVENT
BEGIN:VEVENT
DTSTART;TZID=America/Los_Angeles:20221206T190000
DTEND;TZID=America/Los_Angeles:20221206T201500
DTSTAMP:20260422T224508
CREATED:20220109T034919Z
LAST-MODIFIED:20221205T173911Z
UID:1729782-1670353200-1670357700@ramayogainstitute.com
SUMMARY:Kundalini Yoga & Meditation with Kim Krans
DESCRIPTION:TUNE IN
URL:https://ramayogainstitute.com/event/kundalini-yoga-meditation-with-shabadpreet-9-2022-05-17-2022-08-09-2022-12-06/
LOCATION:Online
CATEGORIES:In Person,RA MA TV Live
ATTACH;FMTTYPE=image/jpeg:https://ramayogainstitute.com/wp-content/uploads/2022/07/Kim-Krans.jpg
END:VEVENT
BEGIN:VEVENT
DTSTART;TZID=America/Los_Angeles:20220728T090000
DTEND;TZID=America/Los_Angeles:20220728T103000
DTSTAMP:20260422T224508
CREATED:20220723T030310Z
LAST-MODIFIED:20220723T031732Z
UID:1726252-1658998800-1659004200@ramayogainstitute.com
SUMMARY:Creative Field with Kim Krans
DESCRIPTION:TUNE IN
URL:https://ramayogainstitute.com/event/creative-field-with-kim-krans-2022-07-28/
LOCATION:Online
CATEGORIES:In Person,RA MA TV Live
ATTACH;FMTTYPE=image/jpeg:https://ramayogainstitute.com/wp-content/uploads/2022/07/Kim-Krans.jpg
END:VEVENT
BEGIN:VEVENT
DTSTART;TZID=America/Los_Angeles:20220727T090000
DTEND;TZID=America/Los_Angeles:20220727T103000
DTSTAMP:20260422T224508
CREATED:20220723T030310Z
LAST-MODIFIED:20220723T031726Z
UID:1726249-1658912400-1658917800@ramayogainstitute.com
SUMMARY:Creative Field with Kim Krans
DESCRIPTION:TUNE IN
URL:https://ramayogainstitute.com/event/creative-field-with-kim-krans/2022-07-27/
LOCATION:Online
CATEGORIES:In Person,RA MA TV Live
ATTACH;FMTTYPE=image/jpeg:https://ramayogainstitute.com/wp-content/uploads/2022/07/Kim-Krans.jpg
END:VEVENT
BEGIN:VEVENT
DTSTART;TZID=America/Los_Angeles:20220708T180000
DTEND;TZID=America/Los_Angeles:20220708T200000
DTSTAMP:20260422T224508
CREATED:20220701T051144Z
LAST-MODIFIED:20220701T051145Z
UID:1720839-1657303200-1657310400@ramayogainstitute.com
SUMMARY:Alchemy Deck Launch Party
DESCRIPTION:Tune In
URL:https://ramayogainstitute.com/event/alchemy-deck-launch-party/
LOCATION:Online
CATEGORIES:Community Content,In Person,RA MA TV Live
ATTACH;FMTTYPE=image/jpeg:https://ramayogainstitute.com/wp-content/uploads/2022/06/Kim-Krans.jpg
END:VEVENT
BEGIN:VEVENT
DTSTART;TZID=America/Los_Angeles:20220708T110000
DTEND;TZID=America/Los_Angeles:20220708T120000
DTSTAMP:20260422T224508
CREATED:20220703T010035Z
LAST-MODIFIED:20220808T062553Z
UID:1721354-1657278000-1657281600@ramayogainstitute.com
SUMMARY:Artist Rising with Kim Krans
DESCRIPTION:In this four-part series\, artist and author Kim Krans shares her favorite practices for building creative vision\, confidence\, and follow-through. Each week is an exploration of one of the four phases in the creative process: DECIDE\, REPEAT\, DISSOLVE\, TRANSMIT. All levels welcome\, bring pen and paper. Strengthen the artist within. \n What you will learn: \n\nwhy your creativity matters\nhow to stoke the creative fire\nbreath and mantra especially suited for artists\nmovement and kriyas to support your creative vision\nhow to utilize creative downloads\n\nTUNE IN
URL:https://ramayogainstitute.com/event/artist-rising-with-kim-krans/2022-07-08/
LOCATION:Online
CATEGORIES:In Person,RA MA TV Live
ATTACH;FMTTYPE=image/jpeg:https://ramayogainstitute.com/wp-content/uploads/2022/07/Kim-Krans.jpg
END:VEVENT
BEGIN:VEVENT
DTSTART;TZID=America/Los_Angeles:20220621T110000
DTEND;TZID=America/Los_Angeles:20220621T120000
DTSTAMP:20260422T224508
CREATED:20220618T040605Z
LAST-MODIFIED:20220618T040607Z
UID:1717762-1655809200-1655812800@ramayogainstitute.com
SUMMARY:Oracle Hour with Kim Krans
DESCRIPTION:Kim Krans is a visionary artist\, author\, and creator of The New York Times bestseller The Wild Unknown Tarot. She teaches events and workshops that activate the forces of creativity and radical transformation through art\, meditation\, mysticism\, and movement. Though revered for her publications Krans is also a multi-media artist\, filmmaker\, and musician. \nTUNE IN
URL:https://ramayogainstitute.com/event/oracle-hour-with-kim-krans/
LOCATION:Online
CATEGORIES:In Person,RA MA TV Live
ATTACH;FMTTYPE=image/jpeg:https://ramayogainstitute.com/wp-content/uploads/2022/06/Kim-Krans.jpg
END:VEVENT
END:VCALENDAR