BEGIN:VCALENDAR
VERSION:2.0
PRODID:-//RA MA LIFE - ECPv6.15.15//NONSGML v1.0//EN
CALSCALE:GREGORIAN
METHOD:PUBLISH
X-WR-CALNAME:RA MA LIFE
X-ORIGINAL-URL:https://ramayogainstitute.com
X-WR-CALDESC:Events for RA MA LIFE
REFRESH-INTERVAL;VALUE=DURATION:PT1H
X-Robots-Tag:noindex
X-PUBLISHED-TTL:PT1H
BEGIN:VTIMEZONE
TZID:America/Los_Angeles
BEGIN:DAYLIGHT
TZOFFSETFROM:-0800
TZOFFSETTO:-0700
TZNAME:PDT
DTSTART:20210314T100000
END:DAYLIGHT
BEGIN:STANDARD
TZOFFSETFROM:-0700
TZOFFSETTO:-0800
TZNAME:PST
DTSTART:20211107T090000
END:STANDARD
BEGIN:DAYLIGHT
TZOFFSETFROM:-0800
TZOFFSETTO:-0700
TZNAME:PDT
DTSTART:20220313T100000
END:DAYLIGHT
BEGIN:STANDARD
TZOFFSETFROM:-0700
TZOFFSETTO:-0800
TZNAME:PST
DTSTART:20221106T090000
END:STANDARD
BEGIN:DAYLIGHT
TZOFFSETFROM:-0800
TZOFFSETTO:-0700
TZNAME:PDT
DTSTART:20230312T100000
END:DAYLIGHT
BEGIN:STANDARD
TZOFFSETFROM:-0700
TZOFFSETTO:-0800
TZNAME:PST
DTSTART:20231105T090000
END:STANDARD
BEGIN:DAYLIGHT
TZOFFSETFROM:-0800
TZOFFSETTO:-0700
TZNAME:PDT
DTSTART:20240310T100000
END:DAYLIGHT
BEGIN:STANDARD
TZOFFSETFROM:-0700
TZOFFSETTO:-0800
TZNAME:PST
DTSTART:20241103T090000
END:STANDARD
END:VTIMEZONE
BEGIN:VEVENT
DTSTART;TZID=America/Los_Angeles:20230222T190000
DTEND;TZID=America/Los_Angeles:20230222T201500
DTSTAMP:20260422T105207
CREATED:20220903T013500Z
LAST-MODIFIED:20230220T002512Z
UID:1749614-1677092400-1677096900@ramayogainstitute.com
SUMMARY:Divine Feminine Activation with Iram
DESCRIPTION:TUNE IN \nJoin Iram for a deeply embodied kundalini yoga class followed by a powerful activation using three special mantras that hold the frequency of the divine feminine. \nAbout The Teacher\nIram first encountered Kundalini Yoga in 2016 in New York City\, where she studied with Hari Kaur. She immediately became passionate about the teachings\, experiencing their power in healing her anxiety\, and was soon teaching at a studio in New York. Since moving to Los Angeles\, she has been studying with Guru Jagat and teaching Kundalini at UCLA Anderson School of Management. Outside of her passion for spreading Yogi Bhajanu2019s teachings of Kundalini Yoga\, Iram is a student at UCLA Anderson and a leader at Light CoCreative\, a social innovation and impact consultancy\, where her long-term goal is to bring Kundalini Yoga to the business world through corporate wellness programming. Iram is also a student of Daoist feminine embodiment teachings and has found her own personal practice to thrive from the integration of Kundalini Yoga and feminine embodiment practices\, which include womb breathing and visualization techniques\, that she incorporates into her classes. \n 
URL:https://ramayogainstitute.com/event/embodying-success-with-iram-2022-11-09-2023-02-22/
LOCATION:Online
CATEGORIES:In Person,RA MA TV Live
ATTACH;FMTTYPE=image/jpeg:https://ramayogainstitute.com/wp-content/uploads/2022/02/iram-video-collection-hero-image.jpg
END:VEVENT
BEGIN:VEVENT
DTSTART;TZID=America/Los_Angeles:20221102T190000
DTEND;TZID=America/Los_Angeles:20221102T201500
DTSTAMP:20260422T105207
CREATED:20220903T013500Z
LAST-MODIFIED:20221028T063307Z
UID:1736598-1667415600-1667420100@ramayogainstitute.com
SUMMARY:Kundalini Yoga & Meditation with Iram
DESCRIPTION:Iram first encountered Kundalini Yoga in 2016 in New York City\, where she studied with Hari Kaur. She immediately became passionate about the teachings\, experiencing their power in healing her anxiety\, and was soon teaching at a studio in New York. Since moving to Los Angeles\, she has been studying with Guru Jagat and teaching Kundalini at UCLA Anderson School of Management. Outside of her passion for spreading Yogi Bhajan’s teachings of Kundalini Yoga\, Iram is a student at UCLA Anderson and a leader at Light CoCreative\, a social innovation and impact consultancy\, where her long-term goal is to bring Kundalini Yoga to the business world through corporate wellness programming. Iram is also a student of Daoist feminine embodiment teachings and has found her own personal practice to thrive from the integration of Kundalini Yoga and feminine embodiment practices\, which include womb breathing and visualization techniques\, that she incorporates into her classes. \nTUNE IN
URL:https://ramayogainstitute.com/event/embodying-success-with-iram-2022-11-02/
LOCATION:Online
CATEGORIES:In Person,RA MA TV Live
ATTACH;FMTTYPE=image/jpeg:https://ramayogainstitute.com/wp-content/uploads/2022/02/iram-video-collection-hero-image.jpg
END:VEVENT
BEGIN:VEVENT
DTSTART;TZID=America/Los_Angeles:20221015T090000
DTEND;TZID=America/Los_Angeles:20221015T103000
DTSTAMP:20260422T105207
CREATED:20211209T010530Z
LAST-MODIFIED:20221010T043704Z
UID:1711118-1665824400-1665829800@ramayogainstitute.com
SUMMARY:Kundalini Yoga & Meditation with Iram
DESCRIPTION:Iram first encountered Kundalini Yoga in 2016 in New York City\, where she studied with Hari Kaur. She immediately became passionate about the teachings\, experiencing their power in healing her anxiety\, and was soon teaching at a studio in New York. Since moving to Los Angeles\, she has been studying with Guru Jagat and teaching Kundalini at UCLA Anderson School of Management. Outside of her passion for spreading Yogi Bhajanu2019s teachings of Kundalini Yoga\, Iram is a student at UCLA Anderson and a leader at Light CoCreative\, a social innovation and impact consultancy\, where her long-term goal is to bring Kundalini Yoga to the business world through corporate wellness programming. Iram is also a student of Daoist feminine embodiment teachings and has found her own personal practice to thrive from the integration of Kundalini Yoga and feminine embodiment practices\, which include womb breathing and visualization techniques\, that she incorporates into her classes. \nTUNE IN
URL:https://ramayogainstitute.com/event/shabadpreet-kundalini-12-11-21-2022-01-08-2022-01-15-2022-05-21-2022-05-28-2022-10-15/
LOCATION:Online
CATEGORIES:Community Content,In Person,RA MA TV Live
ATTACH;FMTTYPE=image/jpeg:https://ramayogainstitute.com/wp-content/uploads/2022/07/Iram.jpg
END:VEVENT
END:VCALENDAR