BEGIN:VCALENDAR
VERSION:2.0
PRODID:-//RA MA LIFE - ECPv6.15.15//NONSGML v1.0//EN
CALSCALE:GREGORIAN
METHOD:PUBLISH
X-ORIGINAL-URL:https://ramayogainstitute.com
X-WR-CALDESC:Events for RA MA LIFE
REFRESH-INTERVAL;VALUE=DURATION:PT1H
X-Robots-Tag:noindex
X-PUBLISHED-TTL:PT1H
BEGIN:VTIMEZONE
TZID:America/Los_Angeles
BEGIN:DAYLIGHT
TZOFFSETFROM:-0800
TZOFFSETTO:-0700
TZNAME:PDT
DTSTART:20200308T100000
END:DAYLIGHT
BEGIN:STANDARD
TZOFFSETFROM:-0700
TZOFFSETTO:-0800
TZNAME:PST
DTSTART:20201101T090000
END:STANDARD
BEGIN:DAYLIGHT
TZOFFSETFROM:-0800
TZOFFSETTO:-0700
TZNAME:PDT
DTSTART:20210314T100000
END:DAYLIGHT
BEGIN:STANDARD
TZOFFSETFROM:-0700
TZOFFSETTO:-0800
TZNAME:PST
DTSTART:20211107T090000
END:STANDARD
BEGIN:DAYLIGHT
TZOFFSETFROM:-0800
TZOFFSETTO:-0700
TZNAME:PDT
DTSTART:20220313T100000
END:DAYLIGHT
BEGIN:STANDARD
TZOFFSETFROM:-0700
TZOFFSETTO:-0800
TZNAME:PST
DTSTART:20221106T090000
END:STANDARD
BEGIN:DAYLIGHT
TZOFFSETFROM:-0800
TZOFFSETTO:-0700
TZNAME:PDT
DTSTART:20230312T100000
END:DAYLIGHT
BEGIN:STANDARD
TZOFFSETFROM:-0700
TZOFFSETTO:-0800
TZNAME:PST
DTSTART:20231105T090000
END:STANDARD
END:VTIMEZONE
BEGIN:VEVENT
DTSTART;TZID=America/Los_Angeles:20220201T090000
DTEND;TZID=America/Los_Angeles:20220201T103000
DTSTAMP:20260422T190508
CREATED:20211028T002901Z
LAST-MODIFIED:20220125T193120Z
UID:1661323-1643706000-1643711400@ramayogainstitute.com
SUMMARY:Imperial Heart with Gurujas
DESCRIPTION:Gurujas teaches that Kundalini Yoga is an experientially-based system–a science of joy\, fulfillment and love. She also believes that happiness is a vibrational frequency\, and can be an enduring state of being. Gurujas is the lead singer of the Grammy Award winning group White Sun. \nLearn More & Tune In
URL:https://ramayogainstitute.com/event/kundalini-yoga-meditation-with-gurujas-11-2021-12-05-2022-01-09-2022-02-01/
LOCATION:Online
CATEGORIES:In Person,RA MA TV Live
ATTACH;FMTTYPE=image/jpeg:https://ramayogainstitute.com/wp-content/uploads/2021/08/Gurujas-Teaching-Ra-Ma-LA-12-2021-5.jpeg
END:VEVENT
BEGIN:VEVENT
DTSTART;TZID=America/Los_Angeles:20220125T090000
DTEND;TZID=America/Los_Angeles:20220125T103000
DTSTAMP:20260422T190508
CREATED:20211028T002901Z
LAST-MODIFIED:20220121T204737Z
UID:1661321-1643101200-1643106600@ramayogainstitute.com
SUMMARY:The Game of Love with Gurujas
DESCRIPTION:Gurujas teaches that Kundalini Yoga is an experientially-based system–a science of joy\, fulfillment and love. She also believes that happiness is a vibrational frequency\, and can be an enduring state of being. Gurujas is the lead singer of the Grammy Award winning group White Sun. \nLearn More & Tune In
URL:https://ramayogainstitute.com/event/gurujas-game-of-love-1-25-21/
LOCATION:Online
CATEGORIES:In Person,RA MA TV Live
ATTACH;FMTTYPE=image/jpeg:https://ramayogainstitute.com/wp-content/uploads/2021/08/Gurujas-Teaching-Ra-Ma-LA-12-2021-5.jpeg
END:VEVENT
BEGIN:VEVENT
DTSTART;TZID=America/Los_Angeles:20220109T090000
DTEND;TZID=America/Los_Angeles:20220109T103000
DTSTAMP:20260422T190508
CREATED:20211028T002901Z
LAST-MODIFIED:20220105T020339Z
UID:1665770-1641718800-1641724200@ramayogainstitute.com
SUMMARY:Kundalini Yoga & Meditation with Gurujas
DESCRIPTION:Gurujas teaches that Kundalini Yoga is an experientially-based system–a science of joy\, fulfillment and love. She also believes that happiness is a vibrational frequency\, and can be an enduring state of being. Gurujas is the lead singer of the Grammy Award winning group White Sun. \nLearn More & Tune In
URL:https://ramayogainstitute.com/event/kundalini-yoga-meditation-with-gurujas-11-2021-12-05-2022-01-09/2022-01-09/
LOCATION:Online
CATEGORIES:In Person,RA MA TV Live
ATTACH;FMTTYPE=image/jpeg:https://ramayogainstitute.com/wp-content/uploads/2021/08/Gurujas-Teaching-Ra-Ma-LA-12-2021-5.jpeg
END:VEVENT
BEGIN:VEVENT
DTSTART;TZID=America/Los_Angeles:20220102T090000
DTEND;TZID=America/Los_Angeles:20220102T103000
DTSTAMP:20260422T190508
CREATED:20211028T002901Z
LAST-MODIFIED:20220102T062231Z
UID:1665769-1641114000-1641119400@ramayogainstitute.com
SUMMARY:Rhythm of the Soul with Gurujas
DESCRIPTION:New Moon in Capricorn Kundalini Yoga & Meditation with Gurujas \nGurujas teaches that Kundalini Yoga is an experientially-based system–a science of joy\, fulfillment and love. She also believes that happiness is a vibrational frequency\, and can be an enduring state of being. Gurujas is the lead singer of the Grammy Award winning group White Sun. \nLearn More & Tune In
URL:https://ramayogainstitute.com/event/new-moon-capricorn-gurujas-2022-01-02/
LOCATION:Online
CATEGORIES:Community Content,In Person,RA MA TV Live
ATTACH;FMTTYPE=image/jpeg:https://ramayogainstitute.com/wp-content/uploads/2021/07/GURUJAS-cal-icon.jpg
END:VEVENT
BEGIN:VEVENT
DTSTART;TZID=America/Los_Angeles:20211225T090000
DTEND;TZID=America/Los_Angeles:20211225T103000
DTSTAMP:20260422T190508
CREATED:20210809T174207Z
LAST-MODIFIED:20211224T173609Z
UID:1640882-1640422800-1640428200@ramayogainstitute.com
SUMMARY:Christmas Day with Gurujas
DESCRIPTION:Gurujas teaches that Kundalini Yoga is an experientially-based system–a science of joy\, fulfillment and love. She also believes that happiness is a vibrational frequency\, and can be an enduring state of being. Gurujas is the lead singer of the Grammy Award winning group White Sun. \nLearn More & Tune In
URL:https://ramayogainstitute.com/event/gurujas-kundalini-12-25-21/
LOCATION:Online
CATEGORIES:Community Content,In Person,RA MA TV Live
ATTACH;FMTTYPE=image/jpeg:https://ramayogainstitute.com/wp-content/uploads/2021/08/Gurujas-Teaching-Ra-Ma-LA-12-2021-5.jpeg
END:VEVENT
BEGIN:VEVENT
DTSTART;TZID=America/Los_Angeles:20211218T090000
DTEND;TZID=America/Los_Angeles:20211218T110000
DTSTAMP:20260422T190508
CREATED:20211213T195128Z
LAST-MODIFIED:20211216T022449Z
UID:1673414-1639818000-1639825200@ramayogainstitute.com
SUMMARY:Golden Skies with Gurujas
DESCRIPTION:Gurujas teaches that Kundalini Yoga is an experientially-based system–a science of joy\, fulfillment and love. She also believes that happiness is a vibrational frequency\, and can be an enduring state of being. Gurujas is the lead singer of the Grammy Award winning group White Sun. \nLearn More & Tune In
URL:https://ramayogainstitute.com/event/golden-skies-with-gurujas-12-18-21/
LOCATION:Online
CATEGORIES:In Person,Pay Per View Workshops,RA MA TV Live
ATTACH;FMTTYPE=image/jpeg:https://ramayogainstitute.com/wp-content/uploads/2021/07/GURUJAS-cal-icon.jpg
END:VEVENT
BEGIN:VEVENT
DTSTART;TZID=America/Los_Angeles:20211207T090000
DTEND;TZID=America/Los_Angeles:20211207T103000
DTSTAMP:20260422T190508
CREATED:20211028T002901Z
LAST-MODIFIED:20211201T233351Z
UID:1661307-1638867600-1638873000@ramayogainstitute.com
SUMMARY:Kundalini Yoga & Meditation with Gurujas
DESCRIPTION:Gurujas teaches that Kundalini Yoga is an experientially-based system–a science of joy\, fulfillment and love. She also believes that happiness is a vibrational frequency\, and can be an enduring state of being. Gurujas is the lead singer of the Grammy Award winning group White Sun. \nLearn More & Tune In
URL:https://ramayogainstitute.com/event/kundalini-yoga-meditation-with-gurujas-11-2021-12-05-2021-12-07/2021-12-07/
LOCATION:Online
CATEGORIES:In Person,RA MA TV Live
ATTACH;FMTTYPE=image/jpeg:https://ramayogainstitute.com/wp-content/uploads/2021/07/GURUJAS-cal-icon.jpg
END:VEVENT
BEGIN:VEVENT
DTSTART;TZID=America/Los_Angeles:20211203T090000
DTEND;TZID=America/Los_Angeles:20211203T103000
DTSTAMP:20260422T190508
CREATED:20211130T023719Z
LAST-MODIFIED:20211201T222954Z
UID:1668991-1638522000-1638527400@ramayogainstitute.com
SUMMARY:Solar Brilliance with Gurujas
DESCRIPTION:Gurujas teaches that Kundalini Yoga is an experientially-based system–a science of joy\, fulfillment and love. She also believes that happiness is a vibrational frequency\, and can be an enduring state of being. Gurujas is the lead singer of the Grammy Award winning group White Sun. \nLearn More \nSign Up Online \nSign Up in Person \n 
URL:https://ramayogainstitute.com/event/solar-brilliance-gurujas-12-3-21/
LOCATION:Online on RA MA TV
CATEGORIES:Pay Per View Workshops
ATTACH;FMTTYPE=image/jpeg:https://ramayogainstitute.com/wp-content/uploads/2021/09/Gurujas-11.jpg
END:VEVENT
BEGIN:VEVENT
DTSTART;TZID=America/Los_Angeles:20211130T090000
DTEND;TZID=America/Los_Angeles:20211130T103000
DTSTAMP:20260422T190509
CREATED:20211028T002901Z
LAST-MODIFIED:20211130T002425Z
UID:1661305-1638262800-1638268200@ramayogainstitute.com
SUMMARY:Bless This Space
DESCRIPTION:Gurujas teaches that Kundalini Yoga is an experientially-based system–a science of joy\, fulfillment and love. She also believes that happiness is a vibrational frequency\, and can be an enduring state of being. Gurujas is the lead singer of the Grammy Award winning group White Sun. \nLearn More & Tune In
URL:https://ramayogainstitute.com/event/kundalini-yoga-meditation-with-gurujas-11-2021-11-30/
LOCATION:Online
CATEGORIES:Community Content,In Person,RA MA TV Live
ATTACH;FMTTYPE=image/jpeg:https://ramayogainstitute.com/wp-content/uploads/2021/07/Gurujas-3.jpg
END:VEVENT
BEGIN:VEVENT
DTSTART;TZID=America/Los_Angeles:20211119T090000
DTEND;TZID=America/Los_Angeles:20211119T110000
DTSTAMP:20260422T190509
CREATED:20211111T215225Z
LAST-MODIFIED:20211116T005204Z
UID:1664291-1637312400-1637319600@ramayogainstitute.com
SUMMARY:The Hidden Path with Gurujas
DESCRIPTION:Gurujas teaches that Kundalini Yoga is an experientially-based system–a science of joy\, fulfillment and love. She also believes that happiness is a vibrational frequency\, and can be an enduring state of being. Gurujas is the lead singer of the Grammy Award winning group White Sun. \nLearn More
URL:https://ramayogainstitute.com/event/gurujas-hidden-path-11-19-21/
CATEGORIES:In Person,Pay Per View Workshops
ATTACH;FMTTYPE=image/jpeg:https://ramayogainstitute.com/wp-content/uploads/2021/07/GURUJAS-cal-icon.jpg
END:VEVENT
BEGIN:VEVENT
DTSTART;TZID=America/Los_Angeles:20211104T170000
DTEND;TZID=America/Los_Angeles:20211104T190000
DTSTAMP:20260422T190509
CREATED:20211102T012006Z
LAST-MODIFIED:20211103T232906Z
UID:1662404-1636045200-1636052400@ramayogainstitute.com
SUMMARY:Deep Awakening with Gurujas
DESCRIPTION:Gurujas teaches that Kundalini Yoga is an experientially-based system–a science of joy\, fulfillment and love. She also believes that happiness is a vibrational frequency\, and can be an enduring state of being. Gurujas is the lead singer of the Grammy Award winning group White Sun. \nLearn More \nSign Up
URL:https://ramayogainstitute.com/event/new-moon-scorpio-gurujas-11-4-21/
CATEGORIES:In Person,Pay Per View Workshops
ATTACH;FMTTYPE=image/jpeg:https://ramayogainstitute.com/wp-content/uploads/2021/07/GURUJAS-cal-icon.jpg
END:VEVENT
BEGIN:VEVENT
DTSTART;TZID=America/Los_Angeles:20211028T090000
DTEND;TZID=America/Los_Angeles:20211028T103000
DTSTAMP:20260422T190509
CREATED:20211028T002901Z
LAST-MODIFIED:20211119T011000Z
UID:1661294-1635411600-1635417000@ramayogainstitute.com
SUMMARY:Kundalini Yoga & Meditation with Gurujas
DESCRIPTION:Gurujas teaches that Kundalini Yoga is an experientially-based system–a science of joy\, fulfillment and love. She also believes that happiness is a vibrational frequency\, and can be an enduring state of being. Gurujas is the lead singer of the Grammy Award winning group White Sun. \nLearn More & Tune In
URL:https://ramayogainstitute.com/event/kundalini-yoga-meditation-with-gurujas-11/2021-10-28/
CATEGORIES:In Person,RA MA TV Live
ATTACH;FMTTYPE=image/jpeg:https://ramayogainstitute.com/wp-content/uploads/2021/07/GURUJAS-cal-icon.jpg
END:VEVENT
BEGIN:VEVENT
DTSTART;TZID=America/Los_Angeles:20211020T090000
DTEND;TZID=America/Los_Angeles:20211020T110000
DTSTAMP:20260422T190509
CREATED:20210809T171821Z
LAST-MODIFIED:20211018T225958Z
UID:1639679-1634720400-1634727600@ramayogainstitute.com
SUMMARY:Igniting the Prophecy
DESCRIPTION:Gurujas teaches that Kundalini Yoga is an experientially-based system–a science of joy\, fulfillment and love. She also believes that happiness is a vibrational frequency\, and can be an enduring state of being. Gurujas is the lead singer of the Grammy Award winning group White Sun. \nLearn More \nSign Up
URL:https://ramayogainstitute.com/event/full-moon-aries-gurujas-7-2021-10-20/
CATEGORIES:Pay Per View Workshops,RA MA TV Live
ATTACH;FMTTYPE=image/jpeg:https://ramayogainstitute.com/wp-content/uploads/2021/07/GURUJAS-cal-icon.jpg
END:VEVENT
BEGIN:VEVENT
DTSTART;TZID=America/Los_Angeles:20211016T090000
DTEND;TZID=America/Los_Angeles:20211016T103000
DTSTAMP:20260422T190509
CREATED:20210809T174207Z
LAST-MODIFIED:20211012T072242Z
UID:1640862-1634374800-1634380200@ramayogainstitute.com
SUMMARY:11th Day of the Moon with Gurujas
DESCRIPTION:
URL:https://ramayogainstitute.com/event/11th-day-gurujas-2-2021-10-16/
CATEGORIES:Community Content,In Person,RA MA TV Live
ATTACH;FMTTYPE=image/jpeg:https://ramayogainstitute.com/wp-content/uploads/2021/07/Gurujas-3.jpg
END:VEVENT
BEGIN:VEVENT
DTSTART;TZID=America/Los_Angeles:20211014T090000
DTEND;TZID=America/Los_Angeles:20211014T103000
DTSTAMP:20260422T190509
CREATED:20210809T174207Z
LAST-MODIFIED:20211009T040525Z
UID:1640861-1634202000-1634207400@ramayogainstitute.com
SUMMARY:Kundalini Yoga & Meditation with Gurujas
DESCRIPTION:Gurujas teaches that Kundalini Yoga is an experientially-based system–a science of joy\, fulfillment and love. She also believes that happiness is a vibrational frequency\, and can be an enduring state of being. Gurujas is the lead singer of the Grammy Award winning group White Sun. \nLearn More & Tune In
URL:https://ramayogainstitute.com/event/gurujas-2-2021-10-14/
CATEGORIES:RA MA TV Live
ATTACH;FMTTYPE=image/jpeg:https://ramayogainstitute.com/wp-content/uploads/2021/07/GURUJAS-cal-icon.jpg
END:VEVENT
BEGIN:VEVENT
DTSTART;TZID=America/Los_Angeles:20211012T090000
DTEND;TZID=America/Los_Angeles:20211012T103000
DTSTAMP:20260422T190509
CREATED:20211004T195829Z
LAST-MODIFIED:20211004T195923Z
UID:1657081-1634029200-1634034600@ramayogainstitute.com
SUMMARY:Kundalini Yoga & Meditation with Gurujas
DESCRIPTION:Gurujas teaches that Kundalini Yoga is an experientially-based system–a science of joy\, fulfillment and love. She also believes that happiness is a vibrational frequency\, and can be an enduring state of being. Gurujas is the lead singer of the Grammy Award winning group White Sun. \nLearn More & Tune In
URL:https://ramayogainstitute.com/event/kundalini-yoga-meditation-with-gurujas-10/
CATEGORIES:In Person,RA MA TV Live
ATTACH;FMTTYPE=image/jpeg:https://ramayogainstitute.com/wp-content/uploads/2021/07/GURUJAS-cal-icon.jpg
END:VEVENT
BEGIN:VEVENT
DTSTART;TZID=America/Los_Angeles:20211010T090000
DTEND;TZID=America/Los_Angeles:20211010T103000
DTSTAMP:20260422T190509
CREATED:20211005T200320Z
LAST-MODIFIED:20211005T200320Z
UID:1657288-1633856400-1633861800@ramayogainstitute.com
SUMMARY:Kundalini Yoga & Meditation with Gurujas
DESCRIPTION:Gurujas teaches that Kundalini Yoga is an experientially-based system–a science of joy\, fulfillment and love. She also believes that happiness is a vibrational frequency\, and can be an enduring state of being. Gurujas is the lead singer of the Grammy Award winning group White Sun. \nLearn More & Tune In
URL:https://ramayogainstitute.com/event/kundalini-yoga-meditation-with-gurujas-9/
CATEGORIES:In Person,RA MA TV Live
ATTACH;FMTTYPE=image/jpeg:https://ramayogainstitute.com/wp-content/uploads/2021/07/GURUJAS-cal-icon.jpg
END:VEVENT
BEGIN:VEVENT
DTSTART;TZID=America/Los_Angeles:20211005T090000
DTEND;TZID=America/Los_Angeles:20211005T103000
DTSTAMP:20260422T190509
CREATED:20211003T222148Z
LAST-MODIFIED:20211003T222148Z
UID:1656706-1633424400-1633429800@ramayogainstitute.com
SUMMARY:Kundalini Yoga & Meditation with Gurujas
DESCRIPTION:Gurujas teaches that Kundalini Yoga is an experientially-based system–a science of joy\, fulfillment and love. She also believes that happiness is a vibrational frequency\, and can be an enduring state of being. Gurujas is the lead singer of the Grammy Award winning group White Sun. \nLearn More & Tune In
URL:https://ramayogainstitute.com/event/kundalini-yoga-meditation-with-gurujas-4/
CATEGORIES:In Person,RA MA TV Live
ATTACH;FMTTYPE=image/jpeg:https://ramayogainstitute.com/wp-content/uploads/2021/07/GURUJAS-cal-icon.jpg
END:VEVENT
BEGIN:VEVENT
DTSTART;TZID=America/Los_Angeles:20210922T090000
DTEND;TZID=America/Los_Angeles:20210922T103000
DTSTAMP:20260422T190509
CREATED:20210809T171821Z
LAST-MODIFIED:20210917T235422Z
UID:1639675-1632301200-1632306600@ramayogainstitute.com
SUMMARY:Into the Depth of Sound
DESCRIPTION:Gurujas teaches that Kundalini Yoga is an experientially-based system–a science of joy\, fulfillment and love. She also believes that happiness is a vibrational frequency\, and can be an enduring state of being. Gurujas is the lead singer of the Grammy Award winning group White Sun. \nLearn More \nWatch on RA MA TV Live
URL:https://ramayogainstitute.com/event/kundalini-yoga-meditation-with-harmanjot-7-2021-09-22/
CATEGORIES:Courses & Events,In Person,RA MA TV Live
ATTACH;FMTTYPE=image/jpeg:https://ramayogainstitute.com/wp-content/uploads/2021/07/GURUJAS-cal-icon.jpg
END:VEVENT
BEGIN:VEVENT
DTSTART;TZID=America/Los_Angeles:20210920T160000
DTEND;TZID=America/Los_Angeles:20210920T180000
DTSTAMP:20260422T190509
CREATED:20210915T174916Z
LAST-MODIFIED:20210917T191642Z
UID:1651952-1632153600-1632160800@ramayogainstitute.com
SUMMARY:Diamond Mind with Gurujas
DESCRIPTION:Gurujas teaches that Kundalini Yoga is an experientially-based system–a science of joy\, fulfillment and love. She also believes that happiness is a vibrational frequency\, and can be an enduring state of being. Gurujas is the lead singer of the Grammy Award winning group White Sun. \nLearn More & Tune In
URL:https://ramayogainstitute.com/event/diamond-mind-with-gurujas/
CATEGORIES:In Person,Pay Per View Workshops
ATTACH;FMTTYPE=image/jpeg:https://ramayogainstitute.com/wp-content/uploads/2021/07/GURUJAS-cal-icon.jpg
END:VEVENT
BEGIN:VEVENT
DTSTART;TZID=America/Los_Angeles:20210907T090000
DTEND;TZID=America/Los_Angeles:20210907T103000
DTSTAMP:20260422T190509
CREATED:20210805T225410Z
LAST-MODIFIED:20211020T044925Z
UID:1637930-1631005200-1631010600@ramayogainstitute.com
SUMMARY:Kundalini Yoga & Meditation with Gurujas
DESCRIPTION:Gurujas teaches that Kundalini Yoga is an experientially-based system–a science of joy\, fulfillment and love. She also believes that happiness is a vibrational frequency\, and can be an enduring state of being. Gurujas is the lead singer of the Grammy Award winning group White Sun. \nLearn More & Tune In
URL:https://ramayogainstitute.com/event/kundalini-yoga-meditation-with-gurujas-8-2021-09-07/2021-09-07/
CATEGORIES:RA MA TV Live
ATTACH;FMTTYPE=image/jpeg:https://ramayogainstitute.com/wp-content/uploads/2021/07/GURUJAS-cal-icon.jpg
END:VEVENT
BEGIN:VEVENT
DTSTART;TZID=America/Los_Angeles:20210906T090000
DTEND;TZID=America/Los_Angeles:20210906T103000
DTSTAMP:20260422T190509
CREATED:20210809T171040Z
LAST-MODIFIED:20210902T190830Z
UID:1639694-1630918800-1630924200@ramayogainstitute.com
SUMMARY:New Moon in Virgo with Gurujas
DESCRIPTION:Learn More & Tune In \n 
URL:https://ramayogainstitute.com/event/kundalini-yoga-meditation-with-harmanjot-6-2021-09-06/
CATEGORIES:Community Content,RA MA TV Live
ATTACH;FMTTYPE=image/jpeg:https://ramayogainstitute.com/wp-content/uploads/2021/07/GURUJAS-cal-icon.jpg
END:VEVENT
BEGIN:VEVENT
DTSTART;TZID=America/Los_Angeles:20210831T090000
DTEND;TZID=America/Los_Angeles:20210831T103000
DTSTAMP:20260422T190509
CREATED:20210805T225410Z
LAST-MODIFIED:20210830T211740Z
UID:1637928-1630400400-1630405800@ramayogainstitute.com
SUMMARY:Kundalini Yoga & Meditation with Shabadpreet
DESCRIPTION:Learn More & Tune In
URL:https://ramayogainstitute.com/event/kundalini-yoga-meditation-with-shabadpreet-8-2021-08-31/
CATEGORIES:RA MA TV Live
ATTACH;FMTTYPE=image/jpeg:https://ramayogainstitute.com/wp-content/uploads/2021/08/Shabadpreet-7.jpg
END:VEVENT
BEGIN:VEVENT
DTSTART;TZID=America/Los_Angeles:20210817T090000
DTEND;TZID=America/Los_Angeles:20210817T103000
DTSTAMP:20260422T190509
CREATED:20210805T223809Z
LAST-MODIFIED:20210816T022048Z
UID:1637923-1629190800-1629196200@ramayogainstitute.com
SUMMARY:Kundalini Yoga & Meditation with Shabad Atma
DESCRIPTION:Gurujas teaches that Kundalini Yoga is an experientially-based system–a science of joy\, fulfillment and love. She also believes that happiness is a vibrational frequency\, and can be an enduring state of being. Gurujas is the lead singer of the Grammy Award winning group White Sun. \nTune in on RA MA TV Live \nTune in on Community Content
URL:https://ramayogainstitute.com/event/kundalini-yoga-meditation-with-gurujas-7-2021-08-17/
CATEGORIES:Community Content,RA MA TV Live
ATTACH;FMTTYPE=image/png:https://ramayogainstitute.com/wp-content/uploads/2021/03/SHABAD-ATMA-CAL-ICON.png
END:VEVENT
BEGIN:VEVENT
DTSTART;TZID=America/Los_Angeles:20210810T090000
DTEND;TZID=America/Los_Angeles:20210810T103000
DTSTAMP:20260422T190509
CREATED:20210805T223809Z
LAST-MODIFIED:20210805T223809Z
UID:1637920-1628586000-1628591400@ramayogainstitute.com
SUMMARY:Kundalini Yoga & Meditation with Gurujas
DESCRIPTION:Gurujas teaches that Kundalini Yoga is an experientially-based system–a science of joy\, fulfillment and love. She also believes that happiness is a vibrational frequency\, and can be an enduring state of being. Gurujas is the lead singer of the Grammy Award winning group White Sun. \nTune in on RA MA TV Live \nTune in on Community Content
URL:https://ramayogainstitute.com/event/kundalini-yoga-meditation-with-gurujas-7/2021-08-10/
CATEGORIES:Community Content,RA MA TV Live
ATTACH;FMTTYPE=image/jpeg:https://ramayogainstitute.com/wp-content/uploads/2021/07/GURUJAS-cal-icon.jpg
END:VEVENT
BEGIN:VEVENT
DTSTART;TZID=America/Los_Angeles:20210808T090000
DTEND;TZID=America/Los_Angeles:20210808T103000
DTSTAMP:20260422T190509
CREATED:20210729T215746Z
LAST-MODIFIED:20210807T025815Z
UID:1636426-1628413200-1628418600@ramayogainstitute.com
SUMMARY:8:8 Lion's Gate with Gurujas
DESCRIPTION:Learn More & Tune In
URL:https://ramayogainstitute.com/event/kundalini-yoga-meditation-with-gurujas-6/
CATEGORIES:Community Content,RA MA TV Live
ATTACH;FMTTYPE=image/jpeg:https://ramayogainstitute.com/wp-content/uploads/2021/07/GURUJAS-cal-icon.jpg
END:VEVENT
BEGIN:VEVENT
DTSTART;TZID=America/Los_Angeles:20210801T090000
DTEND;TZID=America/Los_Angeles:20210801T103000
DTSTAMP:20260422T190509
CREATED:20210723T221559Z
LAST-MODIFIED:20210726T191457Z
UID:1634780-1627808400-1627813800@ramayogainstitute.com
SUMMARY:Kundalini Yoga & Meditation with Gurujas
DESCRIPTION:Learn More & Tune In
URL:https://ramayogainstitute.com/event/kundalini-yoga-meditation-with-gurujas-5/
CATEGORIES:RA MA TV Live
ATTACH;FMTTYPE=image/jpeg:https://ramayogainstitute.com/wp-content/uploads/2021/07/GURUJAS-cal-icon.jpg
END:VEVENT
END:VCALENDAR