BEGIN:VCALENDAR
VERSION:2.0
PRODID:-//RA MA LIFE - ECPv6.15.15//NONSGML v1.0//EN
CALSCALE:GREGORIAN
METHOD:PUBLISH
X-WR-CALNAME:RA MA LIFE
X-ORIGINAL-URL:https://ramayogainstitute.com
X-WR-CALDESC:Events for RA MA LIFE
REFRESH-INTERVAL;VALUE=DURATION:PT1H
X-Robots-Tag:noindex
X-PUBLISHED-TTL:PT1H
BEGIN:VTIMEZONE
TZID:America/Los_Angeles
BEGIN:DAYLIGHT
TZOFFSETFROM:-0800
TZOFFSETTO:-0700
TZNAME:PDT
DTSTART:20210314T100000
END:DAYLIGHT
BEGIN:STANDARD
TZOFFSETFROM:-0700
TZOFFSETTO:-0800
TZNAME:PST
DTSTART:20211107T090000
END:STANDARD
BEGIN:DAYLIGHT
TZOFFSETFROM:-0800
TZOFFSETTO:-0700
TZNAME:PDT
DTSTART:20220313T100000
END:DAYLIGHT
BEGIN:STANDARD
TZOFFSETFROM:-0700
TZOFFSETTO:-0800
TZNAME:PST
DTSTART:20221106T090000
END:STANDARD
BEGIN:DAYLIGHT
TZOFFSETFROM:-0800
TZOFFSETTO:-0700
TZNAME:PDT
DTSTART:20230312T100000
END:DAYLIGHT
BEGIN:STANDARD
TZOFFSETFROM:-0700
TZOFFSETTO:-0800
TZNAME:PST
DTSTART:20231105T090000
END:STANDARD
END:VTIMEZONE
BEGIN:VEVENT
DTSTART;TZID=America/Los_Angeles:20220822T110000
DTEND;TZID=America/Los_Angeles:20220822T120000
DTSTAMP:20260422T044458
CREATED:20220821T003952Z
LAST-MODIFIED:20220821T004026Z
UID:1732867-1661166000-1661169600@ramayogainstitute.com
SUMMARY:Kundalini Yoga & Meditation with Gabrielle Goss
DESCRIPTION:TUNE IN 
URL:https://ramayogainstitute.com/event/kundalini-yoga-meditation-with-gabrielle-goss-2/
LOCATION:Online
CATEGORIES:In Person,RA MA TV Live
ATTACH;FMTTYPE=image/jpeg:https://ramayogainstitute.com/wp-content/uploads/2021/08/Gabrielle-Goss.jpg
END:VEVENT
BEGIN:VEVENT
DTSTART;TZID=America/Los_Angeles:20220720T110000
DTEND;TZID=America/Los_Angeles:20220720T120000
DTSTAMP:20260422T044458
CREATED:20211217T191549Z
LAST-MODIFIED:20220718T024515Z
UID:1721303-1658314800-1658318400@ramayogainstitute.com
SUMMARY:Pranic Charge with Gabrielle Goss
DESCRIPTION:Learn More & Tune In
URL:https://ramayogainstitute.com/event/marta-ulbricht-kundalini-12-22-21-2022-07-20/
LOCATION:Online
CATEGORIES:In Person,RA MA TV Live
ATTACH;FMTTYPE=image/jpeg:https://ramayogainstitute.com/wp-content/uploads/2021/08/Gabrielle-Goss.jpg
END:VEVENT
BEGIN:VEVENT
DTSTART;TZID=America/Los_Angeles:20220713T110000
DTEND;TZID=America/Los_Angeles:20220713T120000
DTSTAMP:20260422T044458
CREATED:20220711T232651Z
LAST-MODIFIED:20220711T232651Z
UID:1722897-1657710000-1657713600@ramayogainstitute.com
SUMMARY:Build Your Mystical Foundation with Gabrielle Goss
DESCRIPTION:Full Moon in Capricorn Kundalini Yoga & Meditation \nTUNE IN
URL:https://ramayogainstitute.com/event/build-your-mystical-foundation-with-gabrielle-goss/
LOCATION:Online
CATEGORIES:In Person,RA MA TV Live
ATTACH;FMTTYPE=image/jpeg:https://ramayogainstitute.com/wp-content/uploads/2021/08/Gabrielle-Goss.jpg
END:VEVENT
BEGIN:VEVENT
DTSTART;TZID=America/Los_Angeles:20220711T190000
DTEND;TZID=America/Los_Angeles:20220711T201500
DTSTAMP:20260422T044458
CREATED:20220711T221751Z
LAST-MODIFIED:20220711T221751Z
UID:1722860-1657566000-1657570500@ramayogainstitute.com
SUMMARY:Kundalini Yoga & Meditation with Gabrielle Goss
DESCRIPTION:Tune In Live
URL:https://ramayogainstitute.com/event/kundalini-yoga-meditation-with-gabrielle-goss/
LOCATION:Online
CATEGORIES:In Person,RA MA TV Live
ATTACH;FMTTYPE=image/jpeg:https://ramayogainstitute.com/wp-content/uploads/2021/08/Gabrielle-Goss.jpg
END:VEVENT
BEGIN:VEVENT
DTSTART;TZID=America/Los_Angeles:20220528T110000
DTEND;TZID=America/Los_Angeles:20220528T120000
DTSTAMP:20260422T044458
CREATED:20220106T175546Z
LAST-MODIFIED:20220518T221535Z
UID:1692220-1653735600-1653739200@ramayogainstitute.com
SUMMARY:Kundalini Yoga & Meditation with Gabrielle Goss
DESCRIPTION:Learn More & Tune In
URL:https://ramayogainstitute.com/event/kundalini-yoga-marta-1-15-21-2022-02-19-2022-05-28/
LOCATION:Online
CATEGORIES:In Person,RA MA TV Live
ATTACH;FMTTYPE=image/jpeg:https://ramayogainstitute.com/wp-content/uploads/2021/08/Gabrielle-Goss.jpg
END:VEVENT
BEGIN:VEVENT
DTSTART;TZID=America/Los_Angeles:20220518T110000
DTEND;TZID=America/Los_Angeles:20220518T120000
DTSTAMP:20260422T044458
CREATED:20211217T191549Z
LAST-MODIFIED:20220518T164907Z
UID:1675911-1652871600-1652875200@ramayogainstitute.com
SUMMARY:Pranic Charge with Gabrielle Goss
DESCRIPTION:Learn More & Tune In
URL:https://ramayogainstitute.com/event/marta-ulbricht-kundalini-12-22-21-2022-05-18/
LOCATION:Online
CATEGORIES:In Person,RA MA TV Live
ATTACH;FMTTYPE=image/jpeg:https://ramayogainstitute.com/wp-content/uploads/2021/08/Gabrielle-Goss.jpg
END:VEVENT
BEGIN:VEVENT
DTSTART;TZID=America/Los_Angeles:20220414T174500
DTEND;TZID=America/Los_Angeles:20220414T184500
DTSTAMP:20260422T044458
CREATED:20210813T162922Z
LAST-MODIFIED:20220414T045824Z
UID:1693112-1649958300-1649961900@ramayogainstitute.com
SUMMARY:Kundalini Yoga & Meditation with Gabrielle Goss
DESCRIPTION:Learn More & Tune In
URL:https://ramayogainstitute.com/event/kundalini-yoga-meditation-with-jen-saltiel-2-2021-12-07-2021-12-09-2022-01-06-2022-02-24-2022-04-14/
LOCATION:Online
CATEGORIES:In Person,RA MA TV Live
ATTACH;FMTTYPE=image/jpeg:https://ramayogainstitute.com/wp-content/uploads/2021/08/Gabrielle-Goss.jpg
END:VEVENT
END:VCALENDAR