BEGIN:VCALENDAR
VERSION:2.0
PRODID:-//RA MA LIFE - ECPv6.15.15//NONSGML v1.0//EN
CALSCALE:GREGORIAN
METHOD:PUBLISH
X-ORIGINAL-URL:https://ramayogainstitute.com
X-WR-CALDESC:Events for RA MA LIFE
REFRESH-INTERVAL;VALUE=DURATION:PT1H
X-Robots-Tag:noindex
X-PUBLISHED-TTL:PT1H
BEGIN:VTIMEZONE
TZID:America/Los_Angeles
BEGIN:DAYLIGHT
TZOFFSETFROM:-0800
TZOFFSETTO:-0700
TZNAME:PDT
DTSTART:20250309T100000
END:DAYLIGHT
BEGIN:STANDARD
TZOFFSETFROM:-0700
TZOFFSETTO:-0800
TZNAME:PST
DTSTART:20251102T090000
END:STANDARD
BEGIN:DAYLIGHT
TZOFFSETFROM:-0800
TZOFFSETTO:-0700
TZNAME:PDT
DTSTART:20260308T100000
END:DAYLIGHT
BEGIN:STANDARD
TZOFFSETFROM:-0700
TZOFFSETTO:-0800
TZNAME:PST
DTSTART:20261101T090000
END:STANDARD
BEGIN:DAYLIGHT
TZOFFSETFROM:-0800
TZOFFSETTO:-0700
TZNAME:PDT
DTSTART:20270314T100000
END:DAYLIGHT
BEGIN:STANDARD
TZOFFSETFROM:-0700
TZOFFSETTO:-0800
TZNAME:PST
DTSTART:20271107T090000
END:STANDARD
END:VTIMEZONE
BEGIN:VEVENT
DTSTART;TZID=America/Los_Angeles:20260716T003000
DTEND;TZID=America/Los_Angeles:20260716T020000
DTSTAMP:20260422T041342
CREATED:20260415T211939Z
LAST-MODIFIED:20260415T221330Z
UID:2017904-1784161800-1784167200@ramayogainstitute.com
SUMMARY:KUNDALINI YOGA & MEDITATION
DESCRIPTION:
URL:https://ramayogainstitute.com/event/kundalini-yoga-meditation-6/2026-07-16/
LOCATION:Online on RA MA TV
CATEGORIES:In Person,RA MA TV Live
ATTACH;FMTTYPE=image/jpeg:https://ramayogainstitute.com/wp-content/uploads/2025/08/Atma-green-wall-01.jpg
END:VEVENT
BEGIN:VEVENT
DTSTART;TZID=America/Los_Angeles:20260717T003000
DTEND;TZID=America/Los_Angeles:20260717T020000
DTSTAMP:20260422T041342
CREATED:20260415T212621Z
LAST-MODIFIED:20260415T221337Z
UID:2017932-1784248200-1784253600@ramayogainstitute.com
SUMMARY:TANTRA & KUNDALINI | with Atma Santokh
DESCRIPTION:
URL:https://ramayogainstitute.com/event/tantra-kundalini-with-atma-santokh/2026-07-17/
LOCATION:Online on RA MA TV
CATEGORIES:In Person,RA MA TV Live
ATTACH;FMTTYPE=image/png:https://ramayogainstitute.com/wp-content/uploads/2025/07/Atma_Santokh_Fitness_5-scaled.png
END:VEVENT
BEGIN:VEVENT
DTSTART;TZID=America/Los_Angeles:20260717T070000
DTEND;TZID=America/Los_Angeles:20260717T081500
DTSTAMP:20260422T041342
CREATED:20251020T014957Z
LAST-MODIFIED:20251020T014957Z
UID:2008120-1784271600-1784276100@ramayogainstitute.com
SUMMARY:SELF-FULFILLMENT | Kundalini Yoga with Atma Santokh
DESCRIPTION:
URL:https://ramayogainstitute.com/event/self-fulfillment-kundalini-yoga/2026-07-17/
LOCATION:Online on RA MA TV
CATEGORIES:In Person,RA MA TV Live
ATTACH;FMTTYPE=image/jpeg:https://ramayogainstitute.com/wp-content/uploads/2024/11/atma-santokh-stupa.jpg
END:VEVENT
BEGIN:VEVENT
DTSTART;TZID=America/Los_Angeles:20260720T070000
DTEND;TZID=America/Los_Angeles:20260720T081500
DTSTAMP:20260422T041342
CREATED:20260414T145110Z
LAST-MODIFIED:20260414T145730Z
UID:2017564-1784530800-1784535300@ramayogainstitute.com
SUMMARY:BREATH OF LIFE | With Atma Santokh
DESCRIPTION:
URL:https://ramayogainstitute.com/event/breath-of-life-with-atma-santokh/2026-07-20/
LOCATION:Online on RA MA TV
CATEGORIES:In Person,RA MA TV Live
ATTACH;FMTTYPE=image/jpeg:https://ramayogainstitute.com/wp-content/uploads/2026/04/ATMA-SANTOKH_katherina-thumbs_1.jpg
END:VEVENT
BEGIN:VEVENT
DTSTART;TZID=America/Los_Angeles:20260722T160000
DTEND;TZID=America/Los_Angeles:20260722T171500
DTSTAMP:20260422T041342
CREATED:20260415T220821Z
LAST-MODIFIED:20260415T220821Z
UID:2018321-1784736000-1784740500@ramayogainstitute.com
SUMMARY:POWER OF THE WORD | with Atma Santokh
DESCRIPTION:
URL:https://ramayogainstitute.com/event/power-of-the-word-with-atma-santokh/2026-07-22/
LOCATION:Online on RA MA TV
CATEGORIES:In Person,RA MA TV Live
ATTACH;FMTTYPE=image/jpeg:https://ramayogainstitute.com/wp-content/uploads/2025/03/Atma-Santokh_palma_02.jpg
END:VEVENT
BEGIN:VEVENT
DTSTART;TZID=America/Los_Angeles:20260723T003000
DTEND;TZID=America/Los_Angeles:20260723T020000
DTSTAMP:20260422T041342
CREATED:20260415T211939Z
LAST-MODIFIED:20260415T221330Z
UID:2017905-1784766600-1784772000@ramayogainstitute.com
SUMMARY:KUNDALINI YOGA & MEDITATION
DESCRIPTION:
URL:https://ramayogainstitute.com/event/kundalini-yoga-meditation-6/2026-07-23/
LOCATION:Online on RA MA TV
CATEGORIES:In Person,RA MA TV Live
ATTACH;FMTTYPE=image/jpeg:https://ramayogainstitute.com/wp-content/uploads/2025/08/Atma-green-wall-01.jpg
END:VEVENT
BEGIN:VEVENT
DTSTART;TZID=America/Los_Angeles:20260724T003000
DTEND;TZID=America/Los_Angeles:20260724T020000
DTSTAMP:20260422T041342
CREATED:20260415T212621Z
LAST-MODIFIED:20260415T221338Z
UID:2017933-1784853000-1784858400@ramayogainstitute.com
SUMMARY:TANTRA & KUNDALINI | with Atma Santokh
DESCRIPTION:
URL:https://ramayogainstitute.com/event/tantra-kundalini-with-atma-santokh/2026-07-24/
LOCATION:Online on RA MA TV
CATEGORIES:In Person,RA MA TV Live
ATTACH;FMTTYPE=image/png:https://ramayogainstitute.com/wp-content/uploads/2025/07/Atma_Santokh_Fitness_5-scaled.png
END:VEVENT
BEGIN:VEVENT
DTSTART;TZID=America/Los_Angeles:20260724T070000
DTEND;TZID=America/Los_Angeles:20260724T081500
DTSTAMP:20260422T041342
CREATED:20251020T014957Z
LAST-MODIFIED:20251020T014957Z
UID:2008770-1784876400-1784880900@ramayogainstitute.com
SUMMARY:SELF-FULFILLMENT | Kundalini Yoga with Atma Santokh
DESCRIPTION:
URL:https://ramayogainstitute.com/event/self-fulfillment-kundalini-yoga/2026-07-24/
LOCATION:Online on RA MA TV
CATEGORIES:In Person,RA MA TV Live
ATTACH;FMTTYPE=image/jpeg:https://ramayogainstitute.com/wp-content/uploads/2024/11/atma-santokh-stupa.jpg
END:VEVENT
BEGIN:VEVENT
DTSTART;TZID=America/Los_Angeles:20260727T070000
DTEND;TZID=America/Los_Angeles:20260727T081500
DTSTAMP:20260422T041342
CREATED:20260414T145110Z
LAST-MODIFIED:20260414T145731Z
UID:2017565-1785135600-1785140100@ramayogainstitute.com
SUMMARY:BREATH OF LIFE | With Atma Santokh
DESCRIPTION:
URL:https://ramayogainstitute.com/event/breath-of-life-with-atma-santokh/2026-07-27/
LOCATION:Online on RA MA TV
CATEGORIES:In Person,RA MA TV Live
ATTACH;FMTTYPE=image/jpeg:https://ramayogainstitute.com/wp-content/uploads/2026/04/ATMA-SANTOKH_katherina-thumbs_1.jpg
END:VEVENT
BEGIN:VEVENT
DTSTART;TZID=America/Los_Angeles:20260729T160000
DTEND;TZID=America/Los_Angeles:20260729T171500
DTSTAMP:20260422T041342
CREATED:20260415T220821Z
LAST-MODIFIED:20260415T220821Z
UID:2018322-1785340800-1785345300@ramayogainstitute.com
SUMMARY:POWER OF THE WORD | with Atma Santokh
DESCRIPTION:
URL:https://ramayogainstitute.com/event/power-of-the-word-with-atma-santokh/2026-07-29/
LOCATION:Online on RA MA TV
CATEGORIES:In Person,RA MA TV Live
ATTACH;FMTTYPE=image/jpeg:https://ramayogainstitute.com/wp-content/uploads/2025/03/Atma-Santokh_palma_02.jpg
END:VEVENT
BEGIN:VEVENT
DTSTART;TZID=America/Los_Angeles:20260730T003000
DTEND;TZID=America/Los_Angeles:20260730T020000
DTSTAMP:20260422T041342
CREATED:20260415T211939Z
LAST-MODIFIED:20260415T221331Z
UID:2017906-1785371400-1785376800@ramayogainstitute.com
SUMMARY:KUNDALINI YOGA & MEDITATION
DESCRIPTION:
URL:https://ramayogainstitute.com/event/kundalini-yoga-meditation-6/2026-07-30/
LOCATION:Online on RA MA TV
CATEGORIES:In Person,RA MA TV Live
ATTACH;FMTTYPE=image/jpeg:https://ramayogainstitute.com/wp-content/uploads/2025/08/Atma-green-wall-01.jpg
END:VEVENT
BEGIN:VEVENT
DTSTART;TZID=America/Los_Angeles:20260731T003000
DTEND;TZID=America/Los_Angeles:20260731T020000
DTSTAMP:20260422T041342
CREATED:20260415T212621Z
LAST-MODIFIED:20260415T221339Z
UID:2017934-1785457800-1785463200@ramayogainstitute.com
SUMMARY:TANTRA & KUNDALINI | with Atma Santokh
DESCRIPTION:
URL:https://ramayogainstitute.com/event/tantra-kundalini-with-atma-santokh/2026-07-31/
LOCATION:Online on RA MA TV
CATEGORIES:In Person,RA MA TV Live
ATTACH;FMTTYPE=image/png:https://ramayogainstitute.com/wp-content/uploads/2025/07/Atma_Santokh_Fitness_5-scaled.png
END:VEVENT
BEGIN:VEVENT
DTSTART;TZID=America/Los_Angeles:20260731T070000
DTEND;TZID=America/Los_Angeles:20260731T081500
DTSTAMP:20260422T041342
CREATED:20251020T014957Z
LAST-MODIFIED:20251020T014957Z
UID:2009142-1785481200-1785485700@ramayogainstitute.com
SUMMARY:SELF-FULFILLMENT | Kundalini Yoga with Atma Santokh
DESCRIPTION:
URL:https://ramayogainstitute.com/event/self-fulfillment-kundalini-yoga/2026-07-31/
LOCATION:Online on RA MA TV
CATEGORIES:In Person,RA MA TV Live
ATTACH;FMTTYPE=image/jpeg:https://ramayogainstitute.com/wp-content/uploads/2024/11/atma-santokh-stupa.jpg
END:VEVENT
BEGIN:VEVENT
DTSTART;TZID=America/Los_Angeles:20260803T070000
DTEND;TZID=America/Los_Angeles:20260803T081500
DTSTAMP:20260422T041342
CREATED:20260414T145110Z
LAST-MODIFIED:20260414T145731Z
UID:2017566-1785740400-1785744900@ramayogainstitute.com
SUMMARY:BREATH OF LIFE | With Atma Santokh
DESCRIPTION:
URL:https://ramayogainstitute.com/event/breath-of-life-with-atma-santokh/2026-08-03/
LOCATION:Online on RA MA TV
CATEGORIES:In Person,RA MA TV Live
ATTACH;FMTTYPE=image/jpeg:https://ramayogainstitute.com/wp-content/uploads/2026/04/ATMA-SANTOKH_katherina-thumbs_1.jpg
END:VEVENT
BEGIN:VEVENT
DTSTART;TZID=America/Los_Angeles:20260805T160000
DTEND;TZID=America/Los_Angeles:20260805T171500
DTSTAMP:20260422T041342
CREATED:20260415T220821Z
LAST-MODIFIED:20260415T220821Z
UID:2018323-1785945600-1785950100@ramayogainstitute.com
SUMMARY:POWER OF THE WORD | with Atma Santokh
DESCRIPTION:
URL:https://ramayogainstitute.com/event/power-of-the-word-with-atma-santokh/2026-08-05/
LOCATION:Online on RA MA TV
CATEGORIES:In Person,RA MA TV Live
ATTACH;FMTTYPE=image/jpeg:https://ramayogainstitute.com/wp-content/uploads/2025/03/Atma-Santokh_palma_02.jpg
END:VEVENT
BEGIN:VEVENT
DTSTART;TZID=America/Los_Angeles:20260806T003000
DTEND;TZID=America/Los_Angeles:20260806T020000
DTSTAMP:20260422T041342
CREATED:20260415T211939Z
LAST-MODIFIED:20260415T221332Z
UID:2017907-1785976200-1785981600@ramayogainstitute.com
SUMMARY:KUNDALINI YOGA & MEDITATION
DESCRIPTION:
URL:https://ramayogainstitute.com/event/kundalini-yoga-meditation-6/2026-08-06/
LOCATION:Online on RA MA TV
CATEGORIES:In Person,RA MA TV Live
ATTACH;FMTTYPE=image/jpeg:https://ramayogainstitute.com/wp-content/uploads/2025/08/Atma-green-wall-01.jpg
END:VEVENT
BEGIN:VEVENT
DTSTART;TZID=America/Los_Angeles:20260807T003000
DTEND;TZID=America/Los_Angeles:20260807T020000
DTSTAMP:20260422T041342
CREATED:20260206T160116Z
LAST-MODIFIED:20260206T160116Z
UID:2010135-1786062600-1786068000@ramayogainstitute.com
SUMMARY:KUNDALINI YOGA & MEDITATION
DESCRIPTION:
URL:https://ramayogainstitute.com/event/kundalini-yoga-meditation-9/2026-08-07/
LOCATION:Online on RA MA TV
CATEGORIES:In Person,RA MA TV Live
ATTACH;FMTTYPE=image/jpeg:https://ramayogainstitute.com/wp-content/uploads/2025/08/Atma-green-wall-01.jpg
END:VEVENT
BEGIN:VEVENT
DTSTART;TZID=America/Los_Angeles:20260807T003000
DTEND;TZID=America/Los_Angeles:20260807T020000
DTSTAMP:20260422T041342
CREATED:20260415T212621Z
LAST-MODIFIED:20260415T221340Z
UID:2017935-1786062600-1786068000@ramayogainstitute.com
SUMMARY:TANTRA & KUNDALINI | with Atma Santokh
DESCRIPTION:
URL:https://ramayogainstitute.com/event/tantra-kundalini-with-atma-santokh/2026-08-07/
LOCATION:Online on RA MA TV
CATEGORIES:In Person,RA MA TV Live
ATTACH;FMTTYPE=image/png:https://ramayogainstitute.com/wp-content/uploads/2025/07/Atma_Santokh_Fitness_5-scaled.png
END:VEVENT
BEGIN:VEVENT
DTSTART;TZID=America/Los_Angeles:20260807T070000
DTEND;TZID=America/Los_Angeles:20260807T081500
DTSTAMP:20260422T041342
CREATED:20251020T014957Z
LAST-MODIFIED:20251020T014957Z
UID:2010130-1786086000-1786090500@ramayogainstitute.com
SUMMARY:SELF-FULFILLMENT | Kundalini Yoga with Atma Santokh
DESCRIPTION:
URL:https://ramayogainstitute.com/event/self-fulfillment-kundalini-yoga/2026-08-07/
LOCATION:Online on RA MA TV
CATEGORIES:In Person,RA MA TV Live
ATTACH;FMTTYPE=image/jpeg:https://ramayogainstitute.com/wp-content/uploads/2024/11/atma-santokh-stupa.jpg
END:VEVENT
BEGIN:VEVENT
DTSTART;TZID=America/Los_Angeles:20260810T070000
DTEND;TZID=America/Los_Angeles:20260810T081500
DTSTAMP:20260422T041342
CREATED:20260414T145110Z
LAST-MODIFIED:20260414T145732Z
UID:2017567-1786345200-1786349700@ramayogainstitute.com
SUMMARY:BREATH OF LIFE | With Atma Santokh
DESCRIPTION:
URL:https://ramayogainstitute.com/event/breath-of-life-with-atma-santokh/2026-08-10/
LOCATION:Online on RA MA TV
CATEGORIES:In Person,RA MA TV Live
ATTACH;FMTTYPE=image/jpeg:https://ramayogainstitute.com/wp-content/uploads/2026/04/ATMA-SANTOKH_katherina-thumbs_1.jpg
END:VEVENT
BEGIN:VEVENT
DTSTART;TZID=America/Los_Angeles:20260812T160000
DTEND;TZID=America/Los_Angeles:20260812T171500
DTSTAMP:20260422T041342
CREATED:20260415T220821Z
LAST-MODIFIED:20260415T220821Z
UID:2018324-1786550400-1786554900@ramayogainstitute.com
SUMMARY:POWER OF THE WORD | with Atma Santokh
DESCRIPTION:
URL:https://ramayogainstitute.com/event/power-of-the-word-with-atma-santokh/2026-08-12/
LOCATION:Online on RA MA TV
CATEGORIES:In Person,RA MA TV Live
ATTACH;FMTTYPE=image/jpeg:https://ramayogainstitute.com/wp-content/uploads/2025/03/Atma-Santokh_palma_02.jpg
END:VEVENT
BEGIN:VEVENT
DTSTART;TZID=America/Los_Angeles:20260813T003000
DTEND;TZID=America/Los_Angeles:20260813T020000
DTSTAMP:20260422T041342
CREATED:20260415T211939Z
LAST-MODIFIED:20260415T221333Z
UID:2017908-1786581000-1786586400@ramayogainstitute.com
SUMMARY:KUNDALINI YOGA & MEDITATION
DESCRIPTION:
URL:https://ramayogainstitute.com/event/kundalini-yoga-meditation-6/2026-08-13/
LOCATION:Online on RA MA TV
CATEGORIES:In Person,RA MA TV Live
ATTACH;FMTTYPE=image/jpeg:https://ramayogainstitute.com/wp-content/uploads/2025/08/Atma-green-wall-01.jpg
END:VEVENT
BEGIN:VEVENT
DTSTART;TZID=America/Los_Angeles:20260814T003000
DTEND;TZID=America/Los_Angeles:20260814T020000
DTSTAMP:20260422T041342
CREATED:20260206T160116Z
LAST-MODIFIED:20260206T160116Z
UID:2010880-1786667400-1786672800@ramayogainstitute.com
SUMMARY:KUNDALINI YOGA & MEDITATION
DESCRIPTION:
URL:https://ramayogainstitute.com/event/kundalini-yoga-meditation-9/2026-08-14/
LOCATION:Online on RA MA TV
CATEGORIES:In Person,RA MA TV Live
ATTACH;FMTTYPE=image/jpeg:https://ramayogainstitute.com/wp-content/uploads/2025/08/Atma-green-wall-01.jpg
END:VEVENT
BEGIN:VEVENT
DTSTART;TZID=America/Los_Angeles:20260814T003000
DTEND;TZID=America/Los_Angeles:20260814T020000
DTSTAMP:20260422T041342
CREATED:20260415T212621Z
LAST-MODIFIED:20260415T221341Z
UID:2017936-1786667400-1786672800@ramayogainstitute.com
SUMMARY:TANTRA & KUNDALINI | with Atma Santokh
DESCRIPTION:
URL:https://ramayogainstitute.com/event/tantra-kundalini-with-atma-santokh/2026-08-14/
LOCATION:Online on RA MA TV
CATEGORIES:In Person,RA MA TV Live
ATTACH;FMTTYPE=image/png:https://ramayogainstitute.com/wp-content/uploads/2025/07/Atma_Santokh_Fitness_5-scaled.png
END:VEVENT
BEGIN:VEVENT
DTSTART;TZID=America/Los_Angeles:20260814T070000
DTEND;TZID=America/Los_Angeles:20260814T081500
DTSTAMP:20260422T041342
CREATED:20251020T014957Z
LAST-MODIFIED:20251020T014957Z
UID:2010875-1786690800-1786695300@ramayogainstitute.com
SUMMARY:SELF-FULFILLMENT | Kundalini Yoga with Atma Santokh
DESCRIPTION:
URL:https://ramayogainstitute.com/event/self-fulfillment-kundalini-yoga/2026-08-14/
LOCATION:Online on RA MA TV
CATEGORIES:In Person,RA MA TV Live
ATTACH;FMTTYPE=image/jpeg:https://ramayogainstitute.com/wp-content/uploads/2024/11/atma-santokh-stupa.jpg
END:VEVENT
BEGIN:VEVENT
DTSTART;TZID=America/Los_Angeles:20260817T070000
DTEND;TZID=America/Los_Angeles:20260817T081500
DTSTAMP:20260422T041342
CREATED:20260414T145110Z
LAST-MODIFIED:20260414T145733Z
UID:2017568-1786950000-1786954500@ramayogainstitute.com
SUMMARY:BREATH OF LIFE | With Atma Santokh
DESCRIPTION:
URL:https://ramayogainstitute.com/event/breath-of-life-with-atma-santokh/2026-08-17/
LOCATION:Online on RA MA TV
CATEGORIES:In Person,RA MA TV Live
ATTACH;FMTTYPE=image/jpeg:https://ramayogainstitute.com/wp-content/uploads/2026/04/ATMA-SANTOKH_katherina-thumbs_1.jpg
END:VEVENT
BEGIN:VEVENT
DTSTART;TZID=America/Los_Angeles:20260819T160000
DTEND;TZID=America/Los_Angeles:20260819T171500
DTSTAMP:20260422T041342
CREATED:20260415T220821Z
LAST-MODIFIED:20260415T220821Z
UID:2018325-1787155200-1787159700@ramayogainstitute.com
SUMMARY:POWER OF THE WORD | with Atma Santokh
DESCRIPTION:
URL:https://ramayogainstitute.com/event/power-of-the-word-with-atma-santokh/2026-08-19/
LOCATION:Online on RA MA TV
CATEGORIES:In Person,RA MA TV Live
ATTACH;FMTTYPE=image/jpeg:https://ramayogainstitute.com/wp-content/uploads/2025/03/Atma-Santokh_palma_02.jpg
END:VEVENT
BEGIN:VEVENT
DTSTART;TZID=America/Los_Angeles:20260820T003000
DTEND;TZID=America/Los_Angeles:20260820T020000
DTSTAMP:20260422T041342
CREATED:20260415T211939Z
LAST-MODIFIED:20260415T221334Z
UID:2017909-1787185800-1787191200@ramayogainstitute.com
SUMMARY:KUNDALINI YOGA & MEDITATION
DESCRIPTION:
URL:https://ramayogainstitute.com/event/kundalini-yoga-meditation-6/2026-08-20/
LOCATION:Online on RA MA TV
CATEGORIES:In Person,RA MA TV Live
ATTACH;FMTTYPE=image/jpeg:https://ramayogainstitute.com/wp-content/uploads/2025/08/Atma-green-wall-01.jpg
END:VEVENT
BEGIN:VEVENT
DTSTART;TZID=America/Los_Angeles:20260821T003000
DTEND;TZID=America/Los_Angeles:20260821T020000
DTSTAMP:20260422T041342
CREATED:20260206T160116Z
LAST-MODIFIED:20260206T160116Z
UID:2011387-1787272200-1787277600@ramayogainstitute.com
SUMMARY:KUNDALINI YOGA & MEDITATION
DESCRIPTION:
URL:https://ramayogainstitute.com/event/kundalini-yoga-meditation-9/2026-08-21/
LOCATION:Online on RA MA TV
CATEGORIES:In Person,RA MA TV Live
ATTACH;FMTTYPE=image/jpeg:https://ramayogainstitute.com/wp-content/uploads/2025/08/Atma-green-wall-01.jpg
END:VEVENT
BEGIN:VEVENT
DTSTART;TZID=America/Los_Angeles:20260821T003000
DTEND;TZID=America/Los_Angeles:20260821T020000
DTSTAMP:20260422T041342
CREATED:20260415T212621Z
LAST-MODIFIED:20260415T221341Z
UID:2017937-1787272200-1787277600@ramayogainstitute.com
SUMMARY:TANTRA & KUNDALINI | with Atma Santokh
DESCRIPTION:
URL:https://ramayogainstitute.com/event/tantra-kundalini-with-atma-santokh/2026-08-21/
LOCATION:Online on RA MA TV
CATEGORIES:In Person,RA MA TV Live
ATTACH;FMTTYPE=image/png:https://ramayogainstitute.com/wp-content/uploads/2025/07/Atma_Santokh_Fitness_5-scaled.png
END:VEVENT
END:VCALENDAR