BEGIN:VCALENDAR
VERSION:2.0
PRODID:-//RA MA LIFE - ECPv6.15.15//NONSGML v1.0//EN
CALSCALE:GREGORIAN
METHOD:PUBLISH
X-WR-CALNAME:RA MA LIFE
X-ORIGINAL-URL:https://ramayogainstitute.com
X-WR-CALDESC:Events for RA MA LIFE
REFRESH-INTERVAL;VALUE=DURATION:PT1H
X-Robots-Tag:noindex
X-PUBLISHED-TTL:PT1H
BEGIN:VTIMEZONE
TZID:America/Los_Angeles
BEGIN:DAYLIGHT
TZOFFSETFROM:-0800
TZOFFSETTO:-0700
TZNAME:PDT
DTSTART:20250309T100000
END:DAYLIGHT
BEGIN:STANDARD
TZOFFSETFROM:-0700
TZOFFSETTO:-0800
TZNAME:PST
DTSTART:20251102T090000
END:STANDARD
BEGIN:DAYLIGHT
TZOFFSETFROM:-0800
TZOFFSETTO:-0700
TZNAME:PDT
DTSTART:20260308T100000
END:DAYLIGHT
BEGIN:STANDARD
TZOFFSETFROM:-0700
TZOFFSETTO:-0800
TZNAME:PST
DTSTART:20261101T090000
END:STANDARD
BEGIN:DAYLIGHT
TZOFFSETFROM:-0800
TZOFFSETTO:-0700
TZNAME:PDT
DTSTART:20270314T100000
END:DAYLIGHT
BEGIN:STANDARD
TZOFFSETFROM:-0700
TZOFFSETTO:-0800
TZNAME:PST
DTSTART:20271107T090000
END:STANDARD
END:VTIMEZONE
BEGIN:VEVENT
DTSTART;TZID=America/Los_Angeles:20260601T070000
DTEND;TZID=America/Los_Angeles:20260601T081500
DTSTAMP:20260421T211056
CREATED:20260414T145110Z
LAST-MODIFIED:20260414T145715Z
UID:2017557-1780297200-1780301700@ramayogainstitute.com
SUMMARY:BREATH OF LIFE | With Atma Santokh
DESCRIPTION:
URL:https://ramayogainstitute.com/event/breath-of-life-with-atma-santokh/2026-06-01/
LOCATION:Online on RA MA TV
CATEGORIES:In Person,RA MA TV Live
ATTACH;FMTTYPE=image/jpeg:https://ramayogainstitute.com/wp-content/uploads/2026/04/ATMA-SANTOKH_katherina-thumbs_1.jpg
END:VEVENT
BEGIN:VEVENT
DTSTART;TZID=America/Los_Angeles:20260603T160000
DTEND;TZID=America/Los_Angeles:20260603T171500
DTSTAMP:20260421T211056
CREATED:20260415T220821Z
LAST-MODIFIED:20260415T220821Z
UID:2018314-1780502400-1780506900@ramayogainstitute.com
SUMMARY:POWER OF THE WORD | with Atma Santokh
DESCRIPTION:
URL:https://ramayogainstitute.com/event/power-of-the-word-with-atma-santokh/2026-06-03/
LOCATION:Online on RA MA TV
CATEGORIES:In Person,RA MA TV Live
ATTACH;FMTTYPE=image/jpeg:https://ramayogainstitute.com/wp-content/uploads/2025/03/Atma-Santokh_palma_02.jpg
END:VEVENT
BEGIN:VEVENT
DTSTART;TZID=America/Los_Angeles:20260604T003000
DTEND;TZID=America/Los_Angeles:20260604T020000
DTSTAMP:20260421T211056
CREATED:20260415T211939Z
LAST-MODIFIED:20260415T221315Z
UID:2017898-1780533000-1780538400@ramayogainstitute.com
SUMMARY:KUNDALINI YOGA & MEDITATION
DESCRIPTION:
URL:https://ramayogainstitute.com/event/kundalini-yoga-meditation-6/2026-06-04/
LOCATION:Online on RA MA TV
CATEGORIES:In Person,RA MA TV Live
ATTACH;FMTTYPE=image/jpeg:https://ramayogainstitute.com/wp-content/uploads/2025/08/Atma-green-wall-01.jpg
END:VEVENT
BEGIN:VEVENT
DTSTART;TZID=America/Los_Angeles:20260605T003000
DTEND;TZID=America/Los_Angeles:20260605T020000
DTSTAMP:20260421T211056
CREATED:20260415T212621Z
LAST-MODIFIED:20260415T221323Z
UID:2017926-1780619400-1780624800@ramayogainstitute.com
SUMMARY:TANTRA & KUNDALINI | with Atma Santokh
DESCRIPTION:
URL:https://ramayogainstitute.com/event/tantra-kundalini-with-atma-santokh/2026-06-05/
LOCATION:Online on RA MA TV
CATEGORIES:In Person,RA MA TV Live
ATTACH;FMTTYPE=image/png:https://ramayogainstitute.com/wp-content/uploads/2025/07/Atma_Santokh_Fitness_5-scaled.png
END:VEVENT
BEGIN:VEVENT
DTSTART;TZID=America/Los_Angeles:20260605T080000
DTEND;TZID=America/Los_Angeles:20260605T091500
DTSTAMP:20260421T211056
CREATED:20251020T014957Z
LAST-MODIFIED:20260102T153305Z
UID:2002739-1780646400-1780650900@ramayogainstitute.com
SUMMARY:SELF-FULFILLMENT | Kundalini Yoga with Atma Santokh
DESCRIPTION:
URL:https://ramayogainstitute.com/event/self-fulfillment-kundalini-yoga/2026-06-05/
LOCATION:Online on RA MA TV
CATEGORIES:In Person,RA MA TV Live
ATTACH;FMTTYPE=image/jpeg:https://ramayogainstitute.com/wp-content/uploads/2024/11/atma-santokh-stupa.jpg
END:VEVENT
BEGIN:VEVENT
DTSTART;TZID=America/Los_Angeles:20260608T070000
DTEND;TZID=America/Los_Angeles:20260608T081500
DTSTAMP:20260421T211056
CREATED:20260414T145110Z
LAST-MODIFIED:20260414T145716Z
UID:2017558-1780902000-1780906500@ramayogainstitute.com
SUMMARY:BREATH OF LIFE | With Atma Santokh
DESCRIPTION:
URL:https://ramayogainstitute.com/event/breath-of-life-with-atma-santokh/2026-06-08/
LOCATION:Online on RA MA TV
CATEGORIES:In Person,RA MA TV Live
ATTACH;FMTTYPE=image/jpeg:https://ramayogainstitute.com/wp-content/uploads/2026/04/ATMA-SANTOKH_katherina-thumbs_1.jpg
END:VEVENT
BEGIN:VEVENT
DTSTART;TZID=America/Los_Angeles:20260610T160000
DTEND;TZID=America/Los_Angeles:20260610T171500
DTSTAMP:20260421T211056
CREATED:20260415T220821Z
LAST-MODIFIED:20260415T220821Z
UID:2018315-1781107200-1781111700@ramayogainstitute.com
SUMMARY:POWER OF THE WORD | with Atma Santokh
DESCRIPTION:
URL:https://ramayogainstitute.com/event/power-of-the-word-with-atma-santokh/2026-06-10/
LOCATION:Online on RA MA TV
CATEGORIES:In Person,RA MA TV Live
ATTACH;FMTTYPE=image/jpeg:https://ramayogainstitute.com/wp-content/uploads/2025/03/Atma-Santokh_palma_02.jpg
END:VEVENT
BEGIN:VEVENT
DTSTART;TZID=America/Los_Angeles:20260611T003000
DTEND;TZID=America/Los_Angeles:20260611T020000
DTSTAMP:20260421T211056
CREATED:20260415T211939Z
LAST-MODIFIED:20260415T221316Z
UID:2017899-1781137800-1781143200@ramayogainstitute.com
SUMMARY:KUNDALINI YOGA & MEDITATION
DESCRIPTION:
URL:https://ramayogainstitute.com/event/kundalini-yoga-meditation-6/2026-06-11/
LOCATION:Online on RA MA TV
CATEGORIES:In Person,RA MA TV Live
ATTACH;FMTTYPE=image/jpeg:https://ramayogainstitute.com/wp-content/uploads/2025/08/Atma-green-wall-01.jpg
END:VEVENT
BEGIN:VEVENT
DTSTART;TZID=America/Los_Angeles:20260612T003000
DTEND;TZID=America/Los_Angeles:20260612T020000
DTSTAMP:20260421T211056
CREATED:20260415T212621Z
LAST-MODIFIED:20260415T221324Z
UID:2017927-1781224200-1781229600@ramayogainstitute.com
SUMMARY:TANTRA & KUNDALINI | with Atma Santokh
DESCRIPTION:
URL:https://ramayogainstitute.com/event/tantra-kundalini-with-atma-santokh/2026-06-12/
LOCATION:Online on RA MA TV
CATEGORIES:In Person,RA MA TV Live
ATTACH;FMTTYPE=image/png:https://ramayogainstitute.com/wp-content/uploads/2025/07/Atma_Santokh_Fitness_5-scaled.png
END:VEVENT
BEGIN:VEVENT
DTSTART;TZID=America/Los_Angeles:20260612T080000
DTEND;TZID=America/Los_Angeles:20260612T091500
DTSTAMP:20260421T211056
CREATED:20251020T014957Z
LAST-MODIFIED:20260102T153306Z
UID:2003269-1781251200-1781255700@ramayogainstitute.com
SUMMARY:SELF-FULFILLMENT | Kundalini Yoga with Atma Santokh
DESCRIPTION:
URL:https://ramayogainstitute.com/event/self-fulfillment-kundalini-yoga/2026-06-12/
LOCATION:Online on RA MA TV
CATEGORIES:In Person,RA MA TV Live
ATTACH;FMTTYPE=image/jpeg:https://ramayogainstitute.com/wp-content/uploads/2024/11/atma-santokh-stupa.jpg
END:VEVENT
BEGIN:VEVENT
DTSTART;TZID=America/Los_Angeles:20260615T070000
DTEND;TZID=America/Los_Angeles:20260615T081500
DTSTAMP:20260421T211056
CREATED:20260414T145110Z
LAST-MODIFIED:20260414T145717Z
UID:2017559-1781506800-1781511300@ramayogainstitute.com
SUMMARY:BREATH OF LIFE | With Atma Santokh
DESCRIPTION:
URL:https://ramayogainstitute.com/event/breath-of-life-with-atma-santokh/2026-06-15/
LOCATION:Online on RA MA TV
CATEGORIES:In Person,RA MA TV Live
ATTACH;FMTTYPE=image/jpeg:https://ramayogainstitute.com/wp-content/uploads/2026/04/ATMA-SANTOKH_katherina-thumbs_1.jpg
END:VEVENT
BEGIN:VEVENT
DTSTART;TZID=America/Los_Angeles:20260617T160000
DTEND;TZID=America/Los_Angeles:20260617T171500
DTSTAMP:20260421T211056
CREATED:20260415T220821Z
LAST-MODIFIED:20260415T220821Z
UID:2018316-1781712000-1781716500@ramayogainstitute.com
SUMMARY:POWER OF THE WORD | with Atma Santokh
DESCRIPTION:
URL:https://ramayogainstitute.com/event/power-of-the-word-with-atma-santokh/2026-06-17/
LOCATION:Online on RA MA TV
CATEGORIES:In Person,RA MA TV Live
ATTACH;FMTTYPE=image/jpeg:https://ramayogainstitute.com/wp-content/uploads/2025/03/Atma-Santokh_palma_02.jpg
END:VEVENT
BEGIN:VEVENT
DTSTART;TZID=America/Los_Angeles:20260618T003000
DTEND;TZID=America/Los_Angeles:20260618T020000
DTSTAMP:20260421T211056
CREATED:20260415T211939Z
LAST-MODIFIED:20260415T221317Z
UID:2017900-1781742600-1781748000@ramayogainstitute.com
SUMMARY:KUNDALINI YOGA & MEDITATION
DESCRIPTION:
URL:https://ramayogainstitute.com/event/kundalini-yoga-meditation-6/2026-06-18/
LOCATION:Online on RA MA TV
CATEGORIES:In Person,RA MA TV Live
ATTACH;FMTTYPE=image/jpeg:https://ramayogainstitute.com/wp-content/uploads/2025/08/Atma-green-wall-01.jpg
END:VEVENT
BEGIN:VEVENT
DTSTART;TZID=America/Los_Angeles:20260619T003000
DTEND;TZID=America/Los_Angeles:20260619T020000
DTSTAMP:20260421T211056
CREATED:20260415T212621Z
LAST-MODIFIED:20260415T221325Z
UID:2017928-1781829000-1781834400@ramayogainstitute.com
SUMMARY:TANTRA & KUNDALINI | with Atma Santokh
DESCRIPTION:
URL:https://ramayogainstitute.com/event/tantra-kundalini-with-atma-santokh/2026-06-19/
LOCATION:Online on RA MA TV
CATEGORIES:In Person,RA MA TV Live
ATTACH;FMTTYPE=image/png:https://ramayogainstitute.com/wp-content/uploads/2025/07/Atma_Santokh_Fitness_5-scaled.png
END:VEVENT
BEGIN:VEVENT
DTSTART;TZID=America/Los_Angeles:20260619T080000
DTEND;TZID=America/Los_Angeles:20260619T091500
DTSTAMP:20260421T211056
CREATED:20251020T014957Z
LAST-MODIFIED:20260102T153307Z
UID:2003776-1781856000-1781860500@ramayogainstitute.com
SUMMARY:SELF-FULFILLMENT | Kundalini Yoga with Atma Santokh
DESCRIPTION:
URL:https://ramayogainstitute.com/event/self-fulfillment-kundalini-yoga/2026-06-19/
LOCATION:Online on RA MA TV
CATEGORIES:In Person,RA MA TV Live
ATTACH;FMTTYPE=image/jpeg:https://ramayogainstitute.com/wp-content/uploads/2024/11/atma-santokh-stupa.jpg
END:VEVENT
BEGIN:VEVENT
DTSTART;TZID=America/Los_Angeles:20260622T070000
DTEND;TZID=America/Los_Angeles:20260622T081500
DTSTAMP:20260421T211056
CREATED:20260414T145110Z
LAST-MODIFIED:20260414T145718Z
UID:2017560-1782111600-1782116100@ramayogainstitute.com
SUMMARY:BREATH OF LIFE | With Atma Santokh
DESCRIPTION:
URL:https://ramayogainstitute.com/event/breath-of-life-with-atma-santokh/2026-06-22/
LOCATION:Online on RA MA TV
CATEGORIES:In Person,RA MA TV Live
ATTACH;FMTTYPE=image/jpeg:https://ramayogainstitute.com/wp-content/uploads/2026/04/ATMA-SANTOKH_katherina-thumbs_1.jpg
END:VEVENT
BEGIN:VEVENT
DTSTART;TZID=America/Los_Angeles:20260624T160000
DTEND;TZID=America/Los_Angeles:20260624T171500
DTSTAMP:20260421T211056
CREATED:20260415T220821Z
LAST-MODIFIED:20260415T220821Z
UID:2018317-1782316800-1782321300@ramayogainstitute.com
SUMMARY:POWER OF THE WORD | with Atma Santokh
DESCRIPTION:
URL:https://ramayogainstitute.com/event/power-of-the-word-with-atma-santokh/2026-06-24/
LOCATION:Online on RA MA TV
CATEGORIES:In Person,RA MA TV Live
ATTACH;FMTTYPE=image/jpeg:https://ramayogainstitute.com/wp-content/uploads/2025/03/Atma-Santokh_palma_02.jpg
END:VEVENT
BEGIN:VEVENT
DTSTART;TZID=America/Los_Angeles:20260625T003000
DTEND;TZID=America/Los_Angeles:20260625T020000
DTSTAMP:20260421T211056
CREATED:20260415T211939Z
LAST-MODIFIED:20260415T221327Z
UID:2017901-1782347400-1782352800@ramayogainstitute.com
SUMMARY:KUNDALINI YOGA & MEDITATION
DESCRIPTION:
URL:https://ramayogainstitute.com/event/kundalini-yoga-meditation-6/2026-06-25/
LOCATION:Online on RA MA TV
CATEGORIES:In Person,RA MA TV Live
ATTACH;FMTTYPE=image/jpeg:https://ramayogainstitute.com/wp-content/uploads/2025/08/Atma-green-wall-01.jpg
END:VEVENT
BEGIN:VEVENT
DTSTART;TZID=America/Los_Angeles:20260626T003000
DTEND;TZID=America/Los_Angeles:20260626T020000
DTSTAMP:20260421T211056
CREATED:20260415T212621Z
LAST-MODIFIED:20260415T221335Z
UID:2017929-1782433800-1782439200@ramayogainstitute.com
SUMMARY:TANTRA & KUNDALINI | with Atma Santokh
DESCRIPTION:
URL:https://ramayogainstitute.com/event/tantra-kundalini-with-atma-santokh/2026-06-26/
LOCATION:Online on RA MA TV
CATEGORIES:In Person,RA MA TV Live
ATTACH;FMTTYPE=image/png:https://ramayogainstitute.com/wp-content/uploads/2025/07/Atma_Santokh_Fitness_5-scaled.png
END:VEVENT
BEGIN:VEVENT
DTSTART;TZID=America/Los_Angeles:20260626T080000
DTEND;TZID=America/Los_Angeles:20260626T091500
DTSTAMP:20260421T211056
CREATED:20251020T014957Z
LAST-MODIFIED:20260102T153307Z
UID:2004464-1782460800-1782465300@ramayogainstitute.com
SUMMARY:SELF-FULFILLMENT | Kundalini Yoga with Atma Santokh
DESCRIPTION:
URL:https://ramayogainstitute.com/event/self-fulfillment-kundalini-yoga/2026-06-26/
LOCATION:Online on RA MA TV
CATEGORIES:In Person,RA MA TV Live
ATTACH;FMTTYPE=image/jpeg:https://ramayogainstitute.com/wp-content/uploads/2024/11/atma-santokh-stupa.jpg
END:VEVENT
BEGIN:VEVENT
DTSTART;TZID=America/Los_Angeles:20260629T070000
DTEND;TZID=America/Los_Angeles:20260629T081500
DTSTAMP:20260421T211056
CREATED:20260414T145110Z
LAST-MODIFIED:20260414T145719Z
UID:2017561-1782716400-1782720900@ramayogainstitute.com
SUMMARY:BREATH OF LIFE | With Atma Santokh
DESCRIPTION:
URL:https://ramayogainstitute.com/event/breath-of-life-with-atma-santokh/2026-06-29/
LOCATION:Online on RA MA TV
CATEGORIES:In Person,RA MA TV Live
ATTACH;FMTTYPE=image/jpeg:https://ramayogainstitute.com/wp-content/uploads/2026/04/ATMA-SANTOKH_katherina-thumbs_1.jpg
END:VEVENT
BEGIN:VEVENT
DTSTART;TZID=America/Los_Angeles:20260701T160000
DTEND;TZID=America/Los_Angeles:20260701T171500
DTSTAMP:20260421T211056
CREATED:20260415T220821Z
LAST-MODIFIED:20260415T220821Z
UID:2018318-1782921600-1782926100@ramayogainstitute.com
SUMMARY:POWER OF THE WORD | with Atma Santokh
DESCRIPTION:
URL:https://ramayogainstitute.com/event/power-of-the-word-with-atma-santokh/2026-07-01/
LOCATION:Online on RA MA TV
CATEGORIES:In Person,RA MA TV Live
ATTACH;FMTTYPE=image/jpeg:https://ramayogainstitute.com/wp-content/uploads/2025/03/Atma-Santokh_palma_02.jpg
END:VEVENT
BEGIN:VEVENT
DTSTART;TZID=America/Los_Angeles:20260702T003000
DTEND;TZID=America/Los_Angeles:20260702T020000
DTSTAMP:20260421T211056
CREATED:20260415T211939Z
LAST-MODIFIED:20260415T221328Z
UID:2017902-1782952200-1782957600@ramayogainstitute.com
SUMMARY:KUNDALINI YOGA & MEDITATION
DESCRIPTION:
URL:https://ramayogainstitute.com/event/kundalini-yoga-meditation-6/2026-07-02/
LOCATION:Online on RA MA TV
CATEGORIES:In Person,RA MA TV Live
ATTACH;FMTTYPE=image/jpeg:https://ramayogainstitute.com/wp-content/uploads/2025/08/Atma-green-wall-01.jpg
END:VEVENT
BEGIN:VEVENT
DTSTART;TZID=America/Los_Angeles:20260703T003000
DTEND;TZID=America/Los_Angeles:20260703T020000
DTSTAMP:20260421T211056
CREATED:20260415T212621Z
LAST-MODIFIED:20260415T221336Z
UID:2017930-1783038600-1783044000@ramayogainstitute.com
SUMMARY:TANTRA & KUNDALINI | with Atma Santokh
DESCRIPTION:
URL:https://ramayogainstitute.com/event/tantra-kundalini-with-atma-santokh/2026-07-03/
LOCATION:Online on RA MA TV
CATEGORIES:In Person,RA MA TV Live
ATTACH;FMTTYPE=image/png:https://ramayogainstitute.com/wp-content/uploads/2025/07/Atma_Santokh_Fitness_5-scaled.png
END:VEVENT
BEGIN:VEVENT
DTSTART;TZID=America/Los_Angeles:20260703T080000
DTEND;TZID=America/Los_Angeles:20260703T091500
DTSTAMP:20260421T211056
CREATED:20251020T014957Z
LAST-MODIFIED:20251020T014957Z
UID:2006241-1783065600-1783070100@ramayogainstitute.com
SUMMARY:SELF-FULFILLMENT | Kundalini Yoga with Atma Santokh
DESCRIPTION:
URL:https://ramayogainstitute.com/event/self-fulfillment-kundalini-yoga/2026-07-03/
LOCATION:Online on RA MA TV
CATEGORIES:In Person,RA MA TV Live
ATTACH;FMTTYPE=image/jpeg:https://ramayogainstitute.com/wp-content/uploads/2024/11/atma-santokh-stupa.jpg
END:VEVENT
BEGIN:VEVENT
DTSTART;TZID=America/Los_Angeles:20260706T070000
DTEND;TZID=America/Los_Angeles:20260706T081500
DTSTAMP:20260421T211056
CREATED:20260414T145110Z
LAST-MODIFIED:20260414T145728Z
UID:2017562-1783321200-1783325700@ramayogainstitute.com
SUMMARY:BREATH OF LIFE | With Atma Santokh
DESCRIPTION:
URL:https://ramayogainstitute.com/event/breath-of-life-with-atma-santokh/2026-07-06/
LOCATION:Online on RA MA TV
CATEGORIES:In Person,RA MA TV Live
ATTACH;FMTTYPE=image/jpeg:https://ramayogainstitute.com/wp-content/uploads/2026/04/ATMA-SANTOKH_katherina-thumbs_1.jpg
END:VEVENT
BEGIN:VEVENT
DTSTART;TZID=America/Los_Angeles:20260708T160000
DTEND;TZID=America/Los_Angeles:20260708T171500
DTSTAMP:20260421T211056
CREATED:20260415T220821Z
LAST-MODIFIED:20260415T220821Z
UID:2018319-1783526400-1783530900@ramayogainstitute.com
SUMMARY:POWER OF THE WORD | with Atma Santokh
DESCRIPTION:
URL:https://ramayogainstitute.com/event/power-of-the-word-with-atma-santokh/2026-07-08/
LOCATION:Online on RA MA TV
CATEGORIES:In Person,RA MA TV Live
ATTACH;FMTTYPE=image/jpeg:https://ramayogainstitute.com/wp-content/uploads/2025/03/Atma-Santokh_palma_02.jpg
END:VEVENT
BEGIN:VEVENT
DTSTART;TZID=America/Los_Angeles:20260709T003000
DTEND;TZID=America/Los_Angeles:20260709T020000
DTSTAMP:20260421T211056
CREATED:20260415T211939Z
LAST-MODIFIED:20260415T221329Z
UID:2017903-1783557000-1783562400@ramayogainstitute.com
SUMMARY:KUNDALINI YOGA & MEDITATION
DESCRIPTION:
URL:https://ramayogainstitute.com/event/kundalini-yoga-meditation-6/2026-07-09/
LOCATION:Online on RA MA TV
CATEGORIES:In Person,RA MA TV Live
ATTACH;FMTTYPE=image/jpeg:https://ramayogainstitute.com/wp-content/uploads/2025/08/Atma-green-wall-01.jpg
END:VEVENT
BEGIN:VEVENT
DTSTART;TZID=America/Los_Angeles:20260710T003000
DTEND;TZID=America/Los_Angeles:20260710T020000
DTSTAMP:20260421T211056
CREATED:20260415T212621Z
LAST-MODIFIED:20260415T221337Z
UID:2017931-1783643400-1783648800@ramayogainstitute.com
SUMMARY:TANTRA & KUNDALINI | with Atma Santokh
DESCRIPTION:
URL:https://ramayogainstitute.com/event/tantra-kundalini-with-atma-santokh/2026-07-10/
LOCATION:Online on RA MA TV
CATEGORIES:In Person,RA MA TV Live
ATTACH;FMTTYPE=image/png:https://ramayogainstitute.com/wp-content/uploads/2025/07/Atma_Santokh_Fitness_5-scaled.png
END:VEVENT
BEGIN:VEVENT
DTSTART;TZID=America/Los_Angeles:20260710T080000
DTEND;TZID=America/Los_Angeles:20260710T091500
DTSTAMP:20260421T211056
CREATED:20251020T014957Z
LAST-MODIFIED:20251020T014957Z
UID:2007156-1783670400-1783674900@ramayogainstitute.com
SUMMARY:SELF-FULFILLMENT | Kundalini Yoga with Atma Santokh
DESCRIPTION:
URL:https://ramayogainstitute.com/event/self-fulfillment-kundalini-yoga/2026-07-10/
LOCATION:Online on RA MA TV
CATEGORIES:In Person,RA MA TV Live
ATTACH;FMTTYPE=image/jpeg:https://ramayogainstitute.com/wp-content/uploads/2024/11/atma-santokh-stupa.jpg
END:VEVENT
END:VCALENDAR