BEGIN:VCALENDAR
VERSION:2.0
PRODID:-//RA MA LIFE - ECPv6.15.15//NONSGML v1.0//EN
CALSCALE:GREGORIAN
METHOD:PUBLISH
X-ORIGINAL-URL:https://ramayogainstitute.com
X-WR-CALDESC:Events for RA MA LIFE
REFRESH-INTERVAL;VALUE=DURATION:PT1H
X-Robots-Tag:noindex
X-PUBLISHED-TTL:PT1H
BEGIN:VTIMEZONE
TZID:America/Los_Angeles
BEGIN:DAYLIGHT
TZOFFSETFROM:-0800
TZOFFSETTO:-0700
TZNAME:PDT
DTSTART:20250309T100000
END:DAYLIGHT
BEGIN:STANDARD
TZOFFSETFROM:-0700
TZOFFSETTO:-0800
TZNAME:PST
DTSTART:20251102T090000
END:STANDARD
BEGIN:DAYLIGHT
TZOFFSETFROM:-0800
TZOFFSETTO:-0700
TZNAME:PDT
DTSTART:20260308T100000
END:DAYLIGHT
BEGIN:STANDARD
TZOFFSETFROM:-0700
TZOFFSETTO:-0800
TZNAME:PST
DTSTART:20261101T090000
END:STANDARD
BEGIN:DAYLIGHT
TZOFFSETFROM:-0800
TZOFFSETTO:-0700
TZNAME:PDT
DTSTART:20270314T100000
END:DAYLIGHT
BEGIN:STANDARD
TZOFFSETFROM:-0700
TZOFFSETTO:-0800
TZNAME:PST
DTSTART:20271107T090000
END:STANDARD
END:VTIMEZONE
BEGIN:VEVENT
DTSTART;TZID=America/Los_Angeles:20260911T070000
DTEND;TZID=America/Los_Angeles:20260911T081500
DTSTAMP:20260422T170718
CREATED:20251020T014957Z
LAST-MODIFIED:20251020T014957Z
UID:2014034-1789110000-1789114500@ramayogainstitute.com
SUMMARY:SELF-FULFILLMENT | Kundalini Yoga with Atma Santokh
DESCRIPTION:
URL:https://ramayogainstitute.com/event/self-fulfillment-kundalini-yoga/2026-09-11/
LOCATION:Online on RA MA TV
CATEGORIES:In Person,RA MA TV Live
ATTACH;FMTTYPE=image/jpeg:https://ramayogainstitute.com/wp-content/uploads/2024/11/atma-santokh-stupa.jpg
END:VEVENT
BEGIN:VEVENT
DTSTART;TZID=America/Los_Angeles:20260914T070000
DTEND;TZID=America/Los_Angeles:20260914T081500
DTSTAMP:20260422T170718
CREATED:20260414T145110Z
LAST-MODIFIED:20260414T145737Z
UID:2017572-1789369200-1789373700@ramayogainstitute.com
SUMMARY:BREATH OF LIFE | With Atma Santokh
DESCRIPTION:
URL:https://ramayogainstitute.com/event/breath-of-life-with-atma-santokh/2026-09-14/
LOCATION:Online on RA MA TV
CATEGORIES:In Person,RA MA TV Live
ATTACH;FMTTYPE=image/jpeg:https://ramayogainstitute.com/wp-content/uploads/2026/04/ATMA-SANTOKH_katherina-thumbs_1.jpg
END:VEVENT
BEGIN:VEVENT
DTSTART;TZID=America/Los_Angeles:20260916T160000
DTEND;TZID=America/Los_Angeles:20260916T171500
DTSTAMP:20260422T170718
CREATED:20260415T220821Z
LAST-MODIFIED:20260415T220821Z
UID:2018329-1789574400-1789578900@ramayogainstitute.com
SUMMARY:POWER OF THE WORD | with Atma Santokh
DESCRIPTION:
URL:https://ramayogainstitute.com/event/power-of-the-word-with-atma-santokh/2026-09-16/
LOCATION:Online on RA MA TV
CATEGORIES:In Person,RA MA TV Live
ATTACH;FMTTYPE=image/jpeg:https://ramayogainstitute.com/wp-content/uploads/2025/03/Atma-Santokh_palma_02.jpg
END:VEVENT
BEGIN:VEVENT
DTSTART;TZID=America/Los_Angeles:20260917T003000
DTEND;TZID=America/Los_Angeles:20260917T020000
DTSTAMP:20260422T170718
CREATED:20260415T211939Z
LAST-MODIFIED:20260415T211939Z
UID:2017913-1789605000-1789610400@ramayogainstitute.com
SUMMARY:KUNDALINI YOGA & MEDITATION
DESCRIPTION:
URL:https://ramayogainstitute.com/event/kundalini-yoga-meditation-6/2026-09-17/
LOCATION:Online on RA MA TV
CATEGORIES:In Person,RA MA TV Live
ATTACH;FMTTYPE=image/jpeg:https://ramayogainstitute.com/wp-content/uploads/2025/08/Atma-green-wall-01.jpg
END:VEVENT
BEGIN:VEVENT
DTSTART;TZID=America/Los_Angeles:20260918T003000
DTEND;TZID=America/Los_Angeles:20260918T020000
DTSTAMP:20260422T170718
CREATED:20260206T160116Z
LAST-MODIFIED:20260206T160116Z
UID:2014756-1789691400-1789696800@ramayogainstitute.com
SUMMARY:KUNDALINI YOGA & MEDITATION
DESCRIPTION:
URL:https://ramayogainstitute.com/event/kundalini-yoga-meditation-9/2026-09-18/
LOCATION:Online on RA MA TV
CATEGORIES:In Person,RA MA TV Live
ATTACH;FMTTYPE=image/jpeg:https://ramayogainstitute.com/wp-content/uploads/2025/08/Atma-green-wall-01.jpg
END:VEVENT
BEGIN:VEVENT
DTSTART;TZID=America/Los_Angeles:20260918T003000
DTEND;TZID=America/Los_Angeles:20260918T020000
DTSTAMP:20260422T170718
CREATED:20260415T212621Z
LAST-MODIFIED:20260415T212621Z
UID:2017941-1789691400-1789696800@ramayogainstitute.com
SUMMARY:TANTRA & KUNDALINI | with Atma Santokh
DESCRIPTION:
URL:https://ramayogainstitute.com/event/tantra-kundalini-with-atma-santokh/2026-09-18/
LOCATION:Online on RA MA TV
CATEGORIES:In Person,RA MA TV Live
ATTACH;FMTTYPE=image/png:https://ramayogainstitute.com/wp-content/uploads/2025/07/Atma_Santokh_Fitness_5-scaled.png
END:VEVENT
BEGIN:VEVENT
DTSTART;TZID=America/Los_Angeles:20260918T070000
DTEND;TZID=America/Los_Angeles:20260918T081500
DTSTAMP:20260422T170718
CREATED:20251020T014957Z
LAST-MODIFIED:20251020T014957Z
UID:2014752-1789714800-1789719300@ramayogainstitute.com
SUMMARY:SELF-FULFILLMENT | Kundalini Yoga with Atma Santokh
DESCRIPTION:
URL:https://ramayogainstitute.com/event/self-fulfillment-kundalini-yoga/2026-09-18/
LOCATION:Online on RA MA TV
CATEGORIES:In Person,RA MA TV Live
ATTACH;FMTTYPE=image/jpeg:https://ramayogainstitute.com/wp-content/uploads/2024/11/atma-santokh-stupa.jpg
END:VEVENT
BEGIN:VEVENT
DTSTART;TZID=America/Los_Angeles:20260921T070000
DTEND;TZID=America/Los_Angeles:20260921T081500
DTSTAMP:20260422T170718
CREATED:20260414T145110Z
LAST-MODIFIED:20260414T145738Z
UID:2017573-1789974000-1789978500@ramayogainstitute.com
SUMMARY:BREATH OF LIFE | With Atma Santokh
DESCRIPTION:
URL:https://ramayogainstitute.com/event/breath-of-life-with-atma-santokh/2026-09-21/
LOCATION:Online on RA MA TV
CATEGORIES:In Person,RA MA TV Live
ATTACH;FMTTYPE=image/jpeg:https://ramayogainstitute.com/wp-content/uploads/2026/04/ATMA-SANTOKH_katherina-thumbs_1.jpg
END:VEVENT
BEGIN:VEVENT
DTSTART;TZID=America/Los_Angeles:20260923T160000
DTEND;TZID=America/Los_Angeles:20260923T171500
DTSTAMP:20260422T170718
CREATED:20260415T220821Z
LAST-MODIFIED:20260415T220821Z
UID:2018330-1790179200-1790183700@ramayogainstitute.com
SUMMARY:POWER OF THE WORD | with Atma Santokh
DESCRIPTION:
URL:https://ramayogainstitute.com/event/power-of-the-word-with-atma-santokh/2026-09-23/
LOCATION:Online on RA MA TV
CATEGORIES:In Person,RA MA TV Live
ATTACH;FMTTYPE=image/jpeg:https://ramayogainstitute.com/wp-content/uploads/2025/03/Atma-Santokh_palma_02.jpg
END:VEVENT
BEGIN:VEVENT
DTSTART;TZID=America/Los_Angeles:20260924T003000
DTEND;TZID=America/Los_Angeles:20260924T020000
DTSTAMP:20260422T170718
CREATED:20260415T211939Z
LAST-MODIFIED:20260415T211939Z
UID:2017914-1790209800-1790215200@ramayogainstitute.com
SUMMARY:KUNDALINI YOGA & MEDITATION
DESCRIPTION:
URL:https://ramayogainstitute.com/event/kundalini-yoga-meditation-6/2026-09-24/
LOCATION:Online on RA MA TV
CATEGORIES:In Person,RA MA TV Live
ATTACH;FMTTYPE=image/jpeg:https://ramayogainstitute.com/wp-content/uploads/2025/08/Atma-green-wall-01.jpg
END:VEVENT
BEGIN:VEVENT
DTSTART;TZID=America/Los_Angeles:20260925T003000
DTEND;TZID=America/Los_Angeles:20260925T020000
DTSTAMP:20260422T170718
CREATED:20260206T160116Z
LAST-MODIFIED:20260206T160116Z
UID:2015665-1790296200-1790301600@ramayogainstitute.com
SUMMARY:KUNDALINI YOGA & MEDITATION
DESCRIPTION:
URL:https://ramayogainstitute.com/event/kundalini-yoga-meditation-9/2026-09-25/
LOCATION:Online on RA MA TV
CATEGORIES:In Person,RA MA TV Live
ATTACH;FMTTYPE=image/jpeg:https://ramayogainstitute.com/wp-content/uploads/2025/08/Atma-green-wall-01.jpg
END:VEVENT
BEGIN:VEVENT
DTSTART;TZID=America/Los_Angeles:20260925T003000
DTEND;TZID=America/Los_Angeles:20260925T020000
DTSTAMP:20260422T170718
CREATED:20260415T212621Z
LAST-MODIFIED:20260415T212621Z
UID:2017942-1790296200-1790301600@ramayogainstitute.com
SUMMARY:TANTRA & KUNDALINI | with Atma Santokh
DESCRIPTION:
URL:https://ramayogainstitute.com/event/tantra-kundalini-with-atma-santokh/2026-09-25/
LOCATION:Online on RA MA TV
CATEGORIES:In Person,RA MA TV Live
ATTACH;FMTTYPE=image/png:https://ramayogainstitute.com/wp-content/uploads/2025/07/Atma_Santokh_Fitness_5-scaled.png
END:VEVENT
BEGIN:VEVENT
DTSTART;TZID=America/Los_Angeles:20260925T070000
DTEND;TZID=America/Los_Angeles:20260925T081500
DTSTAMP:20260422T170718
CREATED:20251020T014957Z
LAST-MODIFIED:20251020T014957Z
UID:2015661-1790319600-1790324100@ramayogainstitute.com
SUMMARY:SELF-FULFILLMENT | Kundalini Yoga with Atma Santokh
DESCRIPTION:
URL:https://ramayogainstitute.com/event/self-fulfillment-kundalini-yoga/2026-09-25/
LOCATION:Online on RA MA TV
CATEGORIES:In Person,RA MA TV Live
ATTACH;FMTTYPE=image/jpeg:https://ramayogainstitute.com/wp-content/uploads/2024/11/atma-santokh-stupa.jpg
END:VEVENT
BEGIN:VEVENT
DTSTART;TZID=America/Los_Angeles:20260928T070000
DTEND;TZID=America/Los_Angeles:20260928T081500
DTSTAMP:20260422T170718
CREATED:20260414T145110Z
LAST-MODIFIED:20260414T145739Z
UID:2017575-1790578800-1790583300@ramayogainstitute.com
SUMMARY:BREATH OF LIFE | With Atma Santokh
DESCRIPTION:
URL:https://ramayogainstitute.com/event/breath-of-life-with-atma-santokh/2026-09-28/
LOCATION:Online on RA MA TV
CATEGORIES:In Person,RA MA TV Live
ATTACH;FMTTYPE=image/jpeg:https://ramayogainstitute.com/wp-content/uploads/2026/04/ATMA-SANTOKH_katherina-thumbs_1.jpg
END:VEVENT
BEGIN:VEVENT
DTSTART;TZID=America/Los_Angeles:20260930T160000
DTEND;TZID=America/Los_Angeles:20260930T171500
DTSTAMP:20260422T170718
CREATED:20260415T220821Z
LAST-MODIFIED:20260415T220821Z
UID:2018331-1790784000-1790788500@ramayogainstitute.com
SUMMARY:POWER OF THE WORD | with Atma Santokh
DESCRIPTION:
URL:https://ramayogainstitute.com/event/power-of-the-word-with-atma-santokh/2026-09-30/
LOCATION:Online on RA MA TV
CATEGORIES:In Person,RA MA TV Live
ATTACH;FMTTYPE=image/jpeg:https://ramayogainstitute.com/wp-content/uploads/2025/03/Atma-Santokh_palma_02.jpg
END:VEVENT
BEGIN:VEVENT
DTSTART;TZID=America/Los_Angeles:20261001T003000
DTEND;TZID=America/Los_Angeles:20261001T020000
DTSTAMP:20260422T170718
CREATED:20260415T211939Z
LAST-MODIFIED:20260415T211939Z
UID:2017915-1790814600-1790820000@ramayogainstitute.com
SUMMARY:KUNDALINI YOGA & MEDITATION
DESCRIPTION:
URL:https://ramayogainstitute.com/event/kundalini-yoga-meditation-6/2026-10-01/
LOCATION:Online on RA MA TV
CATEGORIES:In Person,RA MA TV Live
ATTACH;FMTTYPE=image/jpeg:https://ramayogainstitute.com/wp-content/uploads/2025/08/Atma-green-wall-01.jpg
END:VEVENT
BEGIN:VEVENT
DTSTART;TZID=America/Los_Angeles:20261002T003000
DTEND;TZID=America/Los_Angeles:20261002T020000
DTSTAMP:20260422T170718
CREATED:20260206T160116Z
LAST-MODIFIED:20260206T160116Z
UID:2016009-1790901000-1790906400@ramayogainstitute.com
SUMMARY:KUNDALINI YOGA & MEDITATION
DESCRIPTION:
URL:https://ramayogainstitute.com/event/kundalini-yoga-meditation-9/2026-10-02/
LOCATION:Online on RA MA TV
CATEGORIES:In Person,RA MA TV Live
ATTACH;FMTTYPE=image/jpeg:https://ramayogainstitute.com/wp-content/uploads/2025/08/Atma-green-wall-01.jpg
END:VEVENT
BEGIN:VEVENT
DTSTART;TZID=America/Los_Angeles:20261002T003000
DTEND;TZID=America/Los_Angeles:20261002T020000
DTSTAMP:20260422T170718
CREATED:20260415T212621Z
LAST-MODIFIED:20260415T212621Z
UID:2017943-1790901000-1790906400@ramayogainstitute.com
SUMMARY:TANTRA & KUNDALINI | with Atma Santokh
DESCRIPTION:
URL:https://ramayogainstitute.com/event/tantra-kundalini-with-atma-santokh/2026-10-02/
LOCATION:Online on RA MA TV
CATEGORIES:In Person,RA MA TV Live
ATTACH;FMTTYPE=image/png:https://ramayogainstitute.com/wp-content/uploads/2025/07/Atma_Santokh_Fitness_5-scaled.png
END:VEVENT
BEGIN:VEVENT
DTSTART;TZID=America/Los_Angeles:20261002T070000
DTEND;TZID=America/Los_Angeles:20261002T081500
DTSTAMP:20260422T170718
CREATED:20251020T014957Z
LAST-MODIFIED:20251020T014957Z
UID:2016005-1790924400-1790928900@ramayogainstitute.com
SUMMARY:SELF-FULFILLMENT | Kundalini Yoga with Atma Santokh
DESCRIPTION:
URL:https://ramayogainstitute.com/event/self-fulfillment-kundalini-yoga/2026-10-02/
LOCATION:Online on RA MA TV
CATEGORIES:In Person,RA MA TV Live
ATTACH;FMTTYPE=image/jpeg:https://ramayogainstitute.com/wp-content/uploads/2024/11/atma-santokh-stupa.jpg
END:VEVENT
BEGIN:VEVENT
DTSTART;TZID=America/Los_Angeles:20261005T070000
DTEND;TZID=America/Los_Angeles:20261005T081500
DTSTAMP:20260422T170718
CREATED:20260414T145110Z
LAST-MODIFIED:20260414T145740Z
UID:2017576-1791183600-1791188100@ramayogainstitute.com
SUMMARY:BREATH OF LIFE | With Atma Santokh
DESCRIPTION:
URL:https://ramayogainstitute.com/event/breath-of-life-with-atma-santokh/2026-10-05/
LOCATION:Online on RA MA TV
CATEGORIES:In Person,RA MA TV Live
ATTACH;FMTTYPE=image/jpeg:https://ramayogainstitute.com/wp-content/uploads/2026/04/ATMA-SANTOKH_katherina-thumbs_1.jpg
END:VEVENT
BEGIN:VEVENT
DTSTART;TZID=America/Los_Angeles:20261007T160000
DTEND;TZID=America/Los_Angeles:20261007T171500
DTSTAMP:20260422T170718
CREATED:20260415T220821Z
LAST-MODIFIED:20260415T220821Z
UID:2018332-1791388800-1791393300@ramayogainstitute.com
SUMMARY:POWER OF THE WORD | with Atma Santokh
DESCRIPTION:
URL:https://ramayogainstitute.com/event/power-of-the-word-with-atma-santokh/2026-10-07/
LOCATION:Online on RA MA TV
CATEGORIES:In Person,RA MA TV Live
ATTACH;FMTTYPE=image/jpeg:https://ramayogainstitute.com/wp-content/uploads/2025/03/Atma-Santokh_palma_02.jpg
END:VEVENT
BEGIN:VEVENT
DTSTART;TZID=America/Los_Angeles:20261008T003000
DTEND;TZID=America/Los_Angeles:20261008T020000
DTSTAMP:20260422T170718
CREATED:20260415T211939Z
LAST-MODIFIED:20260415T211939Z
UID:2017916-1791419400-1791424800@ramayogainstitute.com
SUMMARY:KUNDALINI YOGA & MEDITATION
DESCRIPTION:
URL:https://ramayogainstitute.com/event/kundalini-yoga-meditation-6/2026-10-08/
LOCATION:Online on RA MA TV
CATEGORIES:In Person,RA MA TV Live
ATTACH;FMTTYPE=image/jpeg:https://ramayogainstitute.com/wp-content/uploads/2025/08/Atma-green-wall-01.jpg
END:VEVENT
BEGIN:VEVENT
DTSTART;TZID=America/Los_Angeles:20261009T003000
DTEND;TZID=America/Los_Angeles:20261009T020000
DTSTAMP:20260422T170718
CREATED:20260206T160116Z
LAST-MODIFIED:20260206T160116Z
UID:2016615-1791505800-1791511200@ramayogainstitute.com
SUMMARY:KUNDALINI YOGA & MEDITATION
DESCRIPTION:
URL:https://ramayogainstitute.com/event/kundalini-yoga-meditation-9/2026-10-09/
LOCATION:Online on RA MA TV
CATEGORIES:In Person,RA MA TV Live
ATTACH;FMTTYPE=image/jpeg:https://ramayogainstitute.com/wp-content/uploads/2025/08/Atma-green-wall-01.jpg
END:VEVENT
BEGIN:VEVENT
DTSTART;TZID=America/Los_Angeles:20261009T003000
DTEND;TZID=America/Los_Angeles:20261009T020000
DTSTAMP:20260422T170718
CREATED:20260415T212621Z
LAST-MODIFIED:20260415T212621Z
UID:2017944-1791505800-1791511200@ramayogainstitute.com
SUMMARY:TANTRA & KUNDALINI | with Atma Santokh
DESCRIPTION:
URL:https://ramayogainstitute.com/event/tantra-kundalini-with-atma-santokh/2026-10-09/
LOCATION:Online on RA MA TV
CATEGORIES:In Person,RA MA TV Live
ATTACH;FMTTYPE=image/png:https://ramayogainstitute.com/wp-content/uploads/2025/07/Atma_Santokh_Fitness_5-scaled.png
END:VEVENT
BEGIN:VEVENT
DTSTART;TZID=America/Los_Angeles:20261009T070000
DTEND;TZID=America/Los_Angeles:20261009T081500
DTSTAMP:20260422T170718
CREATED:20251020T014957Z
LAST-MODIFIED:20251020T014957Z
UID:2016611-1791529200-1791533700@ramayogainstitute.com
SUMMARY:SELF-FULFILLMENT | Kundalini Yoga with Atma Santokh
DESCRIPTION:
URL:https://ramayogainstitute.com/event/self-fulfillment-kundalini-yoga/2026-10-09/
LOCATION:Online on RA MA TV
CATEGORIES:In Person,RA MA TV Live
ATTACH;FMTTYPE=image/jpeg:https://ramayogainstitute.com/wp-content/uploads/2024/11/atma-santokh-stupa.jpg
END:VEVENT
BEGIN:VEVENT
DTSTART;TZID=America/Los_Angeles:20261012T070000
DTEND;TZID=America/Los_Angeles:20261012T081500
DTSTAMP:20260422T170718
CREATED:20260414T145110Z
LAST-MODIFIED:20260414T145741Z
UID:2017577-1791788400-1791792900@ramayogainstitute.com
SUMMARY:BREATH OF LIFE | With Atma Santokh
DESCRIPTION:
URL:https://ramayogainstitute.com/event/breath-of-life-with-atma-santokh/2026-10-12/
LOCATION:Online on RA MA TV
CATEGORIES:In Person,RA MA TV Live
ATTACH;FMTTYPE=image/jpeg:https://ramayogainstitute.com/wp-content/uploads/2026/04/ATMA-SANTOKH_katherina-thumbs_1.jpg
END:VEVENT
BEGIN:VEVENT
DTSTART;TZID=America/Los_Angeles:20261014T160000
DTEND;TZID=America/Los_Angeles:20261014T171500
DTSTAMP:20260422T170718
CREATED:20260415T220821Z
LAST-MODIFIED:20260415T220821Z
UID:2018333-1791993600-1791998100@ramayogainstitute.com
SUMMARY:POWER OF THE WORD | with Atma Santokh
DESCRIPTION:
URL:https://ramayogainstitute.com/event/power-of-the-word-with-atma-santokh/2026-10-14/
LOCATION:Online on RA MA TV
CATEGORIES:In Person,RA MA TV Live
ATTACH;FMTTYPE=image/jpeg:https://ramayogainstitute.com/wp-content/uploads/2025/03/Atma-Santokh_palma_02.jpg
END:VEVENT
BEGIN:VEVENT
DTSTART;TZID=America/Los_Angeles:20261015T003000
DTEND;TZID=America/Los_Angeles:20261015T020000
DTSTAMP:20260422T170718
CREATED:20260415T211939Z
LAST-MODIFIED:20260415T211939Z
UID:2018644-1792024200-1792029600@ramayogainstitute.com
SUMMARY:KUNDALINI YOGA & MEDITATION
DESCRIPTION:
URL:https://ramayogainstitute.com/event/kundalini-yoga-meditation-6/2026-10-15/
LOCATION:Online on RA MA TV
CATEGORIES:In Person,RA MA TV Live
ATTACH;FMTTYPE=image/jpeg:https://ramayogainstitute.com/wp-content/uploads/2025/08/Atma-green-wall-01.jpg
END:VEVENT
BEGIN:VEVENT
DTSTART;TZID=America/Los_Angeles:20261016T003000
DTEND;TZID=America/Los_Angeles:20261016T020000
DTSTAMP:20260422T170718
CREATED:20260206T160116Z
LAST-MODIFIED:20260206T160116Z
UID:2018719-1792110600-1792116000@ramayogainstitute.com
SUMMARY:KUNDALINI YOGA & MEDITATION
DESCRIPTION:
URL:https://ramayogainstitute.com/event/kundalini-yoga-meditation-9/2026-10-16/
LOCATION:Online on RA MA TV
CATEGORIES:In Person,RA MA TV Live
ATTACH;FMTTYPE=image/jpeg:https://ramayogainstitute.com/wp-content/uploads/2025/08/Atma-green-wall-01.jpg
END:VEVENT
BEGIN:VEVENT
DTSTART;TZID=America/Los_Angeles:20261016T003000
DTEND;TZID=America/Los_Angeles:20261016T020000
DTSTAMP:20260422T170718
CREATED:20260415T212621Z
LAST-MODIFIED:20260415T212621Z
UID:2018720-1792110600-1792116000@ramayogainstitute.com
SUMMARY:TANTRA & KUNDALINI | with Atma Santokh
DESCRIPTION:
URL:https://ramayogainstitute.com/event/tantra-kundalini-with-atma-santokh/2026-10-16/
LOCATION:Online on RA MA TV
CATEGORIES:In Person,RA MA TV Live
ATTACH;FMTTYPE=image/png:https://ramayogainstitute.com/wp-content/uploads/2025/07/Atma_Santokh_Fitness_5-scaled.png
END:VEVENT
END:VCALENDAR