BEGIN:VCALENDAR
VERSION:2.0
PRODID:-//RA MA LIFE - ECPv6.15.15//NONSGML v1.0//EN
CALSCALE:GREGORIAN
METHOD:PUBLISH
X-WR-CALNAME:RA MA LIFE
X-ORIGINAL-URL:https://ramayogainstitute.com
X-WR-CALDESC:Events for RA MA LIFE
REFRESH-INTERVAL;VALUE=DURATION:PT1H
X-Robots-Tag:noindex
X-PUBLISHED-TTL:PT1H
BEGIN:VTIMEZONE
TZID:America/Los_Angeles
BEGIN:DAYLIGHT
TZOFFSETFROM:-0800
TZOFFSETTO:-0700
TZNAME:PDT
DTSTART:20250309T100000
END:DAYLIGHT
BEGIN:STANDARD
TZOFFSETFROM:-0700
TZOFFSETTO:-0800
TZNAME:PST
DTSTART:20251102T090000
END:STANDARD
BEGIN:DAYLIGHT
TZOFFSETFROM:-0800
TZOFFSETTO:-0700
TZNAME:PDT
DTSTART:20260308T100000
END:DAYLIGHT
BEGIN:STANDARD
TZOFFSETFROM:-0700
TZOFFSETTO:-0800
TZNAME:PST
DTSTART:20261101T090000
END:STANDARD
BEGIN:DAYLIGHT
TZOFFSETFROM:-0800
TZOFFSETTO:-0700
TZNAME:PDT
DTSTART:20270314T100000
END:DAYLIGHT
BEGIN:STANDARD
TZOFFSETFROM:-0700
TZOFFSETTO:-0800
TZNAME:PST
DTSTART:20271107T090000
END:STANDARD
END:VTIMEZONE
BEGIN:VEVENT
DTSTART;TZID=America/Los_Angeles:20260814T070000
DTEND;TZID=America/Los_Angeles:20260814T081500
DTSTAMP:20260422T112921
CREATED:20251020T014957Z
LAST-MODIFIED:20251020T014957Z
UID:2010875-1786690800-1786695300@ramayogainstitute.com
SUMMARY:SELF-FULFILLMENT | Kundalini Yoga with Atma Santokh
DESCRIPTION:
URL:https://ramayogainstitute.com/event/self-fulfillment-kundalini-yoga/2026-08-14/
LOCATION:Online on RA MA TV
CATEGORIES:In Person,RA MA TV Live
ATTACH;FMTTYPE=image/jpeg:https://ramayogainstitute.com/wp-content/uploads/2024/11/atma-santokh-stupa.jpg
END:VEVENT
BEGIN:VEVENT
DTSTART;TZID=America/Los_Angeles:20260817T070000
DTEND;TZID=America/Los_Angeles:20260817T081500
DTSTAMP:20260422T112921
CREATED:20260414T145110Z
LAST-MODIFIED:20260414T145733Z
UID:2017568-1786950000-1786954500@ramayogainstitute.com
SUMMARY:BREATH OF LIFE | With Atma Santokh
DESCRIPTION:
URL:https://ramayogainstitute.com/event/breath-of-life-with-atma-santokh/2026-08-17/
LOCATION:Online on RA MA TV
CATEGORIES:In Person,RA MA TV Live
ATTACH;FMTTYPE=image/jpeg:https://ramayogainstitute.com/wp-content/uploads/2026/04/ATMA-SANTOKH_katherina-thumbs_1.jpg
END:VEVENT
BEGIN:VEVENT
DTSTART;TZID=America/Los_Angeles:20260819T160000
DTEND;TZID=America/Los_Angeles:20260819T171500
DTSTAMP:20260422T112921
CREATED:20260415T220821Z
LAST-MODIFIED:20260415T220821Z
UID:2018325-1787155200-1787159700@ramayogainstitute.com
SUMMARY:POWER OF THE WORD | with Atma Santokh
DESCRIPTION:
URL:https://ramayogainstitute.com/event/power-of-the-word-with-atma-santokh/2026-08-19/
LOCATION:Online on RA MA TV
CATEGORIES:In Person,RA MA TV Live
ATTACH;FMTTYPE=image/jpeg:https://ramayogainstitute.com/wp-content/uploads/2025/03/Atma-Santokh_palma_02.jpg
END:VEVENT
BEGIN:VEVENT
DTSTART;TZID=America/Los_Angeles:20260820T003000
DTEND;TZID=America/Los_Angeles:20260820T020000
DTSTAMP:20260422T112921
CREATED:20260415T211939Z
LAST-MODIFIED:20260415T221334Z
UID:2017909-1787185800-1787191200@ramayogainstitute.com
SUMMARY:KUNDALINI YOGA & MEDITATION
DESCRIPTION:
URL:https://ramayogainstitute.com/event/kundalini-yoga-meditation-6/2026-08-20/
LOCATION:Online on RA MA TV
CATEGORIES:In Person,RA MA TV Live
ATTACH;FMTTYPE=image/jpeg:https://ramayogainstitute.com/wp-content/uploads/2025/08/Atma-green-wall-01.jpg
END:VEVENT
BEGIN:VEVENT
DTSTART;TZID=America/Los_Angeles:20260821T003000
DTEND;TZID=America/Los_Angeles:20260821T020000
DTSTAMP:20260422T112921
CREATED:20260206T160116Z
LAST-MODIFIED:20260206T160116Z
UID:2011387-1787272200-1787277600@ramayogainstitute.com
SUMMARY:KUNDALINI YOGA & MEDITATION
DESCRIPTION:
URL:https://ramayogainstitute.com/event/kundalini-yoga-meditation-9/2026-08-21/
LOCATION:Online on RA MA TV
CATEGORIES:In Person,RA MA TV Live
ATTACH;FMTTYPE=image/jpeg:https://ramayogainstitute.com/wp-content/uploads/2025/08/Atma-green-wall-01.jpg
END:VEVENT
BEGIN:VEVENT
DTSTART;TZID=America/Los_Angeles:20260821T003000
DTEND;TZID=America/Los_Angeles:20260821T020000
DTSTAMP:20260422T112921
CREATED:20260415T212621Z
LAST-MODIFIED:20260415T221341Z
UID:2017937-1787272200-1787277600@ramayogainstitute.com
SUMMARY:TANTRA & KUNDALINI | with Atma Santokh
DESCRIPTION:
URL:https://ramayogainstitute.com/event/tantra-kundalini-with-atma-santokh/2026-08-21/
LOCATION:Online on RA MA TV
CATEGORIES:In Person,RA MA TV Live
ATTACH;FMTTYPE=image/png:https://ramayogainstitute.com/wp-content/uploads/2025/07/Atma_Santokh_Fitness_5-scaled.png
END:VEVENT
BEGIN:VEVENT
DTSTART;TZID=America/Los_Angeles:20260821T070000
DTEND;TZID=America/Los_Angeles:20260821T081500
DTSTAMP:20260422T112921
CREATED:20251020T014957Z
LAST-MODIFIED:20251020T014957Z
UID:2011382-1787295600-1787300100@ramayogainstitute.com
SUMMARY:SELF-FULFILLMENT | Kundalini Yoga with Atma Santokh
DESCRIPTION:
URL:https://ramayogainstitute.com/event/self-fulfillment-kundalini-yoga/2026-08-21/
LOCATION:Online on RA MA TV
CATEGORIES:In Person,RA MA TV Live
ATTACH;FMTTYPE=image/jpeg:https://ramayogainstitute.com/wp-content/uploads/2024/11/atma-santokh-stupa.jpg
END:VEVENT
BEGIN:VEVENT
DTSTART;TZID=America/Los_Angeles:20260824T070000
DTEND;TZID=America/Los_Angeles:20260824T081500
DTSTAMP:20260422T112921
CREATED:20260414T145110Z
LAST-MODIFIED:20260414T145734Z
UID:2017569-1787554800-1787559300@ramayogainstitute.com
SUMMARY:BREATH OF LIFE | With Atma Santokh
DESCRIPTION:
URL:https://ramayogainstitute.com/event/breath-of-life-with-atma-santokh/2026-08-24/
LOCATION:Online on RA MA TV
CATEGORIES:In Person,RA MA TV Live
ATTACH;FMTTYPE=image/jpeg:https://ramayogainstitute.com/wp-content/uploads/2026/04/ATMA-SANTOKH_katherina-thumbs_1.jpg
END:VEVENT
BEGIN:VEVENT
DTSTART;TZID=America/Los_Angeles:20260826T160000
DTEND;TZID=America/Los_Angeles:20260826T171500
DTSTAMP:20260422T112921
CREATED:20260415T220821Z
LAST-MODIFIED:20260415T220821Z
UID:2018326-1787760000-1787764500@ramayogainstitute.com
SUMMARY:POWER OF THE WORD | with Atma Santokh
DESCRIPTION:
URL:https://ramayogainstitute.com/event/power-of-the-word-with-atma-santokh/2026-08-26/
LOCATION:Online on RA MA TV
CATEGORIES:In Person,RA MA TV Live
ATTACH;FMTTYPE=image/jpeg:https://ramayogainstitute.com/wp-content/uploads/2025/03/Atma-Santokh_palma_02.jpg
END:VEVENT
BEGIN:VEVENT
DTSTART;TZID=America/Los_Angeles:20260827T003000
DTEND;TZID=America/Los_Angeles:20260827T020000
DTSTAMP:20260422T112921
CREATED:20260415T211939Z
LAST-MODIFIED:20260415T221334Z
UID:2017910-1787790600-1787796000@ramayogainstitute.com
SUMMARY:KUNDALINI YOGA & MEDITATION
DESCRIPTION:
URL:https://ramayogainstitute.com/event/kundalini-yoga-meditation-6/2026-08-27/
LOCATION:Online on RA MA TV
CATEGORIES:In Person,RA MA TV Live
ATTACH;FMTTYPE=image/jpeg:https://ramayogainstitute.com/wp-content/uploads/2025/08/Atma-green-wall-01.jpg
END:VEVENT
BEGIN:VEVENT
DTSTART;TZID=America/Los_Angeles:20260828T003000
DTEND;TZID=America/Los_Angeles:20260828T020000
DTSTAMP:20260422T112921
CREATED:20260206T160116Z
LAST-MODIFIED:20260206T160116Z
UID:2012377-1787877000-1787882400@ramayogainstitute.com
SUMMARY:KUNDALINI YOGA & MEDITATION
DESCRIPTION:
URL:https://ramayogainstitute.com/event/kundalini-yoga-meditation-9/2026-08-28/
LOCATION:Online on RA MA TV
CATEGORIES:In Person,RA MA TV Live
ATTACH;FMTTYPE=image/jpeg:https://ramayogainstitute.com/wp-content/uploads/2025/08/Atma-green-wall-01.jpg
END:VEVENT
BEGIN:VEVENT
DTSTART;TZID=America/Los_Angeles:20260828T003000
DTEND;TZID=America/Los_Angeles:20260828T020000
DTSTAMP:20260422T112921
CREATED:20260415T212621Z
LAST-MODIFIED:20260415T221342Z
UID:2017938-1787877000-1787882400@ramayogainstitute.com
SUMMARY:TANTRA & KUNDALINI | with Atma Santokh
DESCRIPTION:
URL:https://ramayogainstitute.com/event/tantra-kundalini-with-atma-santokh/2026-08-28/
LOCATION:Online on RA MA TV
CATEGORIES:In Person,RA MA TV Live
ATTACH;FMTTYPE=image/png:https://ramayogainstitute.com/wp-content/uploads/2025/07/Atma_Santokh_Fitness_5-scaled.png
END:VEVENT
BEGIN:VEVENT
DTSTART;TZID=America/Los_Angeles:20260828T070000
DTEND;TZID=America/Los_Angeles:20260828T081500
DTSTAMP:20260422T112921
CREATED:20251020T014957Z
LAST-MODIFIED:20251020T014957Z
UID:2012369-1787900400-1787904900@ramayogainstitute.com
SUMMARY:SELF-FULFILLMENT | Kundalini Yoga with Atma Santokh
DESCRIPTION:
URL:https://ramayogainstitute.com/event/self-fulfillment-kundalini-yoga/2026-08-28/
LOCATION:Online on RA MA TV
CATEGORIES:In Person,RA MA TV Live
ATTACH;FMTTYPE=image/jpeg:https://ramayogainstitute.com/wp-content/uploads/2024/11/atma-santokh-stupa.jpg
END:VEVENT
BEGIN:VEVENT
DTSTART;TZID=America/Los_Angeles:20260831T070000
DTEND;TZID=America/Los_Angeles:20260831T081500
DTSTAMP:20260422T112921
CREATED:20260414T145110Z
LAST-MODIFIED:20260414T145735Z
UID:2017570-1788159600-1788164100@ramayogainstitute.com
SUMMARY:BREATH OF LIFE | With Atma Santokh
DESCRIPTION:
URL:https://ramayogainstitute.com/event/breath-of-life-with-atma-santokh/2026-08-31/
LOCATION:Online on RA MA TV
CATEGORIES:In Person,RA MA TV Live
ATTACH;FMTTYPE=image/jpeg:https://ramayogainstitute.com/wp-content/uploads/2026/04/ATMA-SANTOKH_katherina-thumbs_1.jpg
END:VEVENT
BEGIN:VEVENT
DTSTART;TZID=America/Los_Angeles:20260902T160000
DTEND;TZID=America/Los_Angeles:20260902T171500
DTSTAMP:20260422T112921
CREATED:20260415T220821Z
LAST-MODIFIED:20260415T220821Z
UID:2018327-1788364800-1788369300@ramayogainstitute.com
SUMMARY:POWER OF THE WORD | with Atma Santokh
DESCRIPTION:
URL:https://ramayogainstitute.com/event/power-of-the-word-with-atma-santokh/2026-09-02/
LOCATION:Online on RA MA TV
CATEGORIES:In Person,RA MA TV Live
ATTACH;FMTTYPE=image/jpeg:https://ramayogainstitute.com/wp-content/uploads/2025/03/Atma-Santokh_palma_02.jpg
END:VEVENT
BEGIN:VEVENT
DTSTART;TZID=America/Los_Angeles:20260903T003000
DTEND;TZID=America/Los_Angeles:20260903T020000
DTSTAMP:20260422T112921
CREATED:20260415T211939Z
LAST-MODIFIED:20260415T211939Z
UID:2017911-1788395400-1788400800@ramayogainstitute.com
SUMMARY:KUNDALINI YOGA & MEDITATION
DESCRIPTION:
URL:https://ramayogainstitute.com/event/kundalini-yoga-meditation-6/2026-09-03/
LOCATION:Online on RA MA TV
CATEGORIES:In Person,RA MA TV Live
ATTACH;FMTTYPE=image/jpeg:https://ramayogainstitute.com/wp-content/uploads/2025/08/Atma-green-wall-01.jpg
END:VEVENT
BEGIN:VEVENT
DTSTART;TZID=America/Los_Angeles:20260904T003000
DTEND;TZID=America/Los_Angeles:20260904T020000
DTSTAMP:20260422T112921
CREATED:20260206T160116Z
LAST-MODIFIED:20260206T160116Z
UID:2013122-1788481800-1788487200@ramayogainstitute.com
SUMMARY:KUNDALINI YOGA & MEDITATION
DESCRIPTION:
URL:https://ramayogainstitute.com/event/kundalini-yoga-meditation-9/2026-09-04/
LOCATION:Online on RA MA TV
CATEGORIES:In Person,RA MA TV Live
ATTACH;FMTTYPE=image/jpeg:https://ramayogainstitute.com/wp-content/uploads/2025/08/Atma-green-wall-01.jpg
END:VEVENT
BEGIN:VEVENT
DTSTART;TZID=America/Los_Angeles:20260904T003000
DTEND;TZID=America/Los_Angeles:20260904T020000
DTSTAMP:20260422T112921
CREATED:20260415T212621Z
LAST-MODIFIED:20260415T212621Z
UID:2017939-1788481800-1788487200@ramayogainstitute.com
SUMMARY:TANTRA & KUNDALINI | with Atma Santokh
DESCRIPTION:
URL:https://ramayogainstitute.com/event/tantra-kundalini-with-atma-santokh/2026-09-04/
LOCATION:Online on RA MA TV
CATEGORIES:In Person,RA MA TV Live
ATTACH;FMTTYPE=image/png:https://ramayogainstitute.com/wp-content/uploads/2025/07/Atma_Santokh_Fitness_5-scaled.png
END:VEVENT
BEGIN:VEVENT
DTSTART;TZID=America/Los_Angeles:20260904T070000
DTEND;TZID=America/Los_Angeles:20260904T081500
DTSTAMP:20260422T112921
CREATED:20251020T014957Z
LAST-MODIFIED:20251020T014957Z
UID:2013117-1788505200-1788509700@ramayogainstitute.com
SUMMARY:SELF-FULFILLMENT | Kundalini Yoga with Atma Santokh
DESCRIPTION:
URL:https://ramayogainstitute.com/event/self-fulfillment-kundalini-yoga/2026-09-04/
LOCATION:Online on RA MA TV
CATEGORIES:In Person,RA MA TV Live
ATTACH;FMTTYPE=image/jpeg:https://ramayogainstitute.com/wp-content/uploads/2024/11/atma-santokh-stupa.jpg
END:VEVENT
BEGIN:VEVENT
DTSTART;TZID=America/Los_Angeles:20260907T070000
DTEND;TZID=America/Los_Angeles:20260907T081500
DTSTAMP:20260422T112921
CREATED:20260414T145110Z
LAST-MODIFIED:20260414T145735Z
UID:2017571-1788764400-1788768900@ramayogainstitute.com
SUMMARY:BREATH OF LIFE | With Atma Santokh
DESCRIPTION:
URL:https://ramayogainstitute.com/event/breath-of-life-with-atma-santokh/2026-09-07/
LOCATION:Online on RA MA TV
CATEGORIES:In Person,RA MA TV Live
ATTACH;FMTTYPE=image/jpeg:https://ramayogainstitute.com/wp-content/uploads/2026/04/ATMA-SANTOKH_katherina-thumbs_1.jpg
END:VEVENT
BEGIN:VEVENT
DTSTART;TZID=America/Los_Angeles:20260909T160000
DTEND;TZID=America/Los_Angeles:20260909T171500
DTSTAMP:20260422T112921
CREATED:20260415T220821Z
LAST-MODIFIED:20260415T220821Z
UID:2018328-1788969600-1788974100@ramayogainstitute.com
SUMMARY:POWER OF THE WORD | with Atma Santokh
DESCRIPTION:
URL:https://ramayogainstitute.com/event/power-of-the-word-with-atma-santokh/2026-09-09/
LOCATION:Online on RA MA TV
CATEGORIES:In Person,RA MA TV Live
ATTACH;FMTTYPE=image/jpeg:https://ramayogainstitute.com/wp-content/uploads/2025/03/Atma-Santokh_palma_02.jpg
END:VEVENT
BEGIN:VEVENT
DTSTART;TZID=America/Los_Angeles:20260910T003000
DTEND;TZID=America/Los_Angeles:20260910T020000
DTSTAMP:20260422T112921
CREATED:20260415T211939Z
LAST-MODIFIED:20260415T211939Z
UID:2017912-1789000200-1789005600@ramayogainstitute.com
SUMMARY:KUNDALINI YOGA & MEDITATION
DESCRIPTION:
URL:https://ramayogainstitute.com/event/kundalini-yoga-meditation-6/2026-09-10/
LOCATION:Online on RA MA TV
CATEGORIES:In Person,RA MA TV Live
ATTACH;FMTTYPE=image/jpeg:https://ramayogainstitute.com/wp-content/uploads/2025/08/Atma-green-wall-01.jpg
END:VEVENT
BEGIN:VEVENT
DTSTART;TZID=America/Los_Angeles:20260911T003000
DTEND;TZID=America/Los_Angeles:20260911T020000
DTSTAMP:20260422T112921
CREATED:20260206T160116Z
LAST-MODIFIED:20260206T160116Z
UID:2014038-1789086600-1789092000@ramayogainstitute.com
SUMMARY:KUNDALINI YOGA & MEDITATION
DESCRIPTION:
URL:https://ramayogainstitute.com/event/kundalini-yoga-meditation-9/2026-09-11/
LOCATION:Online on RA MA TV
CATEGORIES:In Person,RA MA TV Live
ATTACH;FMTTYPE=image/jpeg:https://ramayogainstitute.com/wp-content/uploads/2025/08/Atma-green-wall-01.jpg
END:VEVENT
BEGIN:VEVENT
DTSTART;TZID=America/Los_Angeles:20260911T003000
DTEND;TZID=America/Los_Angeles:20260911T020000
DTSTAMP:20260422T112921
CREATED:20260415T212621Z
LAST-MODIFIED:20260415T212621Z
UID:2017940-1789086600-1789092000@ramayogainstitute.com
SUMMARY:TANTRA & KUNDALINI | with Atma Santokh
DESCRIPTION:
URL:https://ramayogainstitute.com/event/tantra-kundalini-with-atma-santokh/2026-09-11/
LOCATION:Online on RA MA TV
CATEGORIES:In Person,RA MA TV Live
ATTACH;FMTTYPE=image/png:https://ramayogainstitute.com/wp-content/uploads/2025/07/Atma_Santokh_Fitness_5-scaled.png
END:VEVENT
BEGIN:VEVENT
DTSTART;TZID=America/Los_Angeles:20260911T070000
DTEND;TZID=America/Los_Angeles:20260911T081500
DTSTAMP:20260422T112921
CREATED:20251020T014957Z
LAST-MODIFIED:20251020T014957Z
UID:2014034-1789110000-1789114500@ramayogainstitute.com
SUMMARY:SELF-FULFILLMENT | Kundalini Yoga with Atma Santokh
DESCRIPTION:
URL:https://ramayogainstitute.com/event/self-fulfillment-kundalini-yoga/2026-09-11/
LOCATION:Online on RA MA TV
CATEGORIES:In Person,RA MA TV Live
ATTACH;FMTTYPE=image/jpeg:https://ramayogainstitute.com/wp-content/uploads/2024/11/atma-santokh-stupa.jpg
END:VEVENT
BEGIN:VEVENT
DTSTART;TZID=America/Los_Angeles:20260914T070000
DTEND;TZID=America/Los_Angeles:20260914T081500
DTSTAMP:20260422T112921
CREATED:20260414T145110Z
LAST-MODIFIED:20260414T145737Z
UID:2017572-1789369200-1789373700@ramayogainstitute.com
SUMMARY:BREATH OF LIFE | With Atma Santokh
DESCRIPTION:
URL:https://ramayogainstitute.com/event/breath-of-life-with-atma-santokh/2026-09-14/
LOCATION:Online on RA MA TV
CATEGORIES:In Person,RA MA TV Live
ATTACH;FMTTYPE=image/jpeg:https://ramayogainstitute.com/wp-content/uploads/2026/04/ATMA-SANTOKH_katherina-thumbs_1.jpg
END:VEVENT
BEGIN:VEVENT
DTSTART;TZID=America/Los_Angeles:20260916T160000
DTEND;TZID=America/Los_Angeles:20260916T171500
DTSTAMP:20260422T112921
CREATED:20260415T220821Z
LAST-MODIFIED:20260415T220821Z
UID:2018329-1789574400-1789578900@ramayogainstitute.com
SUMMARY:POWER OF THE WORD | with Atma Santokh
DESCRIPTION:
URL:https://ramayogainstitute.com/event/power-of-the-word-with-atma-santokh/2026-09-16/
LOCATION:Online on RA MA TV
CATEGORIES:In Person,RA MA TV Live
ATTACH;FMTTYPE=image/jpeg:https://ramayogainstitute.com/wp-content/uploads/2025/03/Atma-Santokh_palma_02.jpg
END:VEVENT
BEGIN:VEVENT
DTSTART;TZID=America/Los_Angeles:20260917T003000
DTEND;TZID=America/Los_Angeles:20260917T020000
DTSTAMP:20260422T112921
CREATED:20260415T211939Z
LAST-MODIFIED:20260415T211939Z
UID:2017913-1789605000-1789610400@ramayogainstitute.com
SUMMARY:KUNDALINI YOGA & MEDITATION
DESCRIPTION:
URL:https://ramayogainstitute.com/event/kundalini-yoga-meditation-6/2026-09-17/
LOCATION:Online on RA MA TV
CATEGORIES:In Person,RA MA TV Live
ATTACH;FMTTYPE=image/jpeg:https://ramayogainstitute.com/wp-content/uploads/2025/08/Atma-green-wall-01.jpg
END:VEVENT
BEGIN:VEVENT
DTSTART;TZID=America/Los_Angeles:20260918T003000
DTEND;TZID=America/Los_Angeles:20260918T020000
DTSTAMP:20260422T112921
CREATED:20260206T160116Z
LAST-MODIFIED:20260206T160116Z
UID:2014756-1789691400-1789696800@ramayogainstitute.com
SUMMARY:KUNDALINI YOGA & MEDITATION
DESCRIPTION:
URL:https://ramayogainstitute.com/event/kundalini-yoga-meditation-9/2026-09-18/
LOCATION:Online on RA MA TV
CATEGORIES:In Person,RA MA TV Live
ATTACH;FMTTYPE=image/jpeg:https://ramayogainstitute.com/wp-content/uploads/2025/08/Atma-green-wall-01.jpg
END:VEVENT
BEGIN:VEVENT
DTSTART;TZID=America/Los_Angeles:20260918T003000
DTEND;TZID=America/Los_Angeles:20260918T020000
DTSTAMP:20260422T112921
CREATED:20260415T212621Z
LAST-MODIFIED:20260415T212621Z
UID:2017941-1789691400-1789696800@ramayogainstitute.com
SUMMARY:TANTRA & KUNDALINI | with Atma Santokh
DESCRIPTION:
URL:https://ramayogainstitute.com/event/tantra-kundalini-with-atma-santokh/2026-09-18/
LOCATION:Online on RA MA TV
CATEGORIES:In Person,RA MA TV Live
ATTACH;FMTTYPE=image/png:https://ramayogainstitute.com/wp-content/uploads/2025/07/Atma_Santokh_Fitness_5-scaled.png
END:VEVENT
END:VCALENDAR