BEGIN:VCALENDAR
VERSION:2.0
PRODID:-//RA MA LIFE - ECPv6.15.15//NONSGML v1.0//EN
CALSCALE:GREGORIAN
METHOD:PUBLISH
X-ORIGINAL-URL:https://ramayogainstitute.com
X-WR-CALDESC:Events for RA MA LIFE
REFRESH-INTERVAL;VALUE=DURATION:PT1H
X-Robots-Tag:noindex
X-PUBLISHED-TTL:PT1H
BEGIN:VTIMEZONE
TZID:America/Los_Angeles
BEGIN:DAYLIGHT
TZOFFSETFROM:-0800
TZOFFSETTO:-0700
TZNAME:PDT
DTSTART:20250309T100000
END:DAYLIGHT
BEGIN:STANDARD
TZOFFSETFROM:-0700
TZOFFSETTO:-0800
TZNAME:PST
DTSTART:20251102T090000
END:STANDARD
BEGIN:DAYLIGHT
TZOFFSETFROM:-0800
TZOFFSETTO:-0700
TZNAME:PDT
DTSTART:20260308T100000
END:DAYLIGHT
BEGIN:STANDARD
TZOFFSETFROM:-0700
TZOFFSETTO:-0800
TZNAME:PST
DTSTART:20261101T090000
END:STANDARD
BEGIN:DAYLIGHT
TZOFFSETFROM:-0800
TZOFFSETTO:-0700
TZNAME:PDT
DTSTART:20270314T100000
END:DAYLIGHT
BEGIN:STANDARD
TZOFFSETFROM:-0700
TZOFFSETTO:-0800
TZNAME:PST
DTSTART:20271107T090000
END:STANDARD
END:VTIMEZONE
BEGIN:VEVENT
DTSTART;TZID=America/Los_Angeles:20260422T160000
DTEND;TZID=America/Los_Angeles:20260422T171500
DTSTAMP:20260421T175059
CREATED:20260415T220821Z
LAST-MODIFIED:20260415T220822Z
UID:2018307-1776873600-1776878100@ramayogainstitute.com
SUMMARY:POWER OF THE WORD | with Atma Santokh
DESCRIPTION:
URL:https://ramayogainstitute.com/event/power-of-the-word-with-atma-santokh/2026-04-22/
LOCATION:Online on RA MA TV
CATEGORIES:In Person,RA MA TV Live
ATTACH;FMTTYPE=image/jpeg:https://ramayogainstitute.com/wp-content/uploads/2025/03/Atma-Santokh_palma_02.jpg
END:VEVENT
BEGIN:VEVENT
DTSTART;TZID=America/Los_Angeles:20260423T003000
DTEND;TZID=America/Los_Angeles:20260423T020000
DTSTAMP:20260421T175059
CREATED:20260415T211939Z
LAST-MODIFIED:20260415T221310Z
UID:2017892-1776904200-1776909600@ramayogainstitute.com
SUMMARY:KUNDALINI YOGA & MEDITATION
DESCRIPTION:
URL:https://ramayogainstitute.com/event/kundalini-yoga-meditation-6/2026-04-23/
LOCATION:Online on RA MA TV
CATEGORIES:In Person,RA MA TV Live
ATTACH;FMTTYPE=image/jpeg:https://ramayogainstitute.com/wp-content/uploads/2025/08/Atma-green-wall-01.jpg
END:VEVENT
BEGIN:VEVENT
DTSTART;TZID=America/Los_Angeles:20260424T003000
DTEND;TZID=America/Los_Angeles:20260424T020000
DTSTAMP:20260421T175059
CREATED:20260415T212621Z
LAST-MODIFIED:20260415T221317Z
UID:2017920-1776990600-1776996000@ramayogainstitute.com
SUMMARY:TANTRA & KUNDALINI | with Atma Santokh
DESCRIPTION:
URL:https://ramayogainstitute.com/event/tantra-kundalini-with-atma-santokh/2026-04-24/
LOCATION:Online on RA MA TV
CATEGORIES:In Person,RA MA TV Live
ATTACH;FMTTYPE=image/png:https://ramayogainstitute.com/wp-content/uploads/2025/07/Atma_Santokh_Fitness_5-scaled.png
END:VEVENT
BEGIN:VEVENT
DTSTART;TZID=America/Los_Angeles:20260427T070000
DTEND;TZID=America/Los_Angeles:20260427T081500
DTSTAMP:20260421T175059
CREATED:20260414T145110Z
LAST-MODIFIED:20260414T145710Z
UID:2017552-1777273200-1777277700@ramayogainstitute.com
SUMMARY:BREATH OF LIFE | With Atma Santokh
DESCRIPTION:
URL:https://ramayogainstitute.com/event/breath-of-life-with-atma-santokh/2026-04-27/
LOCATION:Online on RA MA TV
CATEGORIES:In Person,RA MA TV Live
ATTACH;FMTTYPE=image/jpeg:https://ramayogainstitute.com/wp-content/uploads/2026/04/ATMA-SANTOKH_katherina-thumbs_1.jpg
END:VEVENT
BEGIN:VEVENT
DTSTART;TZID=America/Los_Angeles:20260429T160000
DTEND;TZID=America/Los_Angeles:20260429T171500
DTSTAMP:20260421T175059
CREATED:20260415T220821Z
LAST-MODIFIED:20260415T220821Z
UID:2018309-1777478400-1777482900@ramayogainstitute.com
SUMMARY:POWER OF THE WORD | with Atma Santokh
DESCRIPTION:
URL:https://ramayogainstitute.com/event/power-of-the-word-with-atma-santokh/2026-04-29/
LOCATION:Online on RA MA TV
CATEGORIES:In Person,RA MA TV Live
ATTACH;FMTTYPE=image/jpeg:https://ramayogainstitute.com/wp-content/uploads/2025/03/Atma-Santokh_palma_02.jpg
END:VEVENT
BEGIN:VEVENT
DTSTART;TZID=America/Los_Angeles:20260430T003000
DTEND;TZID=America/Los_Angeles:20260430T020000
DTSTAMP:20260421T175059
CREATED:20260415T211939Z
LAST-MODIFIED:20260415T221311Z
UID:2017893-1777509000-1777514400@ramayogainstitute.com
SUMMARY:KUNDALINI YOGA & MEDITATION
DESCRIPTION:
URL:https://ramayogainstitute.com/event/kundalini-yoga-meditation-6/2026-04-30/
LOCATION:Online on RA MA TV
CATEGORIES:In Person,RA MA TV Live
ATTACH;FMTTYPE=image/jpeg:https://ramayogainstitute.com/wp-content/uploads/2025/08/Atma-green-wall-01.jpg
END:VEVENT
BEGIN:VEVENT
DTSTART;TZID=America/Los_Angeles:20260501T003000
DTEND;TZID=America/Los_Angeles:20260501T020000
DTSTAMP:20260421T175059
CREATED:20260415T212621Z
LAST-MODIFIED:20260415T221318Z
UID:2017921-1777595400-1777600800@ramayogainstitute.com
SUMMARY:TANTRA & KUNDALINI | with Atma Santokh
DESCRIPTION:
URL:https://ramayogainstitute.com/event/tantra-kundalini-with-atma-santokh/2026-05-01/
LOCATION:Online on RA MA TV
CATEGORIES:In Person,RA MA TV Live
ATTACH;FMTTYPE=image/png:https://ramayogainstitute.com/wp-content/uploads/2025/07/Atma_Santokh_Fitness_5-scaled.png
END:VEVENT
BEGIN:VEVENT
DTSTART;TZID=America/Los_Angeles:20260504T070000
DTEND;TZID=America/Los_Angeles:20260504T081500
DTSTAMP:20260421T175059
CREATED:20260414T145110Z
LAST-MODIFIED:20260414T145712Z
UID:2017553-1777878000-1777882500@ramayogainstitute.com
SUMMARY:BREATH OF LIFE | With Atma Santokh
DESCRIPTION:
URL:https://ramayogainstitute.com/event/breath-of-life-with-atma-santokh/2026-05-04/
LOCATION:Online on RA MA TV
CATEGORIES:In Person,RA MA TV Live
ATTACH;FMTTYPE=image/jpeg:https://ramayogainstitute.com/wp-content/uploads/2026/04/ATMA-SANTOKH_katherina-thumbs_1.jpg
END:VEVENT
BEGIN:VEVENT
DTSTART;TZID=America/Los_Angeles:20260506T160000
DTEND;TZID=America/Los_Angeles:20260506T171500
DTSTAMP:20260421T175059
CREATED:20260415T220821Z
LAST-MODIFIED:20260415T220821Z
UID:2018310-1778083200-1778087700@ramayogainstitute.com
SUMMARY:POWER OF THE WORD | with Atma Santokh
DESCRIPTION:
URL:https://ramayogainstitute.com/event/power-of-the-word-with-atma-santokh/2026-05-06/
LOCATION:Online on RA MA TV
CATEGORIES:In Person,RA MA TV Live
ATTACH;FMTTYPE=image/jpeg:https://ramayogainstitute.com/wp-content/uploads/2025/03/Atma-Santokh_palma_02.jpg
END:VEVENT
BEGIN:VEVENT
DTSTART;TZID=America/Los_Angeles:20260507T003000
DTEND;TZID=America/Los_Angeles:20260507T020000
DTSTAMP:20260421T175059
CREATED:20260415T211939Z
LAST-MODIFIED:20260415T221312Z
UID:2017894-1778113800-1778119200@ramayogainstitute.com
SUMMARY:KUNDALINI YOGA & MEDITATION
DESCRIPTION:
URL:https://ramayogainstitute.com/event/kundalini-yoga-meditation-6/2026-05-07/
LOCATION:Online on RA MA TV
CATEGORIES:In Person,RA MA TV Live
ATTACH;FMTTYPE=image/jpeg:https://ramayogainstitute.com/wp-content/uploads/2025/08/Atma-green-wall-01.jpg
END:VEVENT
BEGIN:VEVENT
DTSTART;TZID=America/Los_Angeles:20260508T003000
DTEND;TZID=America/Los_Angeles:20260508T020000
DTSTAMP:20260421T175059
CREATED:20260415T212621Z
LAST-MODIFIED:20260415T221319Z
UID:2017922-1778200200-1778205600@ramayogainstitute.com
SUMMARY:TANTRA & KUNDALINI | with Atma Santokh
DESCRIPTION:
URL:https://ramayogainstitute.com/event/tantra-kundalini-with-atma-santokh/2026-05-08/
LOCATION:Online on RA MA TV
CATEGORIES:In Person,RA MA TV Live
ATTACH;FMTTYPE=image/png:https://ramayogainstitute.com/wp-content/uploads/2025/07/Atma_Santokh_Fitness_5-scaled.png
END:VEVENT
BEGIN:VEVENT
DTSTART;TZID=America/Los_Angeles:20260511T070000
DTEND;TZID=America/Los_Angeles:20260511T081500
DTSTAMP:20260421T175059
CREATED:20260414T145110Z
LAST-MODIFIED:20260414T145712Z
UID:2017554-1778482800-1778487300@ramayogainstitute.com
SUMMARY:BREATH OF LIFE | With Atma Santokh
DESCRIPTION:
URL:https://ramayogainstitute.com/event/breath-of-life-with-atma-santokh/2026-05-11/
LOCATION:Online on RA MA TV
CATEGORIES:In Person,RA MA TV Live
ATTACH;FMTTYPE=image/jpeg:https://ramayogainstitute.com/wp-content/uploads/2026/04/ATMA-SANTOKH_katherina-thumbs_1.jpg
END:VEVENT
BEGIN:VEVENT
DTSTART;TZID=America/Los_Angeles:20260513T160000
DTEND;TZID=America/Los_Angeles:20260513T171500
DTSTAMP:20260421T175059
CREATED:20260415T220821Z
LAST-MODIFIED:20260415T220821Z
UID:2018311-1778688000-1778692500@ramayogainstitute.com
SUMMARY:POWER OF THE WORD | with Atma Santokh
DESCRIPTION:
URL:https://ramayogainstitute.com/event/power-of-the-word-with-atma-santokh/2026-05-13/
LOCATION:Online on RA MA TV
CATEGORIES:In Person,RA MA TV Live
ATTACH;FMTTYPE=image/jpeg:https://ramayogainstitute.com/wp-content/uploads/2025/03/Atma-Santokh_palma_02.jpg
END:VEVENT
BEGIN:VEVENT
DTSTART;TZID=America/Los_Angeles:20260514T003000
DTEND;TZID=America/Los_Angeles:20260514T020000
DTSTAMP:20260421T175059
CREATED:20260415T211939Z
LAST-MODIFIED:20260415T221313Z
UID:2017895-1778718600-1778724000@ramayogainstitute.com
SUMMARY:KUNDALINI YOGA & MEDITATION
DESCRIPTION:
URL:https://ramayogainstitute.com/event/kundalini-yoga-meditation-6/2026-05-14/
LOCATION:Online on RA MA TV
CATEGORIES:In Person,RA MA TV Live
ATTACH;FMTTYPE=image/jpeg:https://ramayogainstitute.com/wp-content/uploads/2025/08/Atma-green-wall-01.jpg
END:VEVENT
BEGIN:VEVENT
DTSTART;TZID=America/Los_Angeles:20260515T003000
DTEND;TZID=America/Los_Angeles:20260515T020000
DTSTAMP:20260421T175059
CREATED:20260415T212621Z
LAST-MODIFIED:20260415T221320Z
UID:2017923-1778805000-1778810400@ramayogainstitute.com
SUMMARY:TANTRA & KUNDALINI | with Atma Santokh
DESCRIPTION:
URL:https://ramayogainstitute.com/event/tantra-kundalini-with-atma-santokh/2026-05-15/
LOCATION:Online on RA MA TV
CATEGORIES:In Person,RA MA TV Live
ATTACH;FMTTYPE=image/png:https://ramayogainstitute.com/wp-content/uploads/2025/07/Atma_Santokh_Fitness_5-scaled.png
END:VEVENT
BEGIN:VEVENT
DTSTART;TZID=America/Los_Angeles:20260518T070000
DTEND;TZID=America/Los_Angeles:20260518T081500
DTSTAMP:20260421T175059
CREATED:20260414T145110Z
LAST-MODIFIED:20260414T145713Z
UID:2017555-1779087600-1779092100@ramayogainstitute.com
SUMMARY:BREATH OF LIFE | With Atma Santokh
DESCRIPTION:
URL:https://ramayogainstitute.com/event/breath-of-life-with-atma-santokh/2026-05-18/
LOCATION:Online on RA MA TV
CATEGORIES:In Person,RA MA TV Live
ATTACH;FMTTYPE=image/jpeg:https://ramayogainstitute.com/wp-content/uploads/2026/04/ATMA-SANTOKH_katherina-thumbs_1.jpg
END:VEVENT
BEGIN:VEVENT
DTSTART;TZID=America/Los_Angeles:20260520T160000
DTEND;TZID=America/Los_Angeles:20260520T171500
DTSTAMP:20260421T175059
CREATED:20260415T220821Z
LAST-MODIFIED:20260415T220821Z
UID:2018312-1779292800-1779297300@ramayogainstitute.com
SUMMARY:POWER OF THE WORD | with Atma Santokh
DESCRIPTION:
URL:https://ramayogainstitute.com/event/power-of-the-word-with-atma-santokh/2026-05-20/
LOCATION:Online on RA MA TV
CATEGORIES:In Person,RA MA TV Live
ATTACH;FMTTYPE=image/jpeg:https://ramayogainstitute.com/wp-content/uploads/2025/03/Atma-Santokh_palma_02.jpg
END:VEVENT
BEGIN:VEVENT
DTSTART;TZID=America/Los_Angeles:20260521T003000
DTEND;TZID=America/Los_Angeles:20260521T020000
DTSTAMP:20260421T175059
CREATED:20260415T211939Z
LAST-MODIFIED:20260415T221314Z
UID:2017896-1779323400-1779328800@ramayogainstitute.com
SUMMARY:KUNDALINI YOGA & MEDITATION
DESCRIPTION:
URL:https://ramayogainstitute.com/event/kundalini-yoga-meditation-6/2026-05-21/
LOCATION:Online on RA MA TV
CATEGORIES:In Person,RA MA TV Live
ATTACH;FMTTYPE=image/jpeg:https://ramayogainstitute.com/wp-content/uploads/2025/08/Atma-green-wall-01.jpg
END:VEVENT
BEGIN:VEVENT
DTSTART;TZID=America/Los_Angeles:20260522T003000
DTEND;TZID=America/Los_Angeles:20260522T020000
DTSTAMP:20260421T175059
CREATED:20260415T212621Z
LAST-MODIFIED:20260415T221321Z
UID:2017924-1779409800-1779415200@ramayogainstitute.com
SUMMARY:TANTRA & KUNDALINI | with Atma Santokh
DESCRIPTION:
URL:https://ramayogainstitute.com/event/tantra-kundalini-with-atma-santokh/2026-05-22/
LOCATION:Online on RA MA TV
CATEGORIES:In Person,RA MA TV Live
ATTACH;FMTTYPE=image/png:https://ramayogainstitute.com/wp-content/uploads/2025/07/Atma_Santokh_Fitness_5-scaled.png
END:VEVENT
BEGIN:VEVENT
DTSTART;TZID=America/Los_Angeles:20260525T070000
DTEND;TZID=America/Los_Angeles:20260525T081500
DTSTAMP:20260421T175059
CREATED:20260414T145110Z
LAST-MODIFIED:20260414T145714Z
UID:2017556-1779692400-1779696900@ramayogainstitute.com
SUMMARY:BREATH OF LIFE | With Atma Santokh
DESCRIPTION:
URL:https://ramayogainstitute.com/event/breath-of-life-with-atma-santokh/2026-05-25/
LOCATION:Online on RA MA TV
CATEGORIES:In Person,RA MA TV Live
ATTACH;FMTTYPE=image/jpeg:https://ramayogainstitute.com/wp-content/uploads/2026/04/ATMA-SANTOKH_katherina-thumbs_1.jpg
END:VEVENT
BEGIN:VEVENT
DTSTART;TZID=America/Los_Angeles:20260527T160000
DTEND;TZID=America/Los_Angeles:20260527T171500
DTSTAMP:20260421T175059
CREATED:20260415T220821Z
LAST-MODIFIED:20260415T220821Z
UID:2018313-1779897600-1779902100@ramayogainstitute.com
SUMMARY:POWER OF THE WORD | with Atma Santokh
DESCRIPTION:
URL:https://ramayogainstitute.com/event/power-of-the-word-with-atma-santokh/2026-05-27/
LOCATION:Online on RA MA TV
CATEGORIES:In Person,RA MA TV Live
ATTACH;FMTTYPE=image/jpeg:https://ramayogainstitute.com/wp-content/uploads/2025/03/Atma-Santokh_palma_02.jpg
END:VEVENT
BEGIN:VEVENT
DTSTART;TZID=America/Los_Angeles:20260528T003000
DTEND;TZID=America/Los_Angeles:20260528T020000
DTSTAMP:20260421T175059
CREATED:20260415T211939Z
LAST-MODIFIED:20260415T221314Z
UID:2017897-1779928200-1779933600@ramayogainstitute.com
SUMMARY:KUNDALINI YOGA & MEDITATION
DESCRIPTION:
URL:https://ramayogainstitute.com/event/kundalini-yoga-meditation-6/2026-05-28/
LOCATION:Online on RA MA TV
CATEGORIES:In Person,RA MA TV Live
ATTACH;FMTTYPE=image/jpeg:https://ramayogainstitute.com/wp-content/uploads/2025/08/Atma-green-wall-01.jpg
END:VEVENT
BEGIN:VEVENT
DTSTART;TZID=America/Los_Angeles:20260529T003000
DTEND;TZID=America/Los_Angeles:20260529T020000
DTSTAMP:20260421T175059
CREATED:20260415T212621Z
LAST-MODIFIED:20260415T221322Z
UID:2017925-1780014600-1780020000@ramayogainstitute.com
SUMMARY:TANTRA & KUNDALINI | with Atma Santokh
DESCRIPTION:
URL:https://ramayogainstitute.com/event/tantra-kundalini-with-atma-santokh/2026-05-29/
LOCATION:Online on RA MA TV
CATEGORIES:In Person,RA MA TV Live
ATTACH;FMTTYPE=image/png:https://ramayogainstitute.com/wp-content/uploads/2025/07/Atma_Santokh_Fitness_5-scaled.png
END:VEVENT
BEGIN:VEVENT
DTSTART;TZID=America/Los_Angeles:20260529T080000
DTEND;TZID=America/Los_Angeles:20260529T091500
DTSTAMP:20260421T175059
CREATED:20251020T014957Z
LAST-MODIFIED:20260102T153304Z
UID:2002117-1780041600-1780046100@ramayogainstitute.com
SUMMARY:SELF-FULFILLMENT | Kundalini Yoga with Atma Santokh
DESCRIPTION:
URL:https://ramayogainstitute.com/event/self-fulfillment-kundalini-yoga/2026-05-29/
LOCATION:Online on RA MA TV
CATEGORIES:In Person,RA MA TV Live
ATTACH;FMTTYPE=image/jpeg:https://ramayogainstitute.com/wp-content/uploads/2024/11/atma-santokh-stupa.jpg
END:VEVENT
BEGIN:VEVENT
DTSTART;TZID=America/Los_Angeles:20260601T070000
DTEND;TZID=America/Los_Angeles:20260601T081500
DTSTAMP:20260421T175059
CREATED:20260414T145110Z
LAST-MODIFIED:20260414T145715Z
UID:2017557-1780297200-1780301700@ramayogainstitute.com
SUMMARY:BREATH OF LIFE | With Atma Santokh
DESCRIPTION:
URL:https://ramayogainstitute.com/event/breath-of-life-with-atma-santokh/2026-06-01/
LOCATION:Online on RA MA TV
CATEGORIES:In Person,RA MA TV Live
ATTACH;FMTTYPE=image/jpeg:https://ramayogainstitute.com/wp-content/uploads/2026/04/ATMA-SANTOKH_katherina-thumbs_1.jpg
END:VEVENT
BEGIN:VEVENT
DTSTART;TZID=America/Los_Angeles:20260603T160000
DTEND;TZID=America/Los_Angeles:20260603T171500
DTSTAMP:20260421T175059
CREATED:20260415T220821Z
LAST-MODIFIED:20260415T220821Z
UID:2018314-1780502400-1780506900@ramayogainstitute.com
SUMMARY:POWER OF THE WORD | with Atma Santokh
DESCRIPTION:
URL:https://ramayogainstitute.com/event/power-of-the-word-with-atma-santokh/2026-06-03/
LOCATION:Online on RA MA TV
CATEGORIES:In Person,RA MA TV Live
ATTACH;FMTTYPE=image/jpeg:https://ramayogainstitute.com/wp-content/uploads/2025/03/Atma-Santokh_palma_02.jpg
END:VEVENT
BEGIN:VEVENT
DTSTART;TZID=America/Los_Angeles:20260604T003000
DTEND;TZID=America/Los_Angeles:20260604T020000
DTSTAMP:20260421T175059
CREATED:20260415T211939Z
LAST-MODIFIED:20260415T221315Z
UID:2017898-1780533000-1780538400@ramayogainstitute.com
SUMMARY:KUNDALINI YOGA & MEDITATION
DESCRIPTION:
URL:https://ramayogainstitute.com/event/kundalini-yoga-meditation-6/2026-06-04/
LOCATION:Online on RA MA TV
CATEGORIES:In Person,RA MA TV Live
ATTACH;FMTTYPE=image/jpeg:https://ramayogainstitute.com/wp-content/uploads/2025/08/Atma-green-wall-01.jpg
END:VEVENT
BEGIN:VEVENT
DTSTART;TZID=America/Los_Angeles:20260605T003000
DTEND;TZID=America/Los_Angeles:20260605T020000
DTSTAMP:20260421T175059
CREATED:20260415T212621Z
LAST-MODIFIED:20260415T221323Z
UID:2017926-1780619400-1780624800@ramayogainstitute.com
SUMMARY:TANTRA & KUNDALINI | with Atma Santokh
DESCRIPTION:
URL:https://ramayogainstitute.com/event/tantra-kundalini-with-atma-santokh/2026-06-05/
LOCATION:Online on RA MA TV
CATEGORIES:In Person,RA MA TV Live
ATTACH;FMTTYPE=image/png:https://ramayogainstitute.com/wp-content/uploads/2025/07/Atma_Santokh_Fitness_5-scaled.png
END:VEVENT
BEGIN:VEVENT
DTSTART;TZID=America/Los_Angeles:20260605T080000
DTEND;TZID=America/Los_Angeles:20260605T091500
DTSTAMP:20260421T175059
CREATED:20251020T014957Z
LAST-MODIFIED:20260102T153305Z
UID:2002739-1780646400-1780650900@ramayogainstitute.com
SUMMARY:SELF-FULFILLMENT | Kundalini Yoga with Atma Santokh
DESCRIPTION:
URL:https://ramayogainstitute.com/event/self-fulfillment-kundalini-yoga/2026-06-05/
LOCATION:Online on RA MA TV
CATEGORIES:In Person,RA MA TV Live
ATTACH;FMTTYPE=image/jpeg:https://ramayogainstitute.com/wp-content/uploads/2024/11/atma-santokh-stupa.jpg
END:VEVENT
BEGIN:VEVENT
DTSTART;TZID=America/Los_Angeles:20260608T070000
DTEND;TZID=America/Los_Angeles:20260608T081500
DTSTAMP:20260421T175059
CREATED:20260414T145110Z
LAST-MODIFIED:20260414T145716Z
UID:2017558-1780902000-1780906500@ramayogainstitute.com
SUMMARY:BREATH OF LIFE | With Atma Santokh
DESCRIPTION:
URL:https://ramayogainstitute.com/event/breath-of-life-with-atma-santokh/2026-06-08/
LOCATION:Online on RA MA TV
CATEGORIES:In Person,RA MA TV Live
ATTACH;FMTTYPE=image/jpeg:https://ramayogainstitute.com/wp-content/uploads/2026/04/ATMA-SANTOKH_katherina-thumbs_1.jpg
END:VEVENT
END:VCALENDAR