BEGIN:VCALENDAR
VERSION:2.0
PRODID:-//RA MA LIFE - ECPv6.15.15//NONSGML v1.0//EN
CALSCALE:GREGORIAN
METHOD:PUBLISH
X-WR-CALNAME:RA MA LIFE
X-ORIGINAL-URL:https://ramayogainstitute.com
X-WR-CALDESC:Events for RA MA LIFE
REFRESH-INTERVAL;VALUE=DURATION:PT1H
X-Robots-Tag:noindex
X-PUBLISHED-TTL:PT1H
BEGIN:VTIMEZONE
TZID:America/Los_Angeles
BEGIN:DAYLIGHT
TZOFFSETFROM:-0800
TZOFFSETTO:-0700
TZNAME:PDT
DTSTART:20220313T100000
END:DAYLIGHT
BEGIN:STANDARD
TZOFFSETFROM:-0700
TZOFFSETTO:-0800
TZNAME:PST
DTSTART:20221106T090000
END:STANDARD
BEGIN:DAYLIGHT
TZOFFSETFROM:-0800
TZOFFSETTO:-0700
TZNAME:PDT
DTSTART:20230312T100000
END:DAYLIGHT
BEGIN:STANDARD
TZOFFSETFROM:-0700
TZOFFSETTO:-0800
TZNAME:PST
DTSTART:20231105T090000
END:STANDARD
BEGIN:DAYLIGHT
TZOFFSETFROM:-0800
TZOFFSETTO:-0700
TZNAME:PDT
DTSTART:20240310T100000
END:DAYLIGHT
BEGIN:STANDARD
TZOFFSETFROM:-0700
TZOFFSETTO:-0800
TZNAME:PST
DTSTART:20241103T090000
END:STANDARD
BEGIN:DAYLIGHT
TZOFFSETFROM:-0800
TZOFFSETTO:-0700
TZNAME:PDT
DTSTART:20250309T100000
END:DAYLIGHT
BEGIN:STANDARD
TZOFFSETFROM:-0700
TZOFFSETTO:-0800
TZNAME:PST
DTSTART:20251102T090000
END:STANDARD
END:VTIMEZONE
BEGIN:VEVENT
DTSTART;TZID=America/Los_Angeles:20240112T110000
DTEND;TZID=America/Los_Angeles:20240112T120000
DTSTAMP:20260425T133252
CREATED:20240104T203731Z
LAST-MODIFIED:20240104T203812Z
UID:1885714-1705057200-1705060800@ramayogainstitute.com
SUMMARY:Kundalini Yoga & Meditation with Anneka
DESCRIPTION:TUNE IN\nAnneka is a Kundalini Yoga practitioner\, teacher\, and helps run the women’s program at RA MA. She is passionate about bringing the mystical and magical into the day-to-day so that everyone can experience the bliss of living an extraordinary life. \n 
URL:https://ramayogainstitute.com/event/kundalini-yoga-meditation-with-anneka-3/2024-01-12/
LOCATION:Online
CATEGORIES:In Person,RA MA TV Live
ATTACH;FMTTYPE=image/jpeg:https://ramayogainstitute.com/wp-content/uploads/2023/12/Anneka-Thumbnail.jpg
END:VEVENT
BEGIN:VEVENT
DTSTART;TZID=America/Los_Angeles:20240110T090000
DTEND;TZID=America/Los_Angeles:20240110T103000
DTSTAMP:20260425T133252
CREATED:20230708T001408Z
LAST-MODIFIED:20240110T095308Z
UID:1819361-1704877200-1704882600@ramayogainstitute.com
SUMMARY:Kundalini Yoga & Meditation with Anneka
DESCRIPTION:TUNE IN LIVE OR IN PERSON\nAnneka is a Kundalini Yoga practitioner\, teacher\, and helps run the women’s program at RA MA. She is passionate about bringing the mystical and magical into the day-to-day so that everyone can experience the bliss of living an extraordinary life.
URL:https://ramayogainstitute.com/event/kundalini-yoga-meditation-with-mandev-11-2023-09-13-2024-01-10/
LOCATION:Online
CATEGORIES:In Person,RA MA TV Live
ATTACH;FMTTYPE=image/jpeg:https://ramayogainstitute.com/wp-content/uploads/2023/12/Anneka-Thumbnail.jpg
END:VEVENT
BEGIN:VEVENT
DTSTART;TZID=America/Los_Angeles:20231222T110000
DTEND;TZID=America/Los_Angeles:20231222T120000
DTSTAMP:20260425T133252
CREATED:20231213T200846Z
LAST-MODIFIED:20231213T200846Z
UID:1879968-1703242800-1703246400@ramayogainstitute.com
SUMMARY:Kundalini Yoga & Meditation with Anneka
DESCRIPTION:TUNE IN\nAnneka is a Kundalini Yoga practitioner\, teacher\, and helps run the women’s program at RA MA. \nShe is passionate about bringing the mystical and magical into the day-to-day so \nthat everyone can experience the bliss of living an extraordinary life.
URL:https://ramayogainstitute.com/event/kundalini-yoga-meditation-with-anneka/
LOCATION:Online
CATEGORIES:In Person,RA MA TV Live
ATTACH;FMTTYPE=image/jpeg:https://ramayogainstitute.com/wp-content/uploads/2023/03/KundaliniYoga_Anneka_Header.jpg
END:VEVENT
BEGIN:VEVENT
DTSTART;TZID=America/Los_Angeles:20231220T110000
DTEND;TZID=America/Los_Angeles:20231220T120000
DTSTAMP:20260425T133252
CREATED:20230406T222604Z
LAST-MODIFIED:20231217T203539Z
UID:1856586-1703070000-1703073600@ramayogainstitute.com
SUMMARY:Kundalini Yoga & Meditation with Anneka
DESCRIPTION:TUNE IN\nAnneka is a Kundalini Yoga practitioner\, teacher\, and helps run the women’s program at RA MA. \nShe is passionate about bringing the mystical and magical into the day-to-day so that everyone can experience the bliss of living an extraordinary life.
URL:https://ramayogainstitute.com/event/energy-with-marta-ulbricht-2-2023-12-20/
LOCATION:Online
CATEGORIES:In Person,RA MA TV Live
ATTACH;FMTTYPE=image/jpeg:https://ramayogainstitute.com/wp-content/uploads/2023/03/KundaliniYoga_Anneka_Header.jpg
END:VEVENT
BEGIN:VEVENT
DTSTART;TZID=America/Los_Angeles:20231215T110000
DTEND;TZID=America/Los_Angeles:20231215T120000
DTSTAMP:20260425T133252
CREATED:20221113T055233Z
LAST-MODIFIED:20231213T175758Z
UID:1751123-1702638000-1702641600@ramayogainstitute.com
SUMMARY:Kundalini Yoga and Meditation with Anneka
DESCRIPTION:TUNE IN\nAnneka is a Kundalini Yoga practitioner\, teacher\, and helps run the women’s program at RA MA. She is passionate about bringing the mystical and magical into the day-to-day so that everyone can experience the bliss of living an extraordinary life. \n 
URL:https://ramayogainstitute.com/event/waheguru-your-weekend/2023-12-15/
LOCATION:Online
CATEGORIES:In Person,RA MA TV Live
ATTACH;FMTTYPE=image/jpeg:https://ramayogainstitute.com/wp-content/uploads/2023/03/KundaliniYoga_Anneka_Header.jpg
END:VEVENT
BEGIN:VEVENT
DTSTART;TZID=America/Los_Angeles:20231129T173000
DTEND;TZID=America/Los_Angeles:20231129T184500
DTSTAMP:20260425T133252
CREATED:20231122T195141Z
LAST-MODIFIED:20231122T195823Z
UID:1872967-1701279000-1701283500@ramayogainstitute.com
SUMMARY:Kundalini Yoga & Meditation with Anneka
DESCRIPTION:TUNE IN\nAnneka is a Kundalini Yoga practitioner\, teacher\, and helps run the women’s program at RA MA. She is passionate about bringing the mystical and magical into the day-to-day so that everyone can experience the bliss of living an extraordinary life.
URL:https://ramayogainstitute.com/event/beam-kundalini-yoga-meditation-with-jen-saltiel-8/
LOCATION:Online
CATEGORIES:In Person,RA MA TV Live
ATTACH;FMTTYPE=image/jpeg:https://ramayogainstitute.com/wp-content/uploads/2023/03/KundaliniYoga_Anneka_Header.jpg
END:VEVENT
BEGIN:VEVENT
DTSTART;TZID=America/Los_Angeles:20231109T190000
DTEND;TZID=America/Los_Angeles:20231109T203000
DTSTAMP:20260425T133252
CREATED:20230308T220405Z
LAST-MODIFIED:20231107T221729Z
UID:1800606-1699556400-1699561800@ramayogainstitute.com
SUMMARY:Kundalini Yoga &  Meditation with Anneka
DESCRIPTION:TUNE IN\nAnneka is a Kundalini Yoga practitioner\, teacher\, and helps run the women’s program at RA MA. She is passionate about bringing the mystical and magical into the day-to-day so that everyone can experience the bliss of living an extraordinary life.
URL:https://ramayogainstitute.com/event/kundalini-yoga-meditation-with-shabadpreet-2-2023-05-23-2023-09-07-2023-09-12-2023-09-19-2023-09-21-2023-11-09/
LOCATION:Online
CATEGORIES:In Person,RA MA TV Live
ATTACH;FMTTYPE=image/jpeg:https://ramayogainstitute.com/wp-content/uploads/2023/03/KundaliniYoga_Anneka_Header.jpg
END:VEVENT
BEGIN:VEVENT
DTSTART;TZID=America/Los_Angeles:20231101T173000
DTEND;TZID=America/Los_Angeles:20231101T184500
DTSTAMP:20260425T133252
CREATED:20231025T164236Z
LAST-MODIFIED:20231101T212517Z
UID:1863761-1698859800-1698864300@ramayogainstitute.com
SUMMARY:Kundalini Yoga & Meditation with Anneka
DESCRIPTION:TUNE IN\nAnneka is a Kundalini Yoga practitioner\, teacher\, and helps run the women’s program at RA MA. She is passionate about bringing the mystical and magical into the day-to-day so that everyone can experience the bliss of living an extraordinary life.
URL:https://ramayogainstitute.com/event/beam-kundalini-yoga-meditation-with-jen-saltiel-5/
LOCATION:Online
CATEGORIES:In Person,RA MA TV Live
ATTACH;FMTTYPE=image/jpeg:https://ramayogainstitute.com/wp-content/uploads/2023/10/Anneka.jpg
END:VEVENT
BEGIN:VEVENT
DTSTART;TZID=America/Los_Angeles:20230918T110000
DTEND;TZID=America/Los_Angeles:20230918T121500
DTSTAMP:20260425T133252
CREATED:20230918T161804Z
LAST-MODIFIED:20230918T172152Z
UID:1843604-1695034800-1695039300@ramayogainstitute.com
SUMMARY:Kundalini Yoga and the Cosmos with Anneka
DESCRIPTION:TUNE IN\n 
URL:https://ramayogainstitute.com/event/kundalini-yoga-and-the-cosmos-with-anneka/
LOCATION:Online
CATEGORIES:In Person,RA MA TV Live
ATTACH;FMTTYPE=image/jpeg:https://ramayogainstitute.com/wp-content/uploads/2021/06/stars-background2.jpg
END:VEVENT
BEGIN:VEVENT
DTSTART;TZID=America/Los_Angeles:20230627T190000
DTEND;TZID=America/Los_Angeles:20230627T203000
DTSTAMP:20260425T133252
CREATED:20230308T220405Z
LAST-MODIFIED:20230628T002922Z
UID:1795620-1687892400-1687897800@ramayogainstitute.com
SUMMARY:Kundalini Yoga & Meditation with Anneka
DESCRIPTION:TUNE IN\n 
URL:https://ramayogainstitute.com/event/kundalini-yoga-meditation-with-shabadpreet-2-2023-05-23-2023-06-27/
LOCATION:Online
CATEGORIES:In Person,RA MA TV Live
ATTACH;FMTTYPE=image/jpeg:https://ramayogainstitute.com/wp-content/uploads/2023/06/RA-MA-Los-Angeles-Kundalini-Yoga-Meditation.jpg
END:VEVENT
END:VCALENDAR