BEGIN:VCALENDAR
VERSION:2.0
PRODID:-//RA MA LIFE - ECPv6.15.15//NONSGML v1.0//EN
CALSCALE:GREGORIAN
METHOD:PUBLISH
X-ORIGINAL-URL:https://ramayogainstitute.com
X-WR-CALDESC:Events for RA MA LIFE
REFRESH-INTERVAL;VALUE=DURATION:PT1H
X-Robots-Tag:noindex
X-PUBLISHED-TTL:PT1H
BEGIN:VTIMEZONE
TZID:America/Los_Angeles
BEGIN:DAYLIGHT
TZOFFSETFROM:-0800
TZOFFSETTO:-0700
TZNAME:PDT
DTSTART:20220313T100000
END:DAYLIGHT
BEGIN:STANDARD
TZOFFSETFROM:-0700
TZOFFSETTO:-0800
TZNAME:PST
DTSTART:20221106T090000
END:STANDARD
BEGIN:DAYLIGHT
TZOFFSETFROM:-0800
TZOFFSETTO:-0700
TZNAME:PDT
DTSTART:20230312T100000
END:DAYLIGHT
BEGIN:STANDARD
TZOFFSETFROM:-0700
TZOFFSETTO:-0800
TZNAME:PST
DTSTART:20231105T090000
END:STANDARD
BEGIN:DAYLIGHT
TZOFFSETFROM:-0800
TZOFFSETTO:-0700
TZNAME:PDT
DTSTART:20240310T100000
END:DAYLIGHT
BEGIN:STANDARD
TZOFFSETFROM:-0700
TZOFFSETTO:-0800
TZNAME:PST
DTSTART:20241103T090000
END:STANDARD
BEGIN:DAYLIGHT
TZOFFSETFROM:-0800
TZOFFSETTO:-0700
TZNAME:PDT
DTSTART:20250309T100000
END:DAYLIGHT
BEGIN:STANDARD
TZOFFSETFROM:-0700
TZOFFSETTO:-0800
TZNAME:PST
DTSTART:20251102T090000
END:STANDARD
END:VTIMEZONE
BEGIN:VEVENT
DTSTART;TZID=America/Los_Angeles:20240412T110000
DTEND;TZID=America/Los_Angeles:20240412T120000
DTSTAMP:20260425T061310
CREATED:20240406T175930Z
LAST-MODIFIED:20240406T175930Z
UID:1911115-1712919600-1712923200@ramayogainstitute.com
SUMMARY:Kundalini Yoga & Meditation with Anneka
DESCRIPTION:TUNE IN\nAnneka is a Kundalini Yoga practitioner\, teacher\, and helps run the women’s program at RA MA. She is passionate about bringing the mystical and magical into the day-to-day so that everyone can experience the bliss of living an extraordinary life.
URL:https://ramayogainstitute.com/event/kundalini-yoga-meditation-with-anneka-21/2024-04-12/
LOCATION:Online
CATEGORIES:In Person,RA MA TV Live
ATTACH;FMTTYPE=image/jpeg:https://ramayogainstitute.com/wp-content/uploads/2023/12/Anneka-Thumbnail.jpg
END:VEVENT
BEGIN:VEVENT
DTSTART;TZID=America/Los_Angeles:20240405T110000
DTEND;TZID=America/Los_Angeles:20240405T120000
DTSTAMP:20260425T061310
CREATED:20240327T164952Z
LAST-MODIFIED:20240406T175804Z
UID:1908382-1712314800-1712318400@ramayogainstitute.com
SUMMARY:Kundalini Yoga & Meditation with Anneka
DESCRIPTION:TUNE IN\nAnneka is a Kundalini Yoga practitioner\, teacher\, and helps run the women’s program at RA MA. She is passionate about bringing the mystical and magical into the day-to-day so that everyone can experience the bliss of living an extraordinary life.
URL:https://ramayogainstitute.com/event/kundalini-yoga-meditation-with-anneka-18/2024-04-05/
LOCATION:Online
CATEGORIES:In Person,RA MA TV Live
ATTACH;FMTTYPE=image/jpeg:https://ramayogainstitute.com/wp-content/uploads/2023/12/Anneka-Thumbnail.jpg
END:VEVENT
BEGIN:VEVENT
DTSTART;TZID=America/Los_Angeles:20240403T173000
DTEND;TZID=America/Los_Angeles:20240403T183000
DTSTAMP:20260425T061310
CREATED:20240329T170203Z
LAST-MODIFIED:20240329T170919Z
UID:1909041-1712165400-1712169000@ramayogainstitute.com
SUMMARY:Kundalini Yoga & Meditation with Anneka
DESCRIPTION:TUNE IN\nAnneka is a Kundalini Yoga practitioner\, teacher\, and helps run the women’s program at RA MA. She is passionate about bringing the mystical and magical into the day-to-day so that everyone can experience the bliss of living an extraordinary life.
URL:https://ramayogainstitute.com/event/kundalini-yoga-meditation-with-anneka-17/
LOCATION:Online
CATEGORIES:In Person,RA MA TV Live
ATTACH;FMTTYPE=image/jpeg:https://ramayogainstitute.com/wp-content/uploads/2023/12/Anneka-Thumbnail.jpg
END:VEVENT
BEGIN:VEVENT
DTSTART;TZID=America/Los_Angeles:20240401T190000
DTEND;TZID=America/Los_Angeles:20240401T203000
DTSTAMP:20260425T061310
CREATED:20240329T160515Z
LAST-MODIFIED:20240329T160515Z
UID:1909028-1711998000-1712003400@ramayogainstitute.com
SUMMARY:Kundalini Yoga & Meditation with Anneka
DESCRIPTION:TUNE IN\nAnneka is a Kundalini Yoga practitioner\, teacher\, and helps run the women’s program at RA MA. She is passionate about bringing the mystical and magical into the day-to-day so that everyone can experience the bliss of living an extraordinary life.
URL:https://ramayogainstitute.com/event/kundalini-yoga-meditation-with-anneka-19/
LOCATION:Online
CATEGORIES:In Person,RA MA TV Live
ATTACH;FMTTYPE=image/jpeg:https://ramayogainstitute.com/wp-content/uploads/2023/12/Anneka-Thumbnail.jpg
END:VEVENT
BEGIN:VEVENT
DTSTART;TZID=America/Los_Angeles:20240326T090000
DTEND;TZID=America/Los_Angeles:20240326T103000
DTSTAMP:20260425T061310
CREATED:20240326T044419Z
LAST-MODIFIED:20240326T060502Z
UID:1908158-1711443600-1711449000@ramayogainstitute.com
SUMMARY:Kundalini Yoga & Meditation with Anneka
DESCRIPTION:TUNE IN\nAnneka is a Kundalini Yoga practitioner\, teacher\, and helps run the women’s program at RA MA. She is passionate about bringing the mystical and magical into the day-to-day so that everyone can experience the bliss of living an extraordinary life.
URL:https://ramayogainstitute.com/event/kundalini-yoga-meditation-with-ra-ma-crew-15/
LOCATION:Online
CATEGORIES:In Person,RA MA TV Live
ATTACH;FMTTYPE=image/jpeg:https://ramayogainstitute.com/wp-content/uploads/2024/02/Anneka-scaled.jpg
END:VEVENT
BEGIN:VEVENT
DTSTART;TZID=America/Los_Angeles:20240322T110000
DTEND;TZID=America/Los_Angeles:20240322T120000
DTSTAMP:20260425T061310
CREATED:20240314T215341Z
LAST-MODIFIED:20240314T215341Z
UID:1904938-1711105200-1711108800@ramayogainstitute.com
SUMMARY:Kundalini Yoga & Meditation with Anneka
DESCRIPTION:TUNE IN\nAnneka is a Kundalini Yoga practitioner\, teacher\, and helps run the women’s program at RA MA. She is passionate about bringing the mystical and magical into the day-to-day so that everyone can experience the bliss of living an extraordinary life.
URL:https://ramayogainstitute.com/event/kundalini-yoga-meditation-with-anneka-15/
LOCATION:Online
CATEGORIES:In Person,RA MA TV Live
ATTACH;FMTTYPE=image/jpeg:https://ramayogainstitute.com/wp-content/uploads/2023/12/Anneka-Thumbnail.jpg
END:VEVENT
BEGIN:VEVENT
DTSTART;TZID=America/Los_Angeles:20240318T110000
DTEND;TZID=America/Los_Angeles:20240318T121500
DTSTAMP:20260425T061310
CREATED:20240318T002559Z
LAST-MODIFIED:20240318T002559Z
UID:1905789-1710759600-1710764100@ramayogainstitute.com
SUMMARY:Kundalini Yoga & Meditation with Anneka
DESCRIPTION:TUNE IN\nAnneka is a Kundalini Yoga practitioner\, teacher\, and helps run the women’s program at RA MA. She is passionate about bringing the mystical and magical into the day-to-day so that everyone can experience the bliss of living an extraordinary life.
URL:https://ramayogainstitute.com/event/kundalini-yoga-meditation-with-anneka-16/
LOCATION:Online
CATEGORIES:In Person,RA MA TV Live
ATTACH;FMTTYPE=image/jpeg:https://ramayogainstitute.com/wp-content/uploads/2023/12/Anneka-Thumbnail.jpg
END:VEVENT
BEGIN:VEVENT
DTSTART;TZID=America/Los_Angeles:20240315T110000
DTEND;TZID=America/Los_Angeles:20240315T120000
DTSTAMP:20260425T061310
CREATED:20240306T203324Z
LAST-MODIFIED:20240306T203324Z
UID:1902431-1710500400-1710504000@ramayogainstitute.com
SUMMARY:Kundalini Yoga & Meditation with Anneka
DESCRIPTION:TUNE IN\nAnneka is a Kundalini Yoga practitioner\, teacher\, and helps run the women’s program at RA MA. She is passionate about bringing the mystical and magical into the day-to-day so that everyone can experience the bliss of living an extraordinary life.
URL:https://ramayogainstitute.com/event/kundalini-yoga-meditation-with-anneka-14/
LOCATION:Online
CATEGORIES:In Person,RA MA TV Live
ATTACH;FMTTYPE=image/jpeg:https://ramayogainstitute.com/wp-content/uploads/2023/12/Anneka-Thumbnail.jpg
END:VEVENT
BEGIN:VEVENT
DTSTART;TZID=America/Los_Angeles:20240304T190000
DTEND;TZID=America/Los_Angeles:20240304T203000
DTSTAMP:20260425T061310
CREATED:20240304T023729Z
LAST-MODIFIED:20240304T023729Z
UID:1900754-1709578800-1709584200@ramayogainstitute.com
SUMMARY:Kundalini Yoga & Meditation with Anneka
DESCRIPTION:TUNE IN\nAnneka is a Kundalini Yoga practitioner\, teacher\, and helps run the women’s program at RA MA. She is passionate about bringing the mystical and magical into the day-to-day so that everyone can experience the bliss of living an extraordinary life.
URL:https://ramayogainstitute.com/event/kundalini-yoga-meditation-with-anneka-12/
LOCATION:Online
CATEGORIES:In Person,RA MA TV Live
ATTACH;FMTTYPE=image/jpeg:https://ramayogainstitute.com/wp-content/uploads/2023/12/Anneka-Thumbnail.jpg
END:VEVENT
BEGIN:VEVENT
DTSTART;TZID=America/Los_Angeles:20240301T110000
DTEND;TZID=America/Los_Angeles:20240301T120000
DTSTAMP:20260425T061310
CREATED:20240228T192220Z
LAST-MODIFIED:20240228T192250Z
UID:1898506-1709290800-1709294400@ramayogainstitute.com
SUMMARY:Kundalini Yoga & Meditation with Anneka
DESCRIPTION:TUNE IN\nAnneka is a Kundalini Yoga practitioner\, teacher\, and helps run the women’s program at RA MA. She is passionate about bringing the mystical and magical into the day-to-day so that everyone can experience the bliss of living an extraordinary life.
URL:https://ramayogainstitute.com/event/kundalini-yoga-meditation-with-anneka-13/
LOCATION:Online
CATEGORIES:In Person,RA MA TV Live
ATTACH;FMTTYPE=image/jpeg:https://ramayogainstitute.com/wp-content/uploads/2023/12/Anneka-Thumbnail.jpg
END:VEVENT
BEGIN:VEVENT
DTSTART;TZID=America/Los_Angeles:20240226T110000
DTEND;TZID=America/Los_Angeles:20240226T121500
DTSTAMP:20260425T061310
CREATED:20211211T021739Z
LAST-MODIFIED:20240225T014927Z
UID:1835454-1708945200-1708949700@ramayogainstitute.com
SUMMARY:Kundalini Yoga and the Cosmos with Anneka
DESCRIPTION:TUNE IN\nMONDAYS|11:00 AM-12:15 PM PDT\nVirtually on RA MA TV Live\nIn Person @ RA MA Los Angeles \nAnneka is a Kundalini Yoga practitioner\, teacher\, and helps run the women’s program at RA MA. She is passionate about bringing the mystical and magical into the day-to-day so that everyone can experience the bliss of living an extraordinary life.
URL:https://ramayogainstitute.com/event/teg-prakash-12-13-21-2022-01-03-2022-02-21-2022-07-11-2022-07-25-2024-02-26/
LOCATION:Online
CATEGORIES:In Person,RA MA TV Live
ATTACH;FMTTYPE=image/jpeg:https://ramayogainstitute.com/wp-content/uploads/2024/02/Anneka-scaled.jpg
END:VEVENT
BEGIN:VEVENT
DTSTART;TZID=America/Los_Angeles:20240223T110000
DTEND;TZID=America/Los_Angeles:20240223T120000
DTSTAMP:20260425T061310
CREATED:20240214T182904Z
LAST-MODIFIED:20240214T182904Z
UID:1895520-1708686000-1708689600@ramayogainstitute.com
SUMMARY:Kundalini Yoga & Meditation with Anneka
DESCRIPTION:TUNE IN\nAnneka is a Kundalini Yoga practitioner\, teacher\, and helps run the women’s program at RA MA. She is passionate about bringing the mystical and magical into the day-to-day so that everyone can experience the bliss of living an extraordinary life.
URL:https://ramayogainstitute.com/event/kundalini-yoga-meditation-with-anneka-11/
LOCATION:Online
CATEGORIES:In Person,RA MA TV Live
ATTACH;FMTTYPE=image/jpeg:https://ramayogainstitute.com/wp-content/uploads/2023/12/Anneka-Thumbnail.jpg
END:VEVENT
BEGIN:VEVENT
DTSTART;TZID=America/Los_Angeles:20240216T110000
DTEND;TZID=America/Los_Angeles:20240216T120000
DTSTAMP:20260425T061310
CREATED:20240205T185429Z
LAST-MODIFIED:20240205T185429Z
UID:1893160-1708081200-1708084800@ramayogainstitute.com
SUMMARY:Kundalini Yoga & Meditation with Anneka
DESCRIPTION:TUNE IN\nAnneka is a Kundalini Yoga practitioner\, teacher\, and helps run the women’s program at RA MA. She is passionate about bringing the mystical and magical into the day-to-day so that everyone can experience the bliss of living an extraordinary life.
URL:https://ramayogainstitute.com/event/kundalini-yoga-meditation-with-anneka-10/
LOCATION:Online
CATEGORIES:In Person,RA MA TV Live
ATTACH;FMTTYPE=image/jpeg:https://ramayogainstitute.com/wp-content/uploads/2023/12/Anneka-Thumbnail.jpg
END:VEVENT
BEGIN:VEVENT
DTSTART;TZID=America/Los_Angeles:20240212T110000
DTEND;TZID=America/Los_Angeles:20240212T120000
DTSTAMP:20260425T061310
CREATED:20240205T185346Z
LAST-MODIFIED:20240205T185346Z
UID:1893158-1707735600-1707739200@ramayogainstitute.com
SUMMARY:Kundalini Yoga & Meditation with Anneka
DESCRIPTION:TUNE IN\nAnneka is a Kundalini Yoga practitioner\, teacher\, and helps run the women’s program at RA MA. She is passionate about bringing the mystical and magical into the day-to-day so that everyone can experience the bliss of living an extraordinary life.
URL:https://ramayogainstitute.com/event/kundalini-yoga-meditation-with-anneka-9/
LOCATION:Online
CATEGORIES:In Person,RA MA TV Live
ATTACH;FMTTYPE=image/jpeg:https://ramayogainstitute.com/wp-content/uploads/2023/12/Anneka-Thumbnail.jpg
END:VEVENT
BEGIN:VEVENT
DTSTART;TZID=America/Los_Angeles:20240209T110000
DTEND;TZID=America/Los_Angeles:20240209T120000
DTSTAMP:20260425T061310
CREATED:20240201T223312Z
LAST-MODIFIED:20240201T225929Z
UID:1892539-1707476400-1707480000@ramayogainstitute.com
SUMMARY:New Earth Visions| Kundalini Yoga & Meditation with Anneka
DESCRIPTION:TUNE IN\nAnneka is a Kundalini Yoga practitioner\, teacher\, and helps run the women’s program at RA MA. She is passionate about bringing the mystical and magical into the day-to-day so that everyone can experience the bliss of living an extraordinary life.
URL:https://ramayogainstitute.com/event/kundalini-yoga-meditation-with-anneka-7/
LOCATION:Online
CATEGORIES:In Person,RA MA TV Live
ATTACH;FMTTYPE=image/jpeg:https://ramayogainstitute.com/wp-content/uploads/2023/12/Anneka-Thumbnail.jpg
END:VEVENT
BEGIN:VEVENT
DTSTART;TZID=America/Los_Angeles:20240208T190000
DTEND;TZID=America/Los_Angeles:20240208T203000
DTSTAMP:20260425T061310
CREATED:20240203T134013Z
LAST-MODIFIED:20240203T134013Z
UID:1892833-1707418800-1707424200@ramayogainstitute.com
SUMMARY:Kundalini Yoga & Meditation with Anneka
DESCRIPTION:TUNE IN\nAnneka is a Kundalini Yoga practitioner\, teacher\, and helps run the women’s program at RA MA. She is passionate about bringing the mystical and magical into the day-to-day so that everyone can experience the bliss of living an extraordinary life.
URL:https://ramayogainstitute.com/event/kundalini-yoga-meditation-with-anneka-8/
LOCATION:Online
CATEGORIES:In Person,RA MA TV Live
ATTACH;FMTTYPE=image/jpeg:https://ramayogainstitute.com/wp-content/uploads/2023/12/Anneka-Thumbnail.jpg
END:VEVENT
BEGIN:VEVENT
DTSTART;TZID=America/Los_Angeles:20240202T110000
DTEND;TZID=America/Los_Angeles:20240202T120000
DTSTAMP:20260425T061310
CREATED:20240121T190227Z
LAST-MODIFIED:20240121T190227Z
UID:1890767-1706871600-1706875200@ramayogainstitute.com
SUMMARY:Kundalini Yoga & Meditation with Anneka
DESCRIPTION:TUNE IN\nAnneka is a Kundalini Yoga practitioner\, teacher\, and helps run the women’s program at RA MA. She is passionate about bringing the mystical and magical into the day-to-day so that everyone can experience the bliss of living an extraordinary life.
URL:https://ramayogainstitute.com/event/kundalini-yoga-meditation-with-anneka-6/
LOCATION:Online
CATEGORIES:In Person,RA MA TV Live
ATTACH;FMTTYPE=image/jpeg:https://ramayogainstitute.com/wp-content/uploads/2023/12/Anneka-Thumbnail.jpg
END:VEVENT
BEGIN:VEVENT
DTSTART;TZID=America/Los_Angeles:20240131T173000
DTEND;TZID=America/Los_Angeles:20240131T183000
DTSTAMP:20260425T061310
CREATED:20240109T212223Z
LAST-MODIFIED:20240131T212209Z
UID:1887366-1706722200-1706725800@ramayogainstitute.com
SUMMARY:Kundalini Yoga & Meditation with Anneka
DESCRIPTION:TUNE IN \nAnneka is a Kundalini Yoga practitioner\, teacher\, and helps run the women’s program at RA MA. She is passionate about bringing the mystical and magical into the day-to-day so that everyone can experience the bliss of living an extraordinary life.
URL:https://ramayogainstitute.com/event/beam-kundalini-yoga-meditation-with-jen-saltiel-17/
LOCATION:Online
CATEGORIES:In Person,RA MA TV Live
ATTACH;FMTTYPE=image/jpeg:https://ramayogainstitute.com/wp-content/uploads/2023/12/Anneka-Thumbnail.jpg
END:VEVENT
BEGIN:VEVENT
DTSTART;TZID=America/Los_Angeles:20240130T070000
DTEND;TZID=America/Los_Angeles:20240130T080000
DTSTAMP:20260425T061310
CREATED:20240121T183719Z
LAST-MODIFIED:20240129T203743Z
UID:1890747-1706598000-1706601600@ramayogainstitute.com
SUMMARY:AWAKEN| Kundalini Power Hour with Anneka
DESCRIPTION:TUNE IN\nAnneka is a Kundalini Yoga practitioner\, teacher\, and helps run the women’s program at RA MA. She is passionate about bringing the mystical and magical into the day-to-day so that everyone can experience the bliss of living an extraordinary life.
URL:https://ramayogainstitute.com/event/awaken-kundalini-power-hour-with-kim-krans-5/
LOCATION:Online
CATEGORIES:In Person,RA MA TV Live
ATTACH;FMTTYPE=image/jpeg:https://ramayogainstitute.com/wp-content/uploads/2023/12/Anneka-Thumbnail.jpg
END:VEVENT
BEGIN:VEVENT
DTSTART;TZID=America/Los_Angeles:20240126T110000
DTEND;TZID=America/Los_Angeles:20240126T120000
DTSTAMP:20260425T061310
CREATED:20240117T132319Z
LAST-MODIFIED:20240117T132319Z
UID:1889504-1706266800-1706270400@ramayogainstitute.com
SUMMARY:Kundalini Yoga & Meditation with Anneka
DESCRIPTION:TUNE IN\nAnneka is a Kundalini Yoga practitioner\, teacher\, and helps run the women’s program at RA MA. She is passionate about bringing the mystical and magical into the day-to-day so that everyone can experience the bliss of living an extraordinary life.
URL:https://ramayogainstitute.com/event/kundalini-yoga-meditation-with-anneka-5/
LOCATION:Online
CATEGORIES:In Person,RA MA TV Live
ATTACH;FMTTYPE=image/jpeg:https://ramayogainstitute.com/wp-content/uploads/2023/12/Anneka-Thumbnail.jpg
END:VEVENT
BEGIN:VEVENT
DTSTART;TZID=America/Los_Angeles:20240125T070000
DTEND;TZID=America/Los_Angeles:20240125T080000
DTSTAMP:20260425T061310
CREATED:20240109T203955Z
LAST-MODIFIED:20240122T182753Z
UID:1887338-1706166000-1706169600@ramayogainstitute.com
SUMMARY:AWAKEN the Lion's Heart| Kundalini Power Hour with Anneka
DESCRIPTION:TUNE IN\nAnneka is a Kundalini Yoga practitioner\, teacher\, and helps run the women’s program at RA MA. She is passionate about bringing the mystical and magical into the day-to-day so that everyone can experience the bliss of living an extraordinary life.
URL:https://ramayogainstitute.com/event/awaken-kundalini-power-hour-with-kim-krans-3/
LOCATION:Online
CATEGORIES:In Person,RA MA TV Live
ATTACH;FMTTYPE=image/jpeg:https://ramayogainstitute.com/wp-content/uploads/2023/12/Anneka-Thumbnail.jpg
END:VEVENT
BEGIN:VEVENT
DTSTART;TZID=America/Los_Angeles:20240122T190000
DTEND;TZID=America/Los_Angeles:20240122T203000
DTSTAMP:20260425T061310
CREATED:20240117T130839Z
LAST-MODIFIED:20240122T182138Z
UID:1889471-1705950000-1705955400@ramayogainstitute.com
SUMMARY:BEAM| Kundalini Yoga & Meditation with Anneka
DESCRIPTION:TUNE IN \nAnneka is a Kundalini Yoga practitioner\, teacher\, and helps run the women’s program at RA MA. She is passionate about bringing the mystical and magical into the day-to-day so that everyone can experience the bliss of living an extraordinary life.
URL:https://ramayogainstitute.com/event/beam-kundalini-yoga-meditation-with-jen-saltiel-18/
LOCATION:Online
CATEGORIES:In Person,RA MA TV Live
ATTACH;FMTTYPE=image/jpeg:https://ramayogainstitute.com/wp-content/uploads/2023/12/Anneka-Thumbnail.jpg
END:VEVENT
BEGIN:VEVENT
DTSTART;TZID=America/Los_Angeles:20240119T110000
DTEND;TZID=America/Los_Angeles:20240119T120000
DTSTAMP:20260425T061310
CREATED:20240109T210327Z
LAST-MODIFIED:20240109T210410Z
UID:1887343-1705662000-1705665600@ramayogainstitute.com
SUMMARY:Kundalini Yoga & Meditation with Anneka
DESCRIPTION:TUNE IN\nAnneka is a Kundalini Yoga practitioner\, teacher\, and helps run the women’s program at RA MA. She is passionate about bringing the mystical and magical into the day-to-day so that everyone can experience the bliss of living an extraordinary life.
URL:https://ramayogainstitute.com/event/kundalini-yoga-meditation-with-anneka-4/
LOCATION:Online
CATEGORIES:In Person,RA MA TV Live
ATTACH;FMTTYPE=image/jpeg:https://ramayogainstitute.com/wp-content/uploads/2023/12/Anneka-Thumbnail.jpg
END:VEVENT
BEGIN:VEVENT
DTSTART;TZID=America/Los_Angeles:20240117T090000
DTEND;TZID=America/Los_Angeles:20240117T103000
DTSTAMP:20260425T061310
CREATED:20230708T001408Z
LAST-MODIFIED:20240116T213330Z
UID:1819366-1705482000-1705487400@ramayogainstitute.com
SUMMARY:Kundalini Yoga & Meditation with Anneka
DESCRIPTION:TUNE IN LIVE OR IN PERSON\nAnneka is a Kundalini Yoga practitioner\, teacher\, and helps run the women’s program at RA MA. She is passionate about bringing the mystical and magical into the day-to-day so that everyone can experience the bliss of living an extraordinary life.
URL:https://ramayogainstitute.com/event/kundalini-yoga-meditation-with-mandev-11-2023-09-13-2024-01-17/
LOCATION:Online
CATEGORIES:In Person,RA MA TV Live
ATTACH;FMTTYPE=image/jpeg:https://ramayogainstitute.com/wp-content/uploads/2023/12/Anneka-Thumbnail.jpg
END:VEVENT
BEGIN:VEVENT
DTSTART;TZID=America/Los_Angeles:20240112T110000
DTEND;TZID=America/Los_Angeles:20240112T120000
DTSTAMP:20260425T061310
CREATED:20240104T203731Z
LAST-MODIFIED:20240104T203812Z
UID:1885714-1705057200-1705060800@ramayogainstitute.com
SUMMARY:Kundalini Yoga & Meditation with Anneka
DESCRIPTION:TUNE IN\nAnneka is a Kundalini Yoga practitioner\, teacher\, and helps run the women’s program at RA MA. She is passionate about bringing the mystical and magical into the day-to-day so that everyone can experience the bliss of living an extraordinary life. \n 
URL:https://ramayogainstitute.com/event/kundalini-yoga-meditation-with-anneka-3/2024-01-12/
LOCATION:Online
CATEGORIES:In Person,RA MA TV Live
ATTACH;FMTTYPE=image/jpeg:https://ramayogainstitute.com/wp-content/uploads/2023/12/Anneka-Thumbnail.jpg
END:VEVENT
BEGIN:VEVENT
DTSTART;TZID=America/Los_Angeles:20240110T090000
DTEND;TZID=America/Los_Angeles:20240110T103000
DTSTAMP:20260425T061310
CREATED:20230708T001408Z
LAST-MODIFIED:20240110T095308Z
UID:1819361-1704877200-1704882600@ramayogainstitute.com
SUMMARY:Kundalini Yoga & Meditation with Anneka
DESCRIPTION:TUNE IN LIVE OR IN PERSON\nAnneka is a Kundalini Yoga practitioner\, teacher\, and helps run the women’s program at RA MA. She is passionate about bringing the mystical and magical into the day-to-day so that everyone can experience the bliss of living an extraordinary life.
URL:https://ramayogainstitute.com/event/kundalini-yoga-meditation-with-mandev-11-2023-09-13-2024-01-10/
LOCATION:Online
CATEGORIES:In Person,RA MA TV Live
ATTACH;FMTTYPE=image/jpeg:https://ramayogainstitute.com/wp-content/uploads/2023/12/Anneka-Thumbnail.jpg
END:VEVENT
BEGIN:VEVENT
DTSTART;TZID=America/Los_Angeles:20231222T110000
DTEND;TZID=America/Los_Angeles:20231222T120000
DTSTAMP:20260425T061310
CREATED:20231213T200846Z
LAST-MODIFIED:20231213T200846Z
UID:1879968-1703242800-1703246400@ramayogainstitute.com
SUMMARY:Kundalini Yoga & Meditation with Anneka
DESCRIPTION:TUNE IN\nAnneka is a Kundalini Yoga practitioner\, teacher\, and helps run the women’s program at RA MA. \nShe is passionate about bringing the mystical and magical into the day-to-day so \nthat everyone can experience the bliss of living an extraordinary life.
URL:https://ramayogainstitute.com/event/kundalini-yoga-meditation-with-anneka/
LOCATION:Online
CATEGORIES:In Person,RA MA TV Live
ATTACH;FMTTYPE=image/jpeg:https://ramayogainstitute.com/wp-content/uploads/2023/03/KundaliniYoga_Anneka_Header.jpg
END:VEVENT
BEGIN:VEVENT
DTSTART;TZID=America/Los_Angeles:20231220T110000
DTEND;TZID=America/Los_Angeles:20231220T120000
DTSTAMP:20260425T061310
CREATED:20230406T222604Z
LAST-MODIFIED:20231217T203539Z
UID:1856586-1703070000-1703073600@ramayogainstitute.com
SUMMARY:Kundalini Yoga & Meditation with Anneka
DESCRIPTION:TUNE IN\nAnneka is a Kundalini Yoga practitioner\, teacher\, and helps run the women’s program at RA MA. \nShe is passionate about bringing the mystical and magical into the day-to-day so that everyone can experience the bliss of living an extraordinary life.
URL:https://ramayogainstitute.com/event/energy-with-marta-ulbricht-2-2023-12-20/
LOCATION:Online
CATEGORIES:In Person,RA MA TV Live
ATTACH;FMTTYPE=image/jpeg:https://ramayogainstitute.com/wp-content/uploads/2023/03/KundaliniYoga_Anneka_Header.jpg
END:VEVENT
BEGIN:VEVENT
DTSTART;TZID=America/Los_Angeles:20231215T110000
DTEND;TZID=America/Los_Angeles:20231215T120000
DTSTAMP:20260425T061310
CREATED:20221113T055233Z
LAST-MODIFIED:20231213T175758Z
UID:1751123-1702638000-1702641600@ramayogainstitute.com
SUMMARY:Kundalini Yoga and Meditation with Anneka
DESCRIPTION:TUNE IN\nAnneka is a Kundalini Yoga practitioner\, teacher\, and helps run the women’s program at RA MA. She is passionate about bringing the mystical and magical into the day-to-day so that everyone can experience the bliss of living an extraordinary life. \n 
URL:https://ramayogainstitute.com/event/waheguru-your-weekend/2023-12-15/
LOCATION:Online
CATEGORIES:In Person,RA MA TV Live
ATTACH;FMTTYPE=image/jpeg:https://ramayogainstitute.com/wp-content/uploads/2023/03/KundaliniYoga_Anneka_Header.jpg
END:VEVENT
BEGIN:VEVENT
DTSTART;TZID=America/Los_Angeles:20231129T173000
DTEND;TZID=America/Los_Angeles:20231129T184500
DTSTAMP:20260425T061310
CREATED:20231122T195141Z
LAST-MODIFIED:20231122T195823Z
UID:1872967-1701279000-1701283500@ramayogainstitute.com
SUMMARY:Kundalini Yoga & Meditation with Anneka
DESCRIPTION:TUNE IN\nAnneka is a Kundalini Yoga practitioner\, teacher\, and helps run the women’s program at RA MA. She is passionate about bringing the mystical and magical into the day-to-day so that everyone can experience the bliss of living an extraordinary life.
URL:https://ramayogainstitute.com/event/beam-kundalini-yoga-meditation-with-jen-saltiel-8/
LOCATION:Online
CATEGORIES:In Person,RA MA TV Live
ATTACH;FMTTYPE=image/jpeg:https://ramayogainstitute.com/wp-content/uploads/2023/03/KundaliniYoga_Anneka_Header.jpg
END:VEVENT
END:VCALENDAR