BEGIN:VCALENDAR
VERSION:2.0
PRODID:-//RA MA LIFE - ECPv6.15.15//NONSGML v1.0//EN
CALSCALE:GREGORIAN
METHOD:PUBLISH
X-ORIGINAL-URL:https://ramayogainstitute.com
X-WR-CALDESC:Events for RA MA LIFE
REFRESH-INTERVAL;VALUE=DURATION:PT1H
X-Robots-Tag:noindex
X-PUBLISHED-TTL:PT1H
BEGIN:VTIMEZONE
TZID:America/Los_Angeles
BEGIN:DAYLIGHT
TZOFFSETFROM:-0800
TZOFFSETTO:-0700
TZNAME:PDT
DTSTART:20230312T100000
END:DAYLIGHT
BEGIN:STANDARD
TZOFFSETFROM:-0700
TZOFFSETTO:-0800
TZNAME:PST
DTSTART:20231105T090000
END:STANDARD
BEGIN:DAYLIGHT
TZOFFSETFROM:-0800
TZOFFSETTO:-0700
TZNAME:PDT
DTSTART:20240310T100000
END:DAYLIGHT
BEGIN:STANDARD
TZOFFSETFROM:-0700
TZOFFSETTO:-0800
TZNAME:PST
DTSTART:20241103T090000
END:STANDARD
BEGIN:DAYLIGHT
TZOFFSETFROM:-0800
TZOFFSETTO:-0700
TZNAME:PDT
DTSTART:20250309T100000
END:DAYLIGHT
BEGIN:STANDARD
TZOFFSETFROM:-0700
TZOFFSETTO:-0800
TZNAME:PST
DTSTART:20251102T090000
END:STANDARD
END:VTIMEZONE
BEGIN:VEVENT
DTSTART;TZID=America/Los_Angeles:20241009T110000
DTEND;TZID=America/Los_Angeles:20241009T120000
DTSTAMP:20260424T183907
CREATED:20241002T020611Z
LAST-MODIFIED:20241002T020611Z
UID:1951979-1728471600-1728475200@ramayogainstitute.com
SUMMARY:Kundalini Yoga & Meditation with Anneka
DESCRIPTION:TUNE IN\n 
URL:https://ramayogainstitute.com/event/kundalini-yoga-meditation-with-anneka-55/
LOCATION:Online
CATEGORIES:In Person,RA MA TV Live
ATTACH;FMTTYPE=image/jpeg:https://ramayogainstitute.com/wp-content/uploads/2024/02/Anneka-AWLS-horiz-scaled.jpg
END:VEVENT
BEGIN:VEVENT
DTSTART;TZID=America/Los_Angeles:20241004T110000
DTEND;TZID=America/Los_Angeles:20241004T120000
DTSTAMP:20260424T183907
CREATED:20240910T004453Z
LAST-MODIFIED:20240924T223528Z
UID:1948674-1728039600-1728043200@ramayogainstitute.com
SUMMARY:Kundalini Yoga & Meditation with Anneka
DESCRIPTION:TUNE IN\n 
URL:https://ramayogainstitute.com/event/kundalini-yoga-meditation-with-anneka-52-2024-10-04/
LOCATION:Online
CATEGORIES:In Person,RA MA TV Live
ATTACH;FMTTYPE=image/jpeg:https://ramayogainstitute.com/wp-content/uploads/2024/02/Anneka-AWLS-horiz-scaled.jpg
END:VEVENT
BEGIN:VEVENT
DTSTART;TZID=America/Los_Angeles:20241002T110000
DTEND;TZID=America/Los_Angeles:20241002T120000
DTSTAMP:20260424T183907
CREATED:20240910T004530Z
LAST-MODIFIED:20240926T024733Z
UID:1948649-1727866800-1727870400@ramayogainstitute.com
SUMMARY:Divine Harmonics | Kundalini Yoga & Meditation with Anneka
DESCRIPTION:TUNE IN\nAnneka is a Kundalini Yoga practitioner\, teacher\, and helps run the women’s program at RA MA. She is passionate about bringing the mystical and magical into the day-to-day so that everyone can experience the bliss of living an extraordinary life.
URL:https://ramayogainstitute.com/event/kundalini-yoga-meditation-with-anneka-53-2024-10-02/
LOCATION:Online
CATEGORIES:In Person,RA MA TV Live
ATTACH;FMTTYPE=image/jpeg:https://ramayogainstitute.com/wp-content/uploads/2024/02/Anneka-Thumbnail.jpg
END:VEVENT
BEGIN:VEVENT
DTSTART;TZID=America/Los_Angeles:20240930T110000
DTEND;TZID=America/Los_Angeles:20240930T121500
DTSTAMP:20260424T183907
CREATED:20240926T161455Z
LAST-MODIFIED:20240926T161455Z
UID:1951054-1727694000-1727698500@ramayogainstitute.com
SUMMARY:Kundalini Yoga & Meditation with Anneka
DESCRIPTION:TUNE IN\n 
URL:https://ramayogainstitute.com/event/kundalini-yoga-meditation-with-anneka-54/
LOCATION:Online
CATEGORIES:In Person,RA MA TV Live
ATTACH;FMTTYPE=image/jpeg:https://ramayogainstitute.com/wp-content/uploads/2024/02/Anneka-AWLS-horiz-scaled.jpg
END:VEVENT
BEGIN:VEVENT
DTSTART;TZID=America/Los_Angeles:20240920T110000
DTEND;TZID=America/Los_Angeles:20240920T120000
DTSTAMP:20260424T183907
CREATED:20240910T004352Z
LAST-MODIFIED:20240910T004352Z
UID:1945768-1726830000-1726833600@ramayogainstitute.com
SUMMARY:Kundalini Yoga & Meditation with Anneka
DESCRIPTION:TUNE IN\nAnneka is a Kundalini Yoga practitioner\, teacher\, and helps run the women’s program at RA MA. She is passionate about bringing the mystical and magical into the day-to-day so that everyone can experience the bliss of living an extraordinary life.
URL:https://ramayogainstitute.com/event/kundalini-yoga-meditation-with-anneka-51/
LOCATION:Online
CATEGORIES:In Person,RA MA TV Live
ATTACH;FMTTYPE=image/jpeg:https://ramayogainstitute.com/wp-content/uploads/2023/12/Anneka-Thumbnail.jpg
END:VEVENT
BEGIN:VEVENT
DTSTART;TZID=America/Los_Angeles:20240918T110000
DTEND;TZID=America/Los_Angeles:20240918T120000
DTSTAMP:20260424T183907
CREATED:20240910T004242Z
LAST-MODIFIED:20240910T004242Z
UID:1945763-1726657200-1726660800@ramayogainstitute.com
SUMMARY:Kundalini Yoga & Meditation with Anneka
DESCRIPTION:TUNE IN\nAnneka is a Kundalini Yoga practitioner\, teacher\, and helps run the women’s program at RA MA. She is passionate about bringing the mystical and magical into the day-to-day so that everyone can experience the bliss of living an extraordinary life.
URL:https://ramayogainstitute.com/event/kundalini-yoga-meditation-with-anneka-50/
LOCATION:Online
CATEGORIES:In Person,RA MA TV Live
ATTACH;FMTTYPE=image/jpeg:https://ramayogainstitute.com/wp-content/uploads/2023/12/Anneka-Thumbnail.jpg
END:VEVENT
BEGIN:VEVENT
DTSTART;TZID=America/Los_Angeles:20240913T110000
DTEND;TZID=America/Los_Angeles:20240913T120000
DTSTAMP:20260424T183907
CREATED:20240826T174927Z
LAST-MODIFIED:20240826T174927Z
UID:1943372-1726225200-1726228800@ramayogainstitute.com
SUMMARY:Kundalini Yoga & Meditation with Anneka
DESCRIPTION:TUNE IN\nAnneka is a Kundalini Yoga practitioner\, teacher\, and helps run the women’s program at RA MA. She is passionate about bringing the mystical and magical into the day-to-day so that everyone can experience the bliss of living an extraordinary life.
URL:https://ramayogainstitute.com/event/kundalini-yoga-meditation-with-anneka-47/
LOCATION:Online
CATEGORIES:In Person,RA MA TV Live
ATTACH;FMTTYPE=image/jpeg:https://ramayogainstitute.com/wp-content/uploads/2023/12/Anneka-Thumbnail.jpg
END:VEVENT
BEGIN:VEVENT
DTSTART;TZID=America/Los_Angeles:20240911T110000
DTEND;TZID=America/Los_Angeles:20240911T120000
DTSTAMP:20260424T183907
CREATED:20240826T182240Z
LAST-MODIFIED:20240826T182240Z
UID:1943408-1726052400-1726056000@ramayogainstitute.com
SUMMARY:Kundalini Yoga & Meditation with Anneka
DESCRIPTION:TUNE IN\nAnneka is a Kundalini Yoga practitioner\, teacher\, and helps run the women’s program at RA MA. She is passionate about bringing the mystical and magical into the day-to-day so that everyone can experience the bliss of living an extraordinary life.
URL:https://ramayogainstitute.com/event/kundalini-yoga-meditation-with-anneka-48/
LOCATION:Online
CATEGORIES:In Person,RA MA TV Live
ATTACH;FMTTYPE=image/jpeg:https://ramayogainstitute.com/wp-content/uploads/2023/12/Anneka-Thumbnail.jpg
END:VEVENT
BEGIN:VEVENT
DTSTART;TZID=America/Los_Angeles:20240909T190000
DTEND;TZID=America/Los_Angeles:20240909T203000
DTSTAMP:20260424T183907
CREATED:20240907T180037Z
LAST-MODIFIED:20240907T181825Z
UID:1945451-1725908400-1725913800@ramayogainstitute.com
SUMMARY:Kundalini Yoga & Meditation with Anneka
DESCRIPTION:TUNE IN\nAnneka is a Kundalini Yoga practitioner\, teacher\, and helps run the women’s program at RA MA. She is passionate about bringing the mystical and magical into the day-to-day so that everyone can experience the bliss of living an extraordinary life.
URL:https://ramayogainstitute.com/event/kundalini-yoga-meditation-with-anneka-49/
LOCATION:Online
CATEGORIES:In Person,RA MA TV Live
ATTACH;FMTTYPE=image/jpeg:https://ramayogainstitute.com/wp-content/uploads/2023/12/Anneka-Thumbnail.jpg
END:VEVENT
BEGIN:VEVENT
DTSTART;TZID=America/Los_Angeles:20240906T110000
DTEND;TZID=America/Los_Angeles:20240906T120000
DTSTAMP:20260424T183907
CREATED:20240826T174818Z
LAST-MODIFIED:20240826T174818Z
UID:1943366-1725620400-1725624000@ramayogainstitute.com
SUMMARY:Kundalini Yoga & Meditation with Anneka
DESCRIPTION:TUNE IN\nAnneka is a Kundalini Yoga practitioner\, teacher\, and helps run the women’s program at RA MA. She is passionate about bringing the mystical and magical into the day-to-day so that everyone can experience the bliss of living an extraordinary life.
URL:https://ramayogainstitute.com/event/kundalini-yoga-meditation-with-anneka-46/
LOCATION:Online
CATEGORIES:In Person,RA MA TV Live
ATTACH;FMTTYPE=image/jpeg:https://ramayogainstitute.com/wp-content/uploads/2023/12/Anneka-Thumbnail.jpg
END:VEVENT
BEGIN:VEVENT
DTSTART;TZID=America/Los_Angeles:20240904T110000
DTEND;TZID=America/Los_Angeles:20240904T120000
DTSTAMP:20260424T183907
CREATED:20240826T174443Z
LAST-MODIFIED:20240826T174443Z
UID:1943362-1725447600-1725451200@ramayogainstitute.com
SUMMARY:Kundalini Yoga & Meditation with Anneka
DESCRIPTION:TUNE IN\nAnneka is a Kundalini Yoga practitioner\, teacher\, and helps run the women’s program at RA MA. She is passionate about bringing the mystical and magical into the day-to-day so that everyone can experience the bliss of living an extraordinary life.
URL:https://ramayogainstitute.com/event/kundalini-yoga-meditation-with-anneka-45/
LOCATION:Online
CATEGORIES:In Person,RA MA TV Live
ATTACH;FMTTYPE=image/jpeg:https://ramayogainstitute.com/wp-content/uploads/2023/12/Anneka-Thumbnail.jpg
END:VEVENT
BEGIN:VEVENT
DTSTART;TZID=America/Los_Angeles:20240830T110000
DTEND;TZID=America/Los_Angeles:20240830T120000
DTSTAMP:20260424T183907
CREATED:20240812T223052Z
LAST-MODIFIED:20240812T223052Z
UID:1940907-1725015600-1725019200@ramayogainstitute.com
SUMMARY:Kundalini Yoga & Meditation with Anneka
DESCRIPTION:TUNE IN\nAnneka is a Kundalini Yoga practitioner\, teacher\, and helps run the women’s program at RA MA. She is passionate about bringing the mystical and magical into the day-to-day so that everyone can experience the bliss of living an extraordinary life.
URL:https://ramayogainstitute.com/event/kundalini-yoga-meditation-with-anneka-43/
LOCATION:Online
CATEGORIES:In Person,RA MA TV Live
ATTACH;FMTTYPE=image/jpeg:https://ramayogainstitute.com/wp-content/uploads/2023/12/Anneka-Thumbnail.jpg
END:VEVENT
BEGIN:VEVENT
DTSTART;TZID=America/Los_Angeles:20240828T110000
DTEND;TZID=America/Los_Angeles:20240828T120000
DTSTAMP:20260424T183907
CREATED:20240812T222944Z
LAST-MODIFIED:20240812T222944Z
UID:1940899-1724842800-1724846400@ramayogainstitute.com
SUMMARY:Kundalini Yoga & Meditation with Anneka
DESCRIPTION:TUNE IN\nAnneka is a Kundalini Yoga practitioner\, teacher\, and helps run the women’s program at RA MA. She is passionate about bringing the mystical and magical into the day-to-day so that everyone can experience the bliss of living an extraordinary life.
URL:https://ramayogainstitute.com/event/kundalini-yoga-meditation-with-anneka-42/
LOCATION:Online
CATEGORIES:In Person,RA MA TV Live
ATTACH;FMTTYPE=image/jpeg:https://ramayogainstitute.com/wp-content/uploads/2023/12/Anneka-Thumbnail.jpg
END:VEVENT
BEGIN:VEVENT
DTSTART;TZID=America/Los_Angeles:20240823T110000
DTEND;TZID=America/Los_Angeles:20240823T120000
DTSTAMP:20260424T183907
CREATED:20240812T223220Z
LAST-MODIFIED:20240812T223220Z
UID:1940911-1724410800-1724414400@ramayogainstitute.com
SUMMARY:Kundalini Yoga & Meditation with Anneka
DESCRIPTION:TUNE IN\nAnneka is a Kundalini Yoga practitioner\, teacher\, and helps run the women’s program at RA MA. She is passionate about bringing the mystical and magical into the day-to-day so that everyone can experience the bliss of living an extraordinary life.
URL:https://ramayogainstitute.com/event/kundalini-yoga-meditation-with-anneka-44/
LOCATION:Online
CATEGORIES:In Person,RA MA TV Live
ATTACH;FMTTYPE=image/jpeg:https://ramayogainstitute.com/wp-content/uploads/2023/12/Anneka-Thumbnail.jpg
END:VEVENT
BEGIN:VEVENT
DTSTART;TZID=America/Los_Angeles:20240821T110000
DTEND;TZID=America/Los_Angeles:20240821T120000
DTSTAMP:20260424T183907
CREATED:20240812T222755Z
LAST-MODIFIED:20240812T222755Z
UID:1940890-1724238000-1724241600@ramayogainstitute.com
SUMMARY:Kundalini Yoga & Meditation with Anneka
DESCRIPTION:TUNE IN\nAnneka is a Kundalini Yoga practitioner\, teacher\, and helps run the women’s program at RA MA. She is passionate about bringing the mystical and magical into the day-to-day so that everyone can experience the bliss of living an extraordinary life.
URL:https://ramayogainstitute.com/event/kundalini-yoga-meditation-with-anneka-36/
LOCATION:Online
CATEGORIES:In Person,RA MA TV Live
ATTACH;FMTTYPE=image/jpeg:https://ramayogainstitute.com/wp-content/uploads/2023/12/Anneka-Thumbnail.jpg
END:VEVENT
BEGIN:VEVENT
DTSTART;TZID=America/Los_Angeles:20240816T110000
DTEND;TZID=America/Los_Angeles:20240816T120000
DTSTAMP:20260424T183907
CREATED:20240729T170837Z
LAST-MODIFIED:20240729T170837Z
UID:1938017-1723806000-1723809600@ramayogainstitute.com
SUMMARY:Kundalini Yoga & Meditation with Anneka
DESCRIPTION:TUNE IN\nAnneka is a Kundalini Yoga practitioner\, teacher\, and helps run the women’s program at RA MA. She is passionate about bringing the mystical and magical into the day-to-day so that everyone can experience the bliss of living an extraordinary life.
URL:https://ramayogainstitute.com/event/kundalini-yoga-meditation-with-anneka-41/
LOCATION:Online
CATEGORIES:In Person,RA MA TV Live
ATTACH;FMTTYPE=image/jpeg:https://ramayogainstitute.com/wp-content/uploads/2023/12/Anneka-Thumbnail.jpg
END:VEVENT
BEGIN:VEVENT
DTSTART;TZID=America/Los_Angeles:20240814T110000
DTEND;TZID=America/Los_Angeles:20240814T120000
DTSTAMP:20260424T183907
CREATED:20240729T170809Z
LAST-MODIFIED:20240729T170809Z
UID:1938014-1723633200-1723636800@ramayogainstitute.com
SUMMARY:Kundalini Yoga & Meditation with Anneka
DESCRIPTION:TUNE IN\nAnneka is a Kundalini Yoga practitioner\, teacher\, and helps run the women’s program at RA MA. She is passionate about bringing the mystical and magical into the day-to-day so that everyone can experience the bliss of living an extraordinary life.
URL:https://ramayogainstitute.com/event/kundalini-yoga-meditation-with-anneka-40/
LOCATION:Online
CATEGORIES:In Person,RA MA TV Live
ATTACH;FMTTYPE=image/jpeg:https://ramayogainstitute.com/wp-content/uploads/2023/12/Anneka-Thumbnail.jpg
END:VEVENT
BEGIN:VEVENT
DTSTART;TZID=America/Los_Angeles:20240809T110000
DTEND;TZID=America/Los_Angeles:20240809T120000
DTSTAMP:20260424T183907
CREATED:20240729T170725Z
LAST-MODIFIED:20240729T170725Z
UID:1938011-1723201200-1723204800@ramayogainstitute.com
SUMMARY:Kundalini Yoga & Meditation with Anneka
DESCRIPTION:TUNE IN\nAnneka is a Kundalini Yoga practitioner\, teacher\, and helps run the women’s program at RA MA. She is passionate about bringing the mystical and magical into the day-to-day so that everyone can experience the bliss of living an extraordinary life.
URL:https://ramayogainstitute.com/event/kundalini-yoga-meditation-with-anneka-39/
LOCATION:Online
CATEGORIES:In Person,RA MA TV Live
ATTACH;FMTTYPE=image/jpeg:https://ramayogainstitute.com/wp-content/uploads/2023/12/Anneka-Thumbnail.jpg
END:VEVENT
BEGIN:VEVENT
DTSTART;TZID=America/Los_Angeles:20240807T110000
DTEND;TZID=America/Los_Angeles:20240807T120000
DTSTAMP:20260424T183907
CREATED:20240729T170528Z
LAST-MODIFIED:20240729T170528Z
UID:1937999-1723028400-1723032000@ramayogainstitute.com
SUMMARY:Kundalini Yoga & Meditation with Anneka
DESCRIPTION:TUNE IN\nAnneka is a Kundalini Yoga practitioner\, teacher\, and helps run the women’s program at RA MA. She is passionate about bringing the mystical and magical into the day-to-day so that everyone can experience the bliss of living an extraordinary life.
URL:https://ramayogainstitute.com/event/kundalini-yoga-meditation-with-anneka-38/
LOCATION:Online
CATEGORIES:In Person,RA MA TV Live
ATTACH;FMTTYPE=image/jpeg:https://ramayogainstitute.com/wp-content/uploads/2023/12/Anneka-Thumbnail.jpg
END:VEVENT
BEGIN:VEVENT
DTSTART;TZID=America/Los_Angeles:20240802T110000
DTEND;TZID=America/Los_Angeles:20240802T120000
DTSTAMP:20260424T183907
CREATED:20240729T165315Z
LAST-MODIFIED:20240729T165315Z
UID:1937990-1722596400-1722600000@ramayogainstitute.com
SUMMARY:Kundalini Yoga & Meditation with Anneka
DESCRIPTION:TUNE IN\nAnneka is a Kundalini Yoga practitioner\, teacher\, and helps run the women’s program at RA MA. She is passionate about bringing the mystical and magical into the day-to-day so that everyone can experience the bliss of living an extraordinary life.
URL:https://ramayogainstitute.com/event/kundalini-yoga-meditation-with-anneka-37/
LOCATION:Online
CATEGORIES:In Person,RA MA TV Live
ATTACH;FMTTYPE=image/jpeg:https://ramayogainstitute.com/wp-content/uploads/2023/12/Anneka-Thumbnail.jpg
END:VEVENT
BEGIN:VEVENT
DTSTART;TZID=America/Los_Angeles:20240706T090000
DTEND;TZID=America/Los_Angeles:20240706T103000
DTSTAMP:20260424T183907
CREATED:20240705T050753Z
LAST-MODIFIED:20240706T042855Z
UID:1932481-1720256400-1720261800@ramayogainstitute.com
SUMMARY:Kundalini Yoga & Meditation with Anneka
DESCRIPTION:TUNE IN\nAnneka is a Kundalini Yoga practitioner\, teacher\, and helps run the women’s program at RA MA. She is passionate about bringing the mystical and magical into the day-to-day so that everyone can experience the bliss of living an extraordinary life.
URL:https://ramayogainstitute.com/event/kundalini-yoga-meditation-with-anneka-34/
LOCATION:Online
CATEGORIES:In Person,RA MA TV Live
ATTACH;FMTTYPE=image/jpeg:https://ramayogainstitute.com/wp-content/uploads/2023/12/Anneka-Thumbnail.jpg
END:VEVENT
BEGIN:VEVENT
DTSTART;TZID=America/Los_Angeles:20240705T110000
DTEND;TZID=America/Los_Angeles:20240705T120000
DTSTAMP:20260424T183907
CREATED:20240626T190312Z
LAST-MODIFIED:20240626T190312Z
UID:1931058-1720177200-1720180800@ramayogainstitute.com
SUMMARY:Water Wisdom| Kundalini Yoga & Meditation with Anneka
DESCRIPTION:TUNE IN\nAnneka is a Kundalini Yoga practitioner\, teacher\, and helps run the women’s program at RA MA. She is passionate about bringing the mystical and magical into the day-to-day so that everyone can experience the bliss of living an extraordinary life.
URL:https://ramayogainstitute.com/event/water-wisdom-kundalini-yoga-meditation-with-anneka/
LOCATION:Online
CATEGORIES:In Person,RA MA TV Live
ATTACH;FMTTYPE=image/jpeg:https://ramayogainstitute.com/wp-content/uploads/2023/12/Anneka-Thumbnail.jpg
END:VEVENT
BEGIN:VEVENT
DTSTART;TZID=America/Los_Angeles:20240621T110000
DTEND;TZID=America/Los_Angeles:20240621T120000
DTSTAMP:20260424T183907
CREATED:20240608T165654Z
LAST-MODIFIED:20240615T165425Z
UID:1927394-1718967600-1718971200@ramayogainstitute.com
SUMMARY:Cosmic Synchronization| Kundalini Yoga & Meditation with Anneka
DESCRIPTION:TUNE IN\nAnneka is a Kundalini Yoga practitioner\, teacher\, and helps run the women’s program at RA MA. She is passionate about bringing the mystical and magical into the day-to-day so that everyone can experience the bliss of living an extraordinary life.
URL:https://ramayogainstitute.com/event/kundalini-yoga-meditation-with-anneka-32/
LOCATION:Online
CATEGORIES:In Person,RA MA TV Live
ATTACH;FMTTYPE=image/jpeg:https://ramayogainstitute.com/wp-content/uploads/2023/12/Anneka-Thumbnail.jpg
END:VEVENT
BEGIN:VEVENT
DTSTART;TZID=America/Los_Angeles:20240614T110000
DTEND;TZID=America/Los_Angeles:20240614T120000
DTSTAMP:20260424T183907
CREATED:20240530T023121Z
LAST-MODIFIED:20240530T023121Z
UID:1924497-1718362800-1718366400@ramayogainstitute.com
SUMMARY:Kundalini Yoga & Meditation with Anneka
DESCRIPTION:TUNE IN\nAnneka is a Kundalini Yoga practitioner\, teacher\, and helps run the women’s program at RA MA. She is passionate about bringing the mystical and magical into the day-to-day so that everyone can experience the bliss of living an extraordinary life.
URL:https://ramayogainstitute.com/event/kundalini-yoga-meditation-with-anneka-31/
LOCATION:Online
CATEGORIES:In Person,RA MA TV Live
ATTACH;FMTTYPE=image/jpeg:https://ramayogainstitute.com/wp-content/uploads/2023/12/Anneka-Thumbnail.jpg
END:VEVENT
BEGIN:VEVENT
DTSTART;TZID=America/Los_Angeles:20240531T110000
DTEND;TZID=America/Los_Angeles:20240531T120000
DTSTAMP:20260424T183907
CREATED:20240426T192422Z
LAST-MODIFIED:20240426T192422Z
UID:1916322-1717153200-1717156800@ramayogainstitute.com
SUMMARY:Kundalini Yoga & Meditation with Anneka
DESCRIPTION:TUNE IN\nAnneka is a Kundalini Yoga practitioner\, teacher\, and helps run the women’s program at RA MA. She is passionate about bringing the mystical and magical into the day-to-day so that everyone can experience the bliss of living an extraordinary life.
URL:https://ramayogainstitute.com/event/kundalini-yoga-meditation-with-anneka-28/
LOCATION:Online
CATEGORIES:In Person,RA MA TV Live
ATTACH;FMTTYPE=image/jpeg:https://ramayogainstitute.com/wp-content/uploads/2023/12/Anneka-Thumbnail.jpg
END:VEVENT
BEGIN:VEVENT
DTSTART;TZID=America/Los_Angeles:20240524T110000
DTEND;TZID=America/Los_Angeles:20240524T120000
DTSTAMP:20260424T183907
CREATED:20240426T192343Z
LAST-MODIFIED:20240426T192343Z
UID:1916320-1716548400-1716552000@ramayogainstitute.com
SUMMARY:Kundalini Yoga & Meditation with Anneka
DESCRIPTION:TUNE IN\nAnneka is a Kundalini Yoga practitioner\, teacher\, and helps run the women’s program at RA MA. She is passionate about bringing the mystical and magical into the day-to-day so that everyone can experience the bliss of living an extraordinary life.
URL:https://ramayogainstitute.com/event/kundalini-yoga-meditation-with-anneka-27/
LOCATION:Online
CATEGORIES:In Person,RA MA TV Live
ATTACH;FMTTYPE=image/jpeg:https://ramayogainstitute.com/wp-content/uploads/2023/12/Anneka-Thumbnail.jpg
END:VEVENT
BEGIN:VEVENT
DTSTART;TZID=America/Los_Angeles:20240517T110000
DTEND;TZID=America/Los_Angeles:20240517T120000
DTSTAMP:20260424T183907
CREATED:20240426T192246Z
LAST-MODIFIED:20240426T192246Z
UID:1916318-1715943600-1715947200@ramayogainstitute.com
SUMMARY:Kundalini Yoga & Meditation with Anneka
DESCRIPTION:TUNE IN\nAnneka is a Kundalini Yoga practitioner\, teacher\, and helps run the women’s program at RA MA. She is passionate about bringing the mystical and magical into the day-to-day so that everyone can experience the bliss of living an extraordinary life.
URL:https://ramayogainstitute.com/event/kundalini-yoga-meditation-with-anneka-26/
LOCATION:Online
CATEGORIES:In Person,RA MA TV Live
ATTACH;FMTTYPE=image/jpeg:https://ramayogainstitute.com/wp-content/uploads/2023/12/Anneka-Thumbnail.jpg
END:VEVENT
BEGIN:VEVENT
DTSTART;TZID=America/Los_Angeles:20240510T110000
DTEND;TZID=America/Los_Angeles:20240510T120000
DTSTAMP:20260424T183907
CREATED:20240426T192207Z
LAST-MODIFIED:20240426T192207Z
UID:1916316-1715338800-1715342400@ramayogainstitute.com
SUMMARY:Kundalini Yoga & Meditation with Anneka
DESCRIPTION:TUNE IN\nAnneka is a Kundalini Yoga practitioner\, teacher\, and helps run the women’s program at RA MA. She is passionate about bringing the mystical and magical into the day-to-day so that everyone can experience the bliss of living an extraordinary life.
URL:https://ramayogainstitute.com/event/kundalini-yoga-meditation-with-anneka-25/
LOCATION:Online
CATEGORIES:In Person,RA MA TV Live
ATTACH;FMTTYPE=image/jpeg:https://ramayogainstitute.com/wp-content/uploads/2023/12/Anneka-Thumbnail.jpg
END:VEVENT
BEGIN:VEVENT
DTSTART;TZID=America/Los_Angeles:20240503T110000
DTEND;TZID=America/Los_Angeles:20240503T120000
DTSTAMP:20260424T183907
CREATED:20240426T191739Z
LAST-MODIFIED:20240426T191739Z
UID:1916313-1714734000-1714737600@ramayogainstitute.com
SUMMARY:Kundalini Yoga & Meditation with Anneka
DESCRIPTION:TUNE IN\nAnneka is a Kundalini Yoga practitioner\, teacher\, and helps run the women’s program at RA MA. She is passionate about bringing the mystical and magical into the day-to-day so that everyone can experience the bliss of living an extraordinary life.
URL:https://ramayogainstitute.com/event/kundalini-yoga-meditation-with-anneka-24/
LOCATION:Online
CATEGORIES:In Person,RA MA TV Live
ATTACH;FMTTYPE=image/jpeg:https://ramayogainstitute.com/wp-content/uploads/2023/12/Anneka-Thumbnail.jpg
END:VEVENT
BEGIN:VEVENT
DTSTART;TZID=America/Los_Angeles:20240426T110000
DTEND;TZID=America/Los_Angeles:20240426T120000
DTSTAMP:20260424T183907
CREATED:20240406T183048Z
LAST-MODIFIED:20240406T183048Z
UID:1911132-1714129200-1714132800@ramayogainstitute.com
SUMMARY:Kundalini Yoga & Meditation with Anneka
DESCRIPTION:TUNE IN\nAnneka is a Kundalini Yoga practitioner\, teacher\, and helps run the women’s program at RA MA. She is passionate about bringing the mystical and magical into the day-to-day so that everyone can experience the bliss of living an extraordinary life.
URL:https://ramayogainstitute.com/event/kundalini-yoga-meditation-with-anneka-20/
LOCATION:Online
CATEGORIES:In Person,RA MA TV Live
ATTACH;FMTTYPE=image/jpeg:https://ramayogainstitute.com/wp-content/uploads/2023/12/Anneka-Thumbnail.jpg
END:VEVENT
END:VCALENDAR