BEGIN:VCALENDAR
VERSION:2.0
PRODID:-//RA MA LIFE - ECPv6.15.15//NONSGML v1.0//EN
CALSCALE:GREGORIAN
METHOD:PUBLISH
X-ORIGINAL-URL:https://ramayogainstitute.com
X-WR-CALDESC:Events for RA MA LIFE
REFRESH-INTERVAL;VALUE=DURATION:PT1H
X-Robots-Tag:noindex
X-PUBLISHED-TTL:PT1H
BEGIN:VTIMEZONE
TZID:America/Los_Angeles
BEGIN:DAYLIGHT
TZOFFSETFROM:-0800
TZOFFSETTO:-0700
TZNAME:PDT
DTSTART:20220313T100000
END:DAYLIGHT
BEGIN:STANDARD
TZOFFSETFROM:-0700
TZOFFSETTO:-0800
TZNAME:PST
DTSTART:20221106T090000
END:STANDARD
BEGIN:DAYLIGHT
TZOFFSETFROM:-0800
TZOFFSETTO:-0700
TZNAME:PDT
DTSTART:20230312T100000
END:DAYLIGHT
BEGIN:STANDARD
TZOFFSETFROM:-0700
TZOFFSETTO:-0800
TZNAME:PST
DTSTART:20231105T090000
END:STANDARD
BEGIN:DAYLIGHT
TZOFFSETFROM:-0800
TZOFFSETTO:-0700
TZNAME:PDT
DTSTART:20240310T100000
END:DAYLIGHT
BEGIN:STANDARD
TZOFFSETFROM:-0700
TZOFFSETTO:-0800
TZNAME:PST
DTSTART:20241103T090000
END:STANDARD
END:VTIMEZONE
BEGIN:VEVENT
DTSTART;TZID=America/Los_Angeles:20231127T173000
DTEND;TZID=America/Los_Angeles:20231127T184500
DTSTAMP:20260422T033852
CREATED:20231122T192836Z
LAST-MODIFIED:20231122T193315Z
UID:1872958-1701106200-1701110700@ramayogainstitute.com
SUMMARY:INNER ILLUMINATION |   Full Moon Kundalini Yoga & Meditation with Anantjeet
DESCRIPTION:TUNE IN\nAll Levels Kundalini Yoga & Meditation
URL:https://ramayogainstitute.com/event/inner-illumination-full-moon-kundalini-yoga-meditation-with-anantjeet/
LOCATION:Online
CATEGORIES:In Person,RA MA TV Live
ATTACH;FMTTYPE=image/jpeg:https://ramayogainstitute.com/wp-content/uploads/2023/10/Anantjeet_Header.jpg
END:VEVENT
BEGIN:VEVENT
DTSTART;TZID=America/Los_Angeles:20231126T160000
DTEND;TZID=America/Los_Angeles:20231126T173000
DTSTAMP:20260422T033852
CREATED:20231115T181707Z
LAST-MODIFIED:20231120T195110Z
UID:1869991-1701014400-1701019800@ramayogainstitute.com
SUMMARY:Kundalini Yoga and Meditation with Anantjeet
DESCRIPTION:TUNE IN\nKundalini Yoga and Meditation all levels
URL:https://ramayogainstitute.com/event/kundalini-yoga-and-meditation-with-atma-santokh-4/
LOCATION:Online
CATEGORIES:In Person,RA MA TV Live
ATTACH;FMTTYPE=image/jpeg:https://ramayogainstitute.com/wp-content/uploads/2023/10/Anantjeet_Header.jpg
END:VEVENT
BEGIN:VEVENT
DTSTART;TZID=America/Los_Angeles:20231124T173000
DTEND;TZID=America/Los_Angeles:20231124T184500
DTSTAMP:20260422T033852
CREATED:20231115T180805Z
LAST-MODIFIED:20231117T032146Z
UID:1869986-1700847000-1700851500@ramayogainstitute.com
SUMMARY:Kundalini Yoga and Meditation with Anantjeet
DESCRIPTION:TUNE IN\nKundalini Yoga and Meditation all levels \n 
URL:https://ramayogainstitute.com/event/kundalini-yoga-and-meditation-with-atma-santokh-2/
LOCATION:Online
CATEGORIES:In Person,RA MA TV Live
ATTACH;FMTTYPE=image/jpeg:https://ramayogainstitute.com/wp-content/uploads/2023/10/Anantjeet_Header.jpg
END:VEVENT
BEGIN:VEVENT
DTSTART;TZID=America/Los_Angeles:20231104T110000
DTEND;TZID=America/Los_Angeles:20231104T123000
DTSTAMP:20260422T033852
CREATED:20231024T032436Z
LAST-MODIFIED:20231024T032436Z
UID:1863168-1699095600-1699101000@ramayogainstitute.com
SUMMARY:Kundalini Yoga & Meditation with Anantjeet
DESCRIPTION:TUNE IN \nKundalini Yoga & Meditation all levels \n 
URL:https://ramayogainstitute.com/event/kundalini-yoga-meditation-with-anantjeet-3/
LOCATION:Online
CATEGORIES:In Person,RA MA TV Live
ATTACH;FMTTYPE=image/jpeg:https://ramayogainstitute.com/wp-content/uploads/2023/10/Anantjeet_Header.jpg
END:VEVENT
BEGIN:VEVENT
DTSTART;TZID=America/Los_Angeles:20231028T110000
DTEND;TZID=America/Los_Angeles:20231028T123000
DTSTAMP:20260422T033852
CREATED:20231017T233311Z
LAST-MODIFIED:20231017T233311Z
UID:1861857-1698490800-1698496200@ramayogainstitute.com
SUMMARY:Kundalini Yoga & Meditation with Anantjeet
DESCRIPTION:TUNE IN\nKundalini Yoga & Meditation all levels
URL:https://ramayogainstitute.com/event/kundalini-yoga-meditation-with-anantjeet-2/
LOCATION:Online
CATEGORIES:In Person,RA MA TV Live
ATTACH;FMTTYPE=image/jpeg:https://ramayogainstitute.com/wp-content/uploads/2023/10/Anantjeet_Header.jpg
END:VEVENT
BEGIN:VEVENT
DTSTART;TZID=America/Los_Angeles:20231016T173000
DTEND;TZID=America/Los_Angeles:20231016T184500
DTSTAMP:20260422T033852
CREATED:20231010T005449Z
LAST-MODIFIED:20231010T020641Z
UID:1860151-1697477400-1697481900@ramayogainstitute.com
SUMMARY:Kundalini Yoga and Meditation with Anantjeet
DESCRIPTION:TUNE IN
URL:https://ramayogainstitute.com/event/kundalini-yoga-and-meditation-with-anantjeet/
LOCATION:Online
CATEGORIES:In Person,RA MA TV Live
ATTACH;FMTTYPE=image/jpeg:https://ramayogainstitute.com/wp-content/uploads/2023/10/Anantjeet.jpg
END:VEVENT
BEGIN:VEVENT
DTSTART;TZID=America/Los_Angeles:20230924T160000
DTEND;TZID=America/Los_Angeles:20230924T173000
DTSTAMP:20260422T033852
CREATED:20230922T182425Z
LAST-MODIFIED:20230924T203506Z
UID:1846624-1695571200-1695576600@ramayogainstitute.com
SUMMARY:Kundalini Yoga & Meditation with Anantjeet
DESCRIPTION:TUNE IN\nKundalini Yoga & Meditation all Levels
URL:https://ramayogainstitute.com/event/kundalini-yoga-meditation-with-anantjeet/
LOCATION:Online
CATEGORIES:In Person,RA MA TV Live
ATTACH;FMTTYPE=image/jpeg:https://ramayogainstitute.com/wp-content/uploads/2023/09/Welcome.jpg
END:VEVENT
END:VCALENDAR