BEGIN:VCALENDAR
VERSION:2.0
PRODID:-//RA MA LIFE - ECPv6.15.15//NONSGML v1.0//EN
CALSCALE:GREGORIAN
METHOD:PUBLISH
X-ORIGINAL-URL:https://ramayogainstitute.com
X-WR-CALDESC:Events for RA MA LIFE
REFRESH-INTERVAL;VALUE=DURATION:PT1H
X-Robots-Tag:noindex
X-PUBLISHED-TTL:PT1H
BEGIN:VTIMEZONE
TZID:America/Los_Angeles
BEGIN:DAYLIGHT
TZOFFSETFROM:-0800
TZOFFSETTO:-0700
TZNAME:PDT
DTSTART:20220313T100000
END:DAYLIGHT
BEGIN:STANDARD
TZOFFSETFROM:-0700
TZOFFSETTO:-0800
TZNAME:PST
DTSTART:20221106T090000
END:STANDARD
BEGIN:DAYLIGHT
TZOFFSETFROM:-0800
TZOFFSETTO:-0700
TZNAME:PDT
DTSTART:20230312T100000
END:DAYLIGHT
BEGIN:STANDARD
TZOFFSETFROM:-0700
TZOFFSETTO:-0800
TZNAME:PST
DTSTART:20231105T090000
END:STANDARD
BEGIN:DAYLIGHT
TZOFFSETFROM:-0800
TZOFFSETTO:-0700
TZNAME:PDT
DTSTART:20240310T100000
END:DAYLIGHT
BEGIN:STANDARD
TZOFFSETFROM:-0700
TZOFFSETTO:-0800
TZNAME:PST
DTSTART:20241103T090000
END:STANDARD
BEGIN:DAYLIGHT
TZOFFSETFROM:-0800
TZOFFSETTO:-0700
TZNAME:PDT
DTSTART:20250309T100000
END:DAYLIGHT
BEGIN:STANDARD
TZOFFSETFROM:-0700
TZOFFSETTO:-0800
TZNAME:PST
DTSTART:20251102T090000
END:STANDARD
END:VTIMEZONE
BEGIN:VEVENT
DTSTART;TZID=America/Los_Angeles:20240308T110000
DTEND;TZID=America/Los_Angeles:20240308T120000
DTSTAMP:20260422T170717
CREATED:20240304T173456Z
LAST-MODIFIED:20240305T011405Z
UID:1900840-1709895600-1709899200@ramayogainstitute.com
SUMMARY:Adi Shakti Activation| Kundalini Yoga & Meditation with Ana Netanel
DESCRIPTION:TUNE IN\nWith over 20 years of experience studying\, guiding and teaching Sound Healing\, Sound Baths \, Kundalini Yoga and Meditation\, her approach is personal\, empowering and uplifting. Ana recently shared Sound Healing on MTV and Grey’s Anatomy . She also facilitates Sound Healing for international women leaders. \n  \n 
URL:https://ramayogainstitute.com/event/kundalini-yoga-meditation-with-anna-netanel-2/
LOCATION:Online
CATEGORIES:In Person,RA MA TV Live
ATTACH;FMTTYPE=image/jpeg:https://ramayogainstitute.com/wp-content/uploads/2024/03/D5CCE1F0-E010-4BAF-A0BE-171468E3E56C_1_201_a.jpeg
END:VEVENT
BEGIN:VEVENT
DTSTART;TZID=America/Los_Angeles:20240305T090000
DTEND;TZID=America/Los_Angeles:20240305T103000
DTSTAMP:20260422T170717
CREATED:20240304T010334Z
LAST-MODIFIED:20240305T011313Z
UID:1900346-1709629200-1709634600@ramayogainstitute.com
SUMMARY:Kundalini Yoga & Meditation with Ana Netanel
DESCRIPTION:TUNE IN\nWith over 20 years of experience studying\, guiding and teaching Sound Healing\, Sound Baths \, Kundalini Yoga and Meditation\, her approach is personal\, empowering and uplifting. Ana recently shared Sound Healing on MTV and Grey’s Anatomy . She also facilitates Sound Healing for international women leaders. \n  \n 
URL:https://ramayogainstitute.com/event/kundalini-yoga-meditation-with-anna-netanel/
LOCATION:Online
CATEGORIES:In Person,RA MA TV Live
ATTACH;FMTTYPE=image/jpeg:https://ramayogainstitute.com/wp-content/uploads/2024/03/D5CCE1F0-E010-4BAF-A0BE-171468E3E56C_1_201_a.jpeg
END:VEVENT
BEGIN:VEVENT
DTSTART;TZID=America/Los_Angeles:20240302T090000
DTEND;TZID=America/Los_Angeles:20240302T103000
DTSTAMP:20260422T170717
CREATED:20220109T034919Z
LAST-MODIFIED:20240302T041340Z
UID:1832556-1709370000-1709375400@ramayogainstitute.com
SUMMARY:Kundalini Yoga & Meditation with Anna Netanel
DESCRIPTION:TUNE IN\nWith over 20 years of experience studying\, guiding and teaching Sound Healing\, Sound Baths \, Kundalini Yoga and Meditation\, her approach is personal\, empowering and uplifting. Ana recently shared Sound Healing on MTV and Grey’s Anatomy . She also facilitates Sound Healing for international women leaders. \n  \n 
URL:https://ramayogainstitute.com/event/kundalini-yoga-meditation-with-shabadpreet-9-2022-05-17-2022-08-09-2023-05-16-2024-03-02/
LOCATION:Online
CATEGORIES:In Person,RA MA TV Live
ATTACH;FMTTYPE=image/jpeg:https://ramayogainstitute.com/wp-content/uploads/2022/01/Ana-netanel.jpeg
END:VEVENT
BEGIN:VEVENT
DTSTART;TZID=America/Los_Angeles:20240125T193000
DTEND;TZID=America/Los_Angeles:20240125T203000
DTSTAMP:20260422T170717
CREATED:20240116T015110Z
LAST-MODIFIED:20240123T202145Z
UID:1888919-1706211000-1706214600@ramayogainstitute.com
SUMMARY:Full Moon Sound Bath with Ana Netanel | January 2024
DESCRIPTION:SIGN UP\nTUNE IN\n\nFull Moon in Leo Sound Bath with Ana Netanel\nThursday\, January 25\, 2024\n7:00 – 8:30pm PST\nIn-Person at RA MA Los Angeles or Virtually on RA MA TV with 48 hour replay.\n$44 in advance\, $55 day of\n \n\n\nClear and charge your mind\, body\, and soul in the powerful full moon window of amplified lunar energy. \nSound Bath is an acoustic sound healing journey that relaxes the body\, clears the subconscious\, calms the mind\, and activates your body’s natural healing systems. Bring a blanket and pillow\, and create your most comfortable space then lie down and let the cosmic vibrations wash away stress and all that no longer serves you. We use a wide variety of ancient sound healing instruments\, including planetary-tuned gongs\, crystal singing bowls\, Tibetan bowls\, and more to create a sound healing experience that will vibrate and activate every cell in your body\, leaving you feeling refreshed and rejuvenated. \nAna and her Sound Healing team create a chamber of healing vibrations\, that revitalize the mind\, body\, and spirit leaving you feeling amazing. \n\nSound healing is so effective because it influences our emotional bodies as well as our physical bodies. Different sound vibrations interact with our physical and energetic bodies in beneficial ways: \n\nActivates Higher States of Consciousness\nUnlocks Blocked Emotions\nRelieves Anxiety and Stress\nInduces Complete Relaxation\nPromotes Deep Meditation\nHeightens Clarity\nImproves Ability to Concentrate\nRelieves Insomnia\nDecreases Depression\nNormalizes Blood Pressure\nRelieves Physical Pain\nRelease Emotional Trauma\n\n  \nAbout Ana\nAna Netanel is an international wellness practitioner and instructor\, specializing in the restorative and healing power of sound frequency and vibration. With over 20 years of experience studying\, guiding and teaching Sound Healing\, Sound Baths\, Kundalini Yoga and Meditation\, her approach is personal\, empowering and uplifting. Ana recently shared Sound Healing on MTV\, Grey’s Anatomy Cardi Tries. She also facilitated Sound Healing at the Girl Boss Rally in LA for international women leaders. \nAna’s Sound Healing team is made up of Reiki Masters\, Healers\, classically trained musicians\, and Sound Healers carefully chosen for this event.= \n*Your purchase is non-transferable and non-refundable
URL:https://ramayogainstitute.com/event/full-moon-sound-bath-with-ana-netanel-january-2024/
LOCATION:Online
CATEGORIES:In Person,Pay Per View Workshops
ATTACH;FMTTYPE=image/jpeg:https://ramayogainstitute.com/wp-content/uploads/2023/01/Ana-Netanel-Soundbath-RA-MA-Los-Angeles-e1687829792918.jpg
END:VEVENT
BEGIN:VEVENT
DTSTART;TZID=America/Los_Angeles:20231113T193000
DTEND;TZID=America/Los_Angeles:20231113T210000
DTSTAMP:20260422T170717
CREATED:20231104T220620Z
LAST-MODIFIED:20231108T195704Z
UID:1866680-1699903800-1699909200@ramayogainstitute.com
SUMMARY:New Moon in Scorpio Sound Bath with Ana Netanel
DESCRIPTION:SIGN UP\nTUNE IN\nNew Moon in Scorpio Sound Bath with Ana Netanel\nMonday\, November 13\, 2023\n7:30pm-9:00pm\nIn Person at RA MA Los Angeles\nVirtually on RA MA TV\n$44 in advance\, $55 day of \nSound Bath is an acoustic sound healing journey that relaxes the body\, clears the subconscious\, calms the mind\, and activates your body’s natural healing systems. Bring a blanket and pillow\, and create your most comfortable space then lie down and let the cosmic vibrations wash away stress and all that no longer serves you. We use a wide variety of ancient sound healing instruments\, including planetary-tuned gongs\, crystal singing bowls\, Tibetan bowls\, and more to create a sound healing experience that will vibrate and activate every cell in your body\, leaving you feeling refreshed and rejuvenated. \nAna and her Sound Healing team create a chamber of healing vibrations\, that revitalize the mind\, body\, and spirit leaving you feeling amazing. \nSound healing is so effective because it influences our emotional bodies as well as our physical bodies. Different sound vibrations interact with our physical and energetic bodies in beneficial ways: \n\nActivates Higher States of Consciousness\nUnlocks Blocked Emotions\nRelieves Anxiety and Stress\nInduces Complete Relaxation\nPromotes Deep Meditation\nHeightens Clarity\nImproves Ability to Concentrate\nRelieves Insomnia\nDecreases Depression\nNormalizes Blood Pressure\nRelieves Physical Pain\nRelease Emotional Trauma\n\n*Your purchase is non-transferable and non-refundable
URL:https://ramayogainstitute.com/event/new-moon-in-scorpio-sound-bath-with-ana-netanel/
LOCATION:Online
CATEGORIES:In Person,Pay Per View Workshops
ATTACH;FMTTYPE=image/jpeg:https://ramayogainstitute.com/wp-content/uploads/2023/11/SoundBath_Ana-Netanel_Header.jpg
END:VEVENT
END:VCALENDAR