BEGIN:VCALENDAR
VERSION:2.0
PRODID:-//RA MA LIFE - ECPv6.15.15//NONSGML v1.0//EN
CALSCALE:GREGORIAN
METHOD:PUBLISH
X-ORIGINAL-URL:https://ramayogainstitute.com
X-WR-CALDESC:Events for RA MA LIFE
REFRESH-INTERVAL;VALUE=DURATION:PT1H
X-Robots-Tag:noindex
X-PUBLISHED-TTL:PT1H
BEGIN:VTIMEZONE
TZID:America/Los_Angeles
BEGIN:DAYLIGHT
TZOFFSETFROM:-0800
TZOFFSETTO:-0700
TZNAME:PDT
DTSTART:20230312T100000
END:DAYLIGHT
BEGIN:STANDARD
TZOFFSETFROM:-0700
TZOFFSETTO:-0800
TZNAME:PST
DTSTART:20231105T090000
END:STANDARD
BEGIN:DAYLIGHT
TZOFFSETFROM:-0800
TZOFFSETTO:-0700
TZNAME:PDT
DTSTART:20240310T100000
END:DAYLIGHT
BEGIN:STANDARD
TZOFFSETFROM:-0700
TZOFFSETTO:-0800
TZNAME:PST
DTSTART:20241103T090000
END:STANDARD
BEGIN:DAYLIGHT
TZOFFSETFROM:-0800
TZOFFSETTO:-0700
TZNAME:PDT
DTSTART:20250309T100000
END:DAYLIGHT
BEGIN:STANDARD
TZOFFSETFROM:-0700
TZOFFSETTO:-0800
TZNAME:PST
DTSTART:20251102T090000
END:STANDARD
END:VTIMEZONE
BEGIN:VEVENT
DTSTART;TZID=America/Los_Angeles:20241230T084500
DTEND;TZID=America/Los_Angeles:20241230T173000
DTSTAMP:20260422T013832
CREATED:20241229T102336Z
LAST-MODIFIED:20241229T102336Z
UID:1966837-1735548300-1735579800@ramayogainstitute.com
SUMMARY:NEW MOON IN CAPRICORN
DESCRIPTION:SIGN UP\nTUNE IN\nNew Moon in Capricorn\n\n\n\n\n\nMONDAY\, DECEMBER 30\, 2024 \nAQUARIAN SADHANA\nNEW MOON IN CAPRICORN\nwith atma santokh\nMonday\, DecEMBER 30\, 2024\n4:00am-6:30am PST\n7:00am-9:30am EST\n1:00pm-3:30pm CET\nRA MA TV COMMUNITY CONTENT \nKUNDALINI YOGA & MEDITATION\nNEW MOON IN CAPRICORN with MAGDALENA\nMonday\, DECEMBER 30\, 2024\n12:30am-2:00am PST\n3:30am-5:00am EST\n9:30pm-11:00m CET\nRA MA mallorca \nKUNDALINI YOGA & MEDITATION\nNEW MOON IN CAPRICORN with MAGDALENA\nMonday\, DECEMBER 30\, 2024\n12:30am-2:00am PST\n3:30am-5:00am EST\n9:30pm-11:00m CET\nRA MA mallorca \nSPIRIT+MATTER\nNEW MOON IN CAPRICORN\nwith SHABADPREET\nMonday\, DecEMBER 30\, 2024\n7:30am-9:00am PST\n10:30AM-12:00PM EST\n4:30pm-6:00pm CET\nAQUARIAN WOMEN’S LEADERSHIP SOCIETY | ZOOM \nTHE GOAT: become THE MOUNTAIN\nNEW MOON IN CAPRICORN\nwith ATMA SANTOKH\nMonday\, DecEMBER 30\, 2024\n2:00pm-4:00pm PST\n5:00pm-7:00pm EST\n11:00pm-1:00am CET +1\nRA MA TOPANGA POP UP | RA MA TV \nTHE GOAT: become THE MOUNTAIN\nNEW MOON IN CAPRICORN\nwith ATMA SANTOKH\nMonday\, DecEMBER 30\, 2024\n2:00pm-4:00pm PST\n5:00pm-7:00pm EST\n11:00pm-1:00am CET +1\nRA MA TOPANGA POP UP | RA MA TV \n\n\n\n 
URL:https://ramayogainstitute.com/event/new-moon-in-capricorn/
LOCATION:RA MA Intitute New York and online
CATEGORIES:Courses & Events,In Person,Pay Per View Workshops,RA MA TV Live
ATTACH;FMTTYPE=image/jpeg:https://ramayogainstitute.com/wp-content/uploads/2023/05/NewMoon_Taurus_Kundalini_Header.jpg
END:VEVENT
BEGIN:VEVENT
DTSTART;TZID=America/Los_Angeles:20241230T140000
DTEND;TZID=America/Los_Angeles:20241230T160000
DTSTAMP:20260422T013832
CREATED:20241229T100310Z
LAST-MODIFIED:20241229T100310Z
UID:1966839-1735567200-1735574400@ramayogainstitute.com
SUMMARY:The Goat: Become The Mountain with Atma Santokh
DESCRIPTION:SIGN UP\nTUNE IN\nThe Goat: Become The Mountain\nKundalini Yoga and Meditation with Atma Santokh \nMonday\, December 30 2024\n2:00pm-4:00pm PST\n5:00pm-7:00pm EST\n11:0pm-1:00am CET\nIn Person at RA MA Topanga \n22009 Canon Drive\nTopanga\, CA\nVirtually on RA MA TV\n$33r
URL:https://ramayogainstitute.com/event/the-goat-become-the-mountain-with-atma-santokh/
LOCATION:RA MA Topanga & RA MA TV\, 22009 Canon Drive\, Topanga\, CA\, 90290\, United States
CATEGORIES:Courses & Events,In Person
ATTACH;FMTTYPE=image/jpeg:https://ramayogainstitute.com/wp-content/uploads/2024/12/Atma_Santokh_Header.jpg
END:VEVENT
BEGIN:VEVENT
DTSTART;TZID=America/Los_Angeles:20241231T170000
DTEND;TZID=America/Los_Angeles:20241231T205900
DTSTAMP:20260422T013832
CREATED:20241229T230324Z
LAST-MODIFIED:20241229T230324Z
UID:1966927-1735664400-1735678740@ramayogainstitute.com
SUMMARY:New Year’s Eve & Day 2025
DESCRIPTION:SIGN UP\nTUNE IN\n\n\nNew Year’s Eve\n\n\n\nTUESDAY\, DECEMBER 31\, 2024 \n\n\n\nNew Years Eve Overnight Puja\nKundalini Yoga\, Meditation\, Gong\, & Ceremony with Siri Rishi & Friends\nTuesday\, December 31\, 2024\n8:00pm-8:00am EST\nRA MA New York | RA MA TV \nNew Years Eve workshop\nKundalini Yoga\, Meditation\, Gong with Siri Rishi\nTuesday\, December 31\, 2024\n8:30pm-10:30pm EST\nRA MA NEw York | RA MA TV \n  \nNew Year’s Eve\nWEDNESDAY\, JANUARY 1\, 2025 \nCOMPLIMENTARY ON THE RA MA TV\nCOMMUNITY CONTENT CHANNEL \nTeg Prakash\nThe Year of Subtle Arts\nWednesday\, January 1st 2025\n7:00am-8:30 am pST\n10am – 11:30am est\n4pm – 5:30pm cet\nRA MA New York | RA MA TV \nAtma Santokh\nRenew To Be You\nWednesday\, January 1st 2025\n9:00am-10:00 am pST\n12pm – 1pm est\n6pm – 7pm cet\nRA MA TV \nGuru Jagat\nGreat Eastern Sun\nWednesday\, January 1st 2025\n10:00am-11:30 am pST\n1pm – 2:30pm est\n7pm – 8:30pm cet\nRA MA TV
URL:https://ramayogainstitute.com/event/new-years-eve-day-2025/2024-12-31/
LOCATION:RA MA Intitute New York and online
CATEGORIES:Community Content,Courses & Events,In Person,Pay Per View Workshops
ATTACH;FMTTYPE=image/jpeg:https://ramayogainstitute.com/wp-content/uploads/2023/12/NewYearsEve_2024_Header-1.jpg
END:VEVENT
END:VCALENDAR