BEGIN:VCALENDAR
VERSION:2.0
PRODID:-//RA MA LIFE - ECPv6.15.15//NONSGML v1.0//EN
CALSCALE:GREGORIAN
METHOD:PUBLISH
X-WR-CALNAME:RA MA LIFE
X-ORIGINAL-URL:https://ramayogainstitute.com
X-WR-CALDESC:Events for RA MA LIFE
REFRESH-INTERVAL;VALUE=DURATION:PT1H
X-Robots-Tag:noindex
X-PUBLISHED-TTL:PT1H
BEGIN:VTIMEZONE
TZID:America/Los_Angeles
BEGIN:DAYLIGHT
TZOFFSETFROM:-0800
TZOFFSETTO:-0700
TZNAME:PDT
DTSTART:20230312T100000
END:DAYLIGHT
BEGIN:STANDARD
TZOFFSETFROM:-0700
TZOFFSETTO:-0800
TZNAME:PST
DTSTART:20231105T090000
END:STANDARD
BEGIN:DAYLIGHT
TZOFFSETFROM:-0800
TZOFFSETTO:-0700
TZNAME:PDT
DTSTART:20240310T100000
END:DAYLIGHT
BEGIN:STANDARD
TZOFFSETFROM:-0700
TZOFFSETTO:-0800
TZNAME:PST
DTSTART:20241103T090000
END:STANDARD
BEGIN:DAYLIGHT
TZOFFSETFROM:-0800
TZOFFSETTO:-0700
TZNAME:PDT
DTSTART:20250309T100000
END:DAYLIGHT
BEGIN:STANDARD
TZOFFSETFROM:-0700
TZOFFSETTO:-0800
TZNAME:PST
DTSTART:20251102T090000
END:STANDARD
END:VTIMEZONE
BEGIN:VEVENT
DTSTART;TZID=America/Los_Angeles:20241031T160000
DTEND;TZID=America/Los_Angeles:20241031T180000
DTSTAMP:20260422T014452
CREATED:20241028T034216Z
LAST-MODIFIED:20241031T044759Z
UID:1955848-1730390400-1730397600@ramayogainstitute.com
SUMMARY:Beneath the Veil with Desirée Pais
DESCRIPTION:SIGN UP\nTUNE IN\n\n\nBENEATH THE VEIL\nUnlocking the Field of Destiny with Desirée Pais\nThursday\, October 31\, 2024\n7:00pm-9:00pm EDT\n$50 Advance / $55 Day Of \nJoin Desirée Pais for a special All Hallow’s Eve workshop\, a time when the veils between the seen and the unseen are the thinnest. There are two tracks in life: fate or destiny. Fate is when we move through the subconscious programming and life happens to us. Destiny is when we clear the subconscious landscape so we can plant the seeds of our dreams.
URL:https://ramayogainstitute.com/event/beneath-the-veil-with-desiree-pais/
LOCATION:RA MA Intitute New York and online
CATEGORIES:In Person,Pay Per View Workshops
ATTACH;FMTTYPE=image/jpeg:https://ramayogainstitute.com/wp-content/uploads/2023/12/RAMA_DesireePais_Header.jpg
END:VEVENT
END:VCALENDAR