BEGIN:VCALENDAR
VERSION:2.0
PRODID:-//RA MA LIFE - ECPv6.15.15//NONSGML v1.0//EN
CALSCALE:GREGORIAN
METHOD:PUBLISH
X-ORIGINAL-URL:https://ramayogainstitute.com
X-WR-CALDESC:Events for RA MA LIFE
REFRESH-INTERVAL;VALUE=DURATION:PT1H
X-Robots-Tag:noindex
X-PUBLISHED-TTL:PT1H
BEGIN:VTIMEZONE
TZID:America/Los_Angeles
BEGIN:DAYLIGHT
TZOFFSETFROM:-0800
TZOFFSETTO:-0700
TZNAME:PDT
DTSTART:20230312T100000
END:DAYLIGHT
BEGIN:STANDARD
TZOFFSETFROM:-0700
TZOFFSETTO:-0800
TZNAME:PST
DTSTART:20231105T090000
END:STANDARD
BEGIN:DAYLIGHT
TZOFFSETFROM:-0800
TZOFFSETTO:-0700
TZNAME:PDT
DTSTART:20240310T100000
END:DAYLIGHT
BEGIN:STANDARD
TZOFFSETFROM:-0700
TZOFFSETTO:-0800
TZNAME:PST
DTSTART:20241103T090000
END:STANDARD
BEGIN:DAYLIGHT
TZOFFSETFROM:-0800
TZOFFSETTO:-0700
TZNAME:PDT
DTSTART:20250309T100000
END:DAYLIGHT
BEGIN:STANDARD
TZOFFSETFROM:-0700
TZOFFSETTO:-0800
TZNAME:PST
DTSTART:20251102T090000
END:STANDARD
END:VTIMEZONE
BEGIN:VEVENT
DTSTART;TZID=America/Los_Angeles:20240826T030000
DTEND;TZID=America/Los_Angeles:20240826T190000
DTSTAMP:20260422T054015
CREATED:20240817T231356Z
LAST-MODIFIED:20240817T231356Z
UID:1941665-1724641200-1724698800@ramayogainstitute.com
SUMMARY:Yogi Bhajan's Birthday 2024
DESCRIPTION:SIGN UP\nTUNE IN\nYogi Bhajan’s Birthday\nMonday\, August 26\, 2024\n3:00am – 7:00pm PDT\nRA MA Los Angeles  | RA MA New York  | RA MA Mallorca | RA MA TV \n  \n3:00am PDT | 6:00am EDT | 12:00pm CEST\nSpecial Sadhana\n11-Minute Global Simultaneous Guru Ram Das Chant \nLOS ANGELES\n3:15am PDT Japji\n3:30am PDT Yoga\n4:00am – 6:30am PDT 2.5 Hours of Long Ek Ong Kar \nNEW YORK\n3:00am EDT Japji\n3:15am EDT Yoga\n3:25am – 3:55am EDT 2.5 Hours of Long Ek Ong Kar \n12:30am – 2:00am PDT\n9:30am – 11:00am CEST\nBe the Light\nKundalini Yoga & Meditation\nwith Magdalena Lawniczek\nRA MA Mallorca\nRA MA TV Live \n6:00am-7:30am PDT \n9:00am-10:30am EDT\nHow Much Can You Love?\nYogi Bhajan Birthday Class\nwith Pritam Siri\nRA MA New York\nRA MA TV Live \n9:00am-10:30am PDT\nFlow of Miracles with Mandev\nYogi Bhajan’s Birthday Long Mul Mantra Monday\nRA MA Los Angeles\nRA MA TV Live \n11:00am-12:15pm PDT\nKundalini Yoga & Meditation\nwith Teg Prakash\nRA MA Los Angeles\nRA MA TV Live \n4:00pm – 5:30pm PDT\n7:00pm – 8:30pm EDT\nKundalini Yoga & Meditation\nwith Siri Rishi\nRA MA New York\nRA MA TV Live \n5:00pm-7:00pm PDT\nTantric Energy Alignment\nYogi Bhajan’s Birthday Workshop with Harijiwan\nRA MA Los Angeles\nRA MA TV\n$60 in advance\, $65 day of\n*In-Person Dinner to Follow at RA MA Los Angeles
URL:https://ramayogainstitute.com/event/yogi-bhajans-birthday-2024/
LOCATION:RA MA Los Angeles\, RA MA New York\, RA MA Mallorca\, Online
CATEGORIES:Courses & Events,In Person,Pay Per View Workshops,RA MA TV Live
ATTACH;FMTTYPE=image/jpeg:https://ramayogainstitute.com/wp-content/uploads/2023/08/YogiBhajan_Birthday_Header2.jpg
END:VEVENT
BEGIN:VEVENT
DTSTART;TZID=America/Los_Angeles:20240830T040000
DTEND;TZID=America/Los_Angeles:20240830T213000
DTSTAMP:20260422T054015
CREATED:20240821T043515Z
LAST-MODIFIED:20240821T043515Z
UID:1942156-1724990400-1725053400@ramayogainstitute.com
SUMMARY:Guru Jagat's Birthday 2024
DESCRIPTION:SIGN UP\nTUNE IN\nGuru Jagat’s Birthday\nFriday\, August 30\, 2024\n 4:00am-9:30pm PDT\nRA MA Los Angeles  | RA MA New York  | RA MA Mallorca | RA MA TV \n4:00am – 6:30am PDT / EDT\nSpecial Sadhana\n2.5 Hours of Eka Mai Recitations\nIn-Person at RA MA Los Angeles\nIn-Person at RA MA New York\nVirtually on the RA MA TV Community Content Channel PDT/EDT\nVirtually on Zoom – Mallorca \n12:30am – 2:30am PDT\n9:30am-11:30am CEST\nKundalini Yoga\nwith Magdalena\nRA MA Mallorca\nRA MA TV Live \n9:30am – 12:00pm PDT\n6:30pm – 9:00pm CEST\nConscious Community & DJ Party\nwith Magdalena & Siri Manprem\nRA MA Mallorca\nRA MA TV Live \n3:00pm – 4:30pm PDT\n6:00pm – 7:30pm EDT Meditation & Sound Bath \n7:30pm – 9:30pm EDT Dinner & Dance\nMother of Creation\nMeditation & Sound Bath\nDance & Dinner to follow\nwith Pritam Siri\nRA MA New York\nRA MA TV Live \n5:30-7:30pm PDT\nGuru Jagat’s Birthday Celebration\nWorkshop with Shabadpreet\, Harmanjot\, & Jen\nRA MA Los Angeles\nRA MA TV\nRA MA TV Live\n$29 Drop-In \n7:30pm-8:30pm PDT\nHealing Gong\nwith Teg Prakash\nRA MA Los Angeles\nRA MA TV Live \n  \n 
URL:https://ramayogainstitute.com/event/guru-jagats-birthday-2024/
LOCATION:RA MA Los Angeles\, RA MA New York\, RA MA Mallorca\, Online
CATEGORIES:Courses & Events,In Person,Pay Per View Workshops,RA MA TV Live
ATTACH;FMTTYPE=image/jpeg:https://ramayogainstitute.com/wp-content/uploads/2024/03/Guru_Jagat_Kundalini_Yoga_Header4.jpg
END:VEVENT
END:VCALENDAR