BEGIN:VCALENDAR
VERSION:2.0
PRODID:-//RA MA LIFE - ECPv6.15.15//NONSGML v1.0//EN
CALSCALE:GREGORIAN
METHOD:PUBLISH
X-ORIGINAL-URL:https://ramayogainstitute.com
X-WR-CALDESC:Events for RA MA LIFE
REFRESH-INTERVAL;VALUE=DURATION:PT1H
X-Robots-Tag:noindex
X-PUBLISHED-TTL:PT1H
BEGIN:VTIMEZONE
TZID:America/Los_Angeles
BEGIN:DAYLIGHT
TZOFFSETFROM:-0800
TZOFFSETTO:-0700
TZNAME:PDT
DTSTART:20230312T100000
END:DAYLIGHT
BEGIN:STANDARD
TZOFFSETFROM:-0700
TZOFFSETTO:-0800
TZNAME:PST
DTSTART:20231105T090000
END:STANDARD
BEGIN:DAYLIGHT
TZOFFSETFROM:-0800
TZOFFSETTO:-0700
TZNAME:PDT
DTSTART:20240310T100000
END:DAYLIGHT
BEGIN:STANDARD
TZOFFSETFROM:-0700
TZOFFSETTO:-0800
TZNAME:PST
DTSTART:20241103T090000
END:STANDARD
BEGIN:DAYLIGHT
TZOFFSETFROM:-0800
TZOFFSETTO:-0700
TZNAME:PDT
DTSTART:20250309T100000
END:DAYLIGHT
BEGIN:STANDARD
TZOFFSETFROM:-0700
TZOFFSETTO:-0800
TZNAME:PST
DTSTART:20251102T090000
END:STANDARD
END:VTIMEZONE
BEGIN:VEVENT
DTSTART;TZID=America/Los_Angeles:20240812T000000
DTEND;TZID=America/Los_Angeles:20240815T090000
DTSTAMP:20260422T090954
CREATED:20240531T004537Z
LAST-MODIFIED:20240531T005309Z
UID:1924898-1723420800-1723712400@ramayogainstitute.com
SUMMARY:Summer of Sound: Flowers of Devotion
DESCRIPTION:SIGN UP\n\n\n\n\nFlowers Of Devotion\nwith Magdalena & Siri Manprem\nMonday\, August 12 – Thursday\, August 15\nIn Person only at RA MA Mallorca\nEarly Bird Pricing through Friday\, July 26\, 2024\n \n‘Flowers of Devotion’ is an immersive training experience where Magdalena and Siri Manprem will teach you how to make your mantra chanting more effective. \nYou will learn:\nThe rhythmic application of mantra\nSetting and maintaining your projection when chanting\nCorrect pronunciation \nYou’ll learn it through:\nNavel (3rd chakra) activation\nPrana balancing\nAwakening connection to your sound current \nGo on a journey of bringing your unique sound into life and grounding it into the earthly realms- your daily reality. \nAs we humbly put effort into learning how to chant mantra correctly and effectively\, we will symbolically offer our efforts as Flowers of Devotion on the altar of our spiritual development and growth. \nMantras we will be working with are: Sat Nam\, Wahe Guru\, Har\, Mul Mantra. \nUpon arrival\, you’ll be gifted a mala. We’ll teach you how to activate it\, use it\, and develop a personal connection to it. We’ll be using our malas throughout the training.
URL:https://ramayogainstitute.com/event/summer-of-sound-flowers-of-devotion/
LOCATION:RA MA Institute Mallorca\, Carrer de Despuig\, 51\, Palma\, Illes Balears\, 07013\, Spain
CATEGORIES:Courses & Events,In Person
ATTACH;FMTTYPE=image/jpeg:https://ramayogainstitute.com/wp-content/uploads/2024/05/SummerofSound2024_Header.jpg
END:VEVENT
BEGIN:VEVENT
DTSTART;TZID=America/Los_Angeles:20240815T000000
DTEND;TZID=America/Los_Angeles:20240818T090000
DTSTAMP:20260422T090954
CREATED:20240531T005133Z
LAST-MODIFIED:20240531T005133Z
UID:1924902-1723680000-1723971600@ramayogainstitute.com
SUMMARY:Summer of Sound: Songs of Bliss
DESCRIPTION:SIGN UP\n\n\n\n\nSongs of Bliss\n\nThursday\, August 15 – Sunday\, August 18\nIn Person only at RA MA Mallorca\n \nHave you ever experienced your breath and word being in a concert together?\nHave you experienced the sweetness of merging with a mantra?\nDo you want to know what it’s like to listen to the sound of your Soul? \nIn this retreat\, there will be plenty of time and space for you to relax into finding and enjoying your own sound frequency. Allow yourself to experience your natural vibration in a supportive setting of the peaceful Monastery and nature. \nWe will assist you by creating opportunities for directing your sound into the heart center and ushering it into heavenly realms. There\, we will listen deeply. \nDuring ‘Songs of Bliss’ you will:\nBuild a deep\, personal connection with mantra\nConnect to the joy of chanting in your unique sound current\nElevate your sound into a prayer \nWe will work with the Mul Mantra. \nUpon arrival you’ll be gifted a mala. We’ll teach you how to activate it\, use it correctly and  develop a personal connection to it. We’ll be using our malas throughout our time together. \nOur last full day together will be spent without speaking. A beautiful opportunity to experience the most beautiful sound of all- silence. Silence\, after all is the most blissful song of all.
URL:https://ramayogainstitute.com/event/summer-of-sound-songs-of-bliss/
LOCATION:RA MA Institute Mallorca\, Carrer de Despuig\, 51\, Palma\, Illes Balears\, 07013\, Spain
CATEGORIES:Courses & Events,In Person
ATTACH;FMTTYPE=image/jpeg:https://ramayogainstitute.com/wp-content/uploads/2024/05/SummerofSound2024_Header.jpg
END:VEVENT
BEGIN:VEVENT
DTSTART;TZID=America/Los_Angeles:20240817T150000
DTEND;TZID=America/Los_Angeles:20240817T170000
DTSTAMP:20260422T090954
CREATED:20240712T040550Z
LAST-MODIFIED:20240809T033441Z
UID:1933799-1723906800-1723914000@ramayogainstitute.com
SUMMARY:Koshi Noma with Anna Lesun-Meregalli
DESCRIPTION:SIGN UP\n\n\nKoshi Noma | An Evening Of Kundalini Yoga & Breathwork\nIntroducing Koshi Noma with Anna Lesun-Meregalli\nAn evening of Kundalini Yoga & Breathwork \nSaturday\, August 17\, 2024\n6:00-8:00pm EDT\nIn person at RA MA New York\n$33 \nKoshi Noma means “powerful woman” in the indigenous Shipibo language. Koshi Noma is a transformative journey for women and female identifying individuals who aspire to deeply connect with themselves\, unlock their full potential\, and harmonize with the world around them. This program provides a supportive and safe environment that helps participants understand their true values\, step into their power\, and align with their highest life mission. \nJoin us for the launch of Koshi Noma\, lear more about the program\, connect with like-minded people\, experience the healing power of kundalini yoga and breathwork. \nEvent open to everyone (not only women). \nKoshinoma.com
URL:https://ramayogainstitute.com/event/koshi-noma-with-anna-lesun-meregalli/
LOCATION:RA MA Institute New York\, 125 Stanton Street\, New York\, NY\, 10002\, United States
CATEGORIES:Courses & Events,In Person
ATTACH;FMTTYPE=image/jpeg:https://ramayogainstitute.com/wp-content/uploads/2024/07/RAMA_Koshi_Noma_Header.jpg
END:VEVENT
END:VCALENDAR