BEGIN:VCALENDAR
VERSION:2.0
PRODID:-//RA MA LIFE - ECPv6.15.15//NONSGML v1.0//EN
CALSCALE:GREGORIAN
METHOD:PUBLISH
X-ORIGINAL-URL:https://ramayogainstitute.com
X-WR-CALDESC:Events for RA MA LIFE
REFRESH-INTERVAL;VALUE=DURATION:PT1H
X-Robots-Tag:noindex
X-PUBLISHED-TTL:PT1H
BEGIN:VTIMEZONE
TZID:America/Los_Angeles
BEGIN:DAYLIGHT
TZOFFSETFROM:-0800
TZOFFSETTO:-0700
TZNAME:PDT
DTSTART:20230312T100000
END:DAYLIGHT
BEGIN:STANDARD
TZOFFSETFROM:-0700
TZOFFSETTO:-0800
TZNAME:PST
DTSTART:20231105T090000
END:STANDARD
BEGIN:DAYLIGHT
TZOFFSETFROM:-0800
TZOFFSETTO:-0700
TZNAME:PDT
DTSTART:20240310T100000
END:DAYLIGHT
BEGIN:STANDARD
TZOFFSETFROM:-0700
TZOFFSETTO:-0800
TZNAME:PST
DTSTART:20241103T090000
END:STANDARD
BEGIN:DAYLIGHT
TZOFFSETFROM:-0800
TZOFFSETTO:-0700
TZNAME:PDT
DTSTART:20250309T100000
END:DAYLIGHT
BEGIN:STANDARD
TZOFFSETFROM:-0700
TZOFFSETTO:-0800
TZNAME:PST
DTSTART:20251102T090000
END:STANDARD
END:VTIMEZONE
BEGIN:VEVENT
DTSTART;TZID=America/Los_Angeles:20240808T060000
DTEND;TZID=America/Los_Angeles:20240808T190000
DTSTAMP:20260422T090954
CREATED:20240710T204908Z
LAST-MODIFIED:20240724T055340Z
UID:1933571-1723096800-1723143600@ramayogainstitute.com
SUMMARY:888 Lion's Gate
DESCRIPTION:SIGN UP\nTUNE IN\n888 Lion’s Gate\nCOSMIC GATEWAY: A NUMEROLOGICAL PORTAL DAY\nWITH HARIJIWAN\, MANDEV\, ANA NETANEL\, PRITAM SIRI\, REMINGTON DONOVAN\, ELIZABETH RALPH & MORE SPECIAL GUESTS\nRA MA Los Angeles | RA MA New York | RA MA Mallorca | VIRTUALLY on RA MA TV \n8:8 Lion’s Gate is a yearly cosmic gateway that happens when the Sun returns to its home in Leo and the star Sirius rises in the sky into alignment with the Earth. This auspicious celestial window happens with the 8 numerological portal\, invoking the wisdom of the stars and unlocking an abundance of transformational energy. \n2024 is an “8” year (2+0+2+4 = 8\,) quantumly amplifying the frequency of this day – one of victory\, prosperity\, and courage. \nPractice on this super-charged day to set your energy\, intentions\, and prayers on the fast track to fruition. \nThe prosperity portal awaits… \nWHY WE PRACTICE ON THE LION’S GATE \n\nThe numerological activation of 8.8 on the 8th day of the 8th month\, in an 8 year\nThe sun illuminating the Earth in its home sign of Leo\nThe beam of the star Sirius\, our “Spiritual Sun”\, directly onto the Earth\n\nThe cosmic glow of Sirius\, the powerful beam of the Leo sun\, and the prosperous numerological current of 8 combine to provide an open runway for magnified manifesting energy. \nCatch this chance to create shifts in the etheric and earthy realms and connect with all that you are calling in. \nEXPERIENCE:  \n\nKundalini Yoga & Meditation Workshop with Harijiwan & Mandev\nHealing Sound Bath with Ana Netanel & her team of sound healers\nNew Perspectives & Wealth Insights with The Spiritual Investor\, Elizabeth Ralph\n\n888 Mystical Numerology with Remington Donovan\nCosmically Curated Yoga Sets & Meditations\nAstrological & Numerological downloads on the power of this auspicious portal\n\nGet the Early Bird!\n$159 through Tuesday\, July 30 | $199 after \n  \n 
URL:https://ramayogainstitute.com/event/888-lions-gate/
LOCATION:RA MA Los Angeles\, RA MA New York\, RA MA Mallorca\, Online
CATEGORIES:Courses & Events,In Person,Pay Per View Workshops
ATTACH;FMTTYPE=image/jpeg:https://ramayogainstitute.com/wp-content/uploads/2024/07/RAMA_888_LionsGate_Header_NEW.jpg
END:VEVENT
BEGIN:VEVENT
DTSTART;TZID=America/Los_Angeles:20240808T170000
DTEND;TZID=America/Los_Angeles:20240808T190000
DTSTAMP:20260422T090954
CREATED:20240710T210324Z
LAST-MODIFIED:20240717T032215Z
UID:1933575-1723136400-1723143600@ramayogainstitute.com
SUMMARY:888 Lion's Gate Meditative Momentum
DESCRIPTION:SIGN UP\nTUNE IN\n\n888 Lion’s Gate Meditative Momentum with Harijiwan and Mandev\nThursday\, August 8\, 2024\n5:00-7:00pm PDT\nRA MA Los Angeles\nRA MA TV\n$60 in advance\, $65 day of\n*Dinner included for in-person attendees
URL:https://ramayogainstitute.com/event/888-lions-gate-workshop-with-harijiwan-and-mandev/
LOCATION:RA MA Institute Los Angeles\, 1729 21st St\, Santa Monica\, CA\, 90404\, United States
CATEGORIES:Courses & Events,In Person,Pay Per View Workshops
ATTACH;FMTTYPE=image/jpeg:https://ramayogainstitute.com/wp-content/uploads/2024/07/RAMA_88_LionsGate_Harijiwan-Mandev-Header.jpg
END:VEVENT
BEGIN:VEVENT
DTSTART;TZID=America/Los_Angeles:20240808T200000
DTEND;TZID=America/Los_Angeles:20240808T210000
DTSTAMP:20260422T090954
CREATED:20240710T210405Z
LAST-MODIFIED:20240710T210405Z
UID:1933577-1723147200-1723150800@ramayogainstitute.com
SUMMARY:888 Lion’s Gate Sound Bath with Ana Netanel
DESCRIPTION:SIGN UP\nTUNE IN\n\n888 Lion’s Gate Sound Bath with Ana Netanel\nThursday\, August 8\, 2024\n8:00pm-9:30pm PDT\nRA MA Los Angeles\nRA MA TV\n$50 in advance\, $55 day of
URL:https://ramayogainstitute.com/event/888-lions-gate-sound-bath-with-ana-netanel/
LOCATION:RA MA Institute Los Angeles\, 1729 21st St\, Santa Monica\, CA\, 90404\, United States
CATEGORIES:Courses & Events,In Person,Pay Per View Workshops
ATTACH;FMTTYPE=image/jpeg:https://ramayogainstitute.com/wp-content/uploads/2024/07/RAMA_888_AnaNethanel_Header.jpg
END:VEVENT
END:VCALENDAR