BEGIN:VCALENDAR
VERSION:2.0
PRODID:-//RA MA LIFE - ECPv6.15.15//NONSGML v1.0//EN
CALSCALE:GREGORIAN
METHOD:PUBLISH
X-ORIGINAL-URL:https://ramayogainstitute.com
X-WR-CALDESC:Events for RA MA LIFE
REFRESH-INTERVAL;VALUE=DURATION:PT1H
X-Robots-Tag:noindex
X-PUBLISHED-TTL:PT1H
BEGIN:VTIMEZONE
TZID:America/Los_Angeles
BEGIN:DAYLIGHT
TZOFFSETFROM:-0800
TZOFFSETTO:-0700
TZNAME:PDT
DTSTART:20230312T100000
END:DAYLIGHT
BEGIN:STANDARD
TZOFFSETFROM:-0700
TZOFFSETTO:-0800
TZNAME:PST
DTSTART:20231105T090000
END:STANDARD
BEGIN:DAYLIGHT
TZOFFSETFROM:-0800
TZOFFSETTO:-0700
TZNAME:PDT
DTSTART:20240310T100000
END:DAYLIGHT
BEGIN:STANDARD
TZOFFSETFROM:-0700
TZOFFSETTO:-0800
TZNAME:PST
DTSTART:20241103T090000
END:STANDARD
BEGIN:DAYLIGHT
TZOFFSETFROM:-0800
TZOFFSETTO:-0700
TZNAME:PDT
DTSTART:20250309T100000
END:DAYLIGHT
BEGIN:STANDARD
TZOFFSETFROM:-0700
TZOFFSETTO:-0800
TZNAME:PST
DTSTART:20251102T090000
END:STANDARD
END:VTIMEZONE
BEGIN:VEVENT
DTSTART;TZID=America/Los_Angeles:20240712T150000
DTEND;TZID=America/Los_Angeles:20240712T180000
DTSTAMP:20260422T105421
CREATED:20240703T233332Z
LAST-MODIFIED:20240708T155302Z
UID:1932315-1720796400-1720807200@ramayogainstitute.com
SUMMARY:The High Summer Party at RA MA New York
DESCRIPTION:SIGN UP\nRA MA New York Invites You to … \nThe High Summer Party\nCommunity Night\nFriday\, July 12\, 2024\n6:00pm EDT\nIn Person at RA MA New York \nBack by popular demand! Join us for an Evening of Meditation\, Sound Bath & Dinner at RA MA New York. \n6:00PM EDT\nMahan Jaap Mantra Meditation\nwith Pritam Siri & Crew \n7:30PM EDT\nZen Patio Dinner\nBring something vegetarian to share \nWant to intro your friends to RA MA New York?\nThey get complimentary access for this community night – just come thru! \n 
URL:https://ramayogainstitute.com/event/the-high-summer-party-at-ra-ma-new-york/
LOCATION:RA MA Institute New York\, 125 Stanton Street\, New York\, NY\, 10002\, United States
CATEGORIES:Courses & Events,In Person,RA MA TV Live
ATTACH;FMTTYPE=image/jpeg:https://ramayogainstitute.com/wp-content/uploads/2023/03/HighSummerParty_RAMA_NYC_Header.jpg
END:VEVENT
END:VCALENDAR