BEGIN:VCALENDAR
VERSION:2.0
PRODID:-//RA MA LIFE - ECPv6.15.15//NONSGML v1.0//EN
CALSCALE:GREGORIAN
METHOD:PUBLISH
X-ORIGINAL-URL:https://ramayogainstitute.com
X-WR-CALDESC:Events for RA MA LIFE
REFRESH-INTERVAL;VALUE=DURATION:PT1H
X-Robots-Tag:noindex
X-PUBLISHED-TTL:PT1H
BEGIN:VTIMEZONE
TZID:America/Los_Angeles
BEGIN:DAYLIGHT
TZOFFSETFROM:-0800
TZOFFSETTO:-0700
TZNAME:PDT
DTSTART:20230312T100000
END:DAYLIGHT
BEGIN:STANDARD
TZOFFSETFROM:-0700
TZOFFSETTO:-0800
TZNAME:PST
DTSTART:20231105T090000
END:STANDARD
BEGIN:DAYLIGHT
TZOFFSETFROM:-0800
TZOFFSETTO:-0700
TZNAME:PDT
DTSTART:20240310T100000
END:DAYLIGHT
BEGIN:STANDARD
TZOFFSETFROM:-0700
TZOFFSETTO:-0800
TZNAME:PST
DTSTART:20241103T090000
END:STANDARD
BEGIN:DAYLIGHT
TZOFFSETFROM:-0800
TZOFFSETTO:-0700
TZNAME:PDT
DTSTART:20250309T100000
END:DAYLIGHT
BEGIN:STANDARD
TZOFFSETFROM:-0700
TZOFFSETTO:-0800
TZNAME:PST
DTSTART:20251102T090000
END:STANDARD
END:VTIMEZONE
BEGIN:VEVENT
DTSTART;TZID=America/Los_Angeles:20240704T080000
DTEND;TZID=America/Los_Angeles:20240704T120000
DTSTAMP:20260422T090934
CREATED:20240628T075639Z
LAST-MODIFIED:20240703T035923Z
UID:1931317-1720080000-1720094400@ramayogainstitute.com
SUMMARY:4th of July 2024
DESCRIPTION:SIGN UP\nTUNE IN\n4th of July 2024\nThursday\, July 4\, 2024\n8:00am-12:00pm PDT\nRA MA Los Angeles | RA MA New York\nRA MA TV \n8:00am-9:30am PDT \n11:00am – 12:30pm EDT\nTHE LIBERATED MIND\nKundalini Yoga & Meditation with Pritam Siri\nIn-Person at RA MA New York\nVirtually on RA MA TV Live \n9:00am-10:30am PDT\n4th of July Class\nKundalini Yoga & Meditation with Mandev\nIn-Person at RA MA Los Angeles\nVirtually on RA MA TV Live \n11:00am-12:00pm PDT\nKundalini Yoga & Meditation with Jot Gianpreet\nIn-Person at RA MA Los Angeles\nVirtually on RA MA TV Live
URL:https://ramayogainstitute.com/event/4th-of-july-2024/
LOCATION:RA MA Los Angeles\, RA MA New York & Online
CATEGORIES:Courses & Events,In Person,RA MA TV Live
ATTACH;FMTTYPE=image/webp:https://ramayogainstitute.com/wp-content/uploads/2024/06/4th-of-July.webp
END:VEVENT
BEGIN:VEVENT
DTSTART;TZID=America/Los_Angeles:20240705T040000
DTEND;TZID=America/Los_Angeles:20240705T210000
DTSTAMP:20260422T090934
CREATED:20240628T060616Z
LAST-MODIFIED:20240702T014330Z
UID:1931297-1720152000-1720213200@ramayogainstitute.com
SUMMARY:New Moon in Cancer
DESCRIPTION:SIGN UP\nTUNE IN\nNew Moon in Cancer\nFriday\, July 5\, 2024\n4:00am-8:00pm\nRA MA Los Angeles & RA MA New York\nVirtually on RA MA TV \n4:00am-6:30am EDT/PDT\nWhite Sun Sadhana\nIn-Person at RA MA Los Angeles & New York\nVirtually on RA MA TV Community Content Channel \n9:00am – 10:30am PDT\nKundalini Yoga & Meditation with Mandev\nRA MA Los Angeles & RA MA TV Live \n11:00am – 12:00pm PDT\nWater Wisdom with Anneka\nRA MA Los Angeles & RA MA TV Live \n12:15pm – 12:45pm PDT\nLooking Up: Cancer New Moon Astrology with Teg Prakash\nRA MA Los Angeles & RA MA TV Live \n4:00pm-6:00pm PDT\nTHE UPWARD SPIRAL: A New Moon Healing Circle with Pritam Siri\nRA MA New York & RA MA TV\n$50 in Advance | $55 Day of \n5:30pm-6:30pm PDT\nHealer’s Heart\nNew Moon Deep Meditation & Gong with Teg Prakash\nRA MA Los Angeles & RA MA TV Live \n7:00pm-9:00pm PDT\nVisions of Destiny\nNew Moon in Cancer Workshop\nwith Gurujas\nRA MA Los Angeles & RA MA TV\n$50 In Advance\, $55 Day of
URL:https://ramayogainstitute.com/event/new-moon-in-cancer/
LOCATION:RA MA Los Angeles\, RA MA New York & Online
CATEGORIES:Courses & Events,In Person,Pay Per View Workshops,RA MA TV Live
ATTACH;FMTTYPE=image/jpeg:https://ramayogainstitute.com/wp-content/uploads/2024/06/NewMoon_Cancer_Header.jpg
END:VEVENT
END:VCALENDAR