BEGIN:VCALENDAR
VERSION:2.0
PRODID:-//RA MA LIFE - ECPv6.15.15//NONSGML v1.0//EN
CALSCALE:GREGORIAN
METHOD:PUBLISH
X-WR-CALNAME:RA MA LIFE
X-ORIGINAL-URL:https://ramayogainstitute.com
X-WR-CALDESC:Events for RA MA LIFE
REFRESH-INTERVAL;VALUE=DURATION:PT1H
X-Robots-Tag:noindex
X-PUBLISHED-TTL:PT1H
BEGIN:VTIMEZONE
TZID:America/Los_Angeles
BEGIN:DAYLIGHT
TZOFFSETFROM:-0800
TZOFFSETTO:-0700
TZNAME:PDT
DTSTART:20230312T100000
END:DAYLIGHT
BEGIN:STANDARD
TZOFFSETFROM:-0700
TZOFFSETTO:-0800
TZNAME:PST
DTSTART:20231105T090000
END:STANDARD
BEGIN:DAYLIGHT
TZOFFSETFROM:-0800
TZOFFSETTO:-0700
TZNAME:PDT
DTSTART:20240310T100000
END:DAYLIGHT
BEGIN:STANDARD
TZOFFSETFROM:-0700
TZOFFSETTO:-0800
TZNAME:PST
DTSTART:20241103T090000
END:STANDARD
BEGIN:DAYLIGHT
TZOFFSETFROM:-0800
TZOFFSETTO:-0700
TZNAME:PDT
DTSTART:20250309T100000
END:DAYLIGHT
BEGIN:STANDARD
TZOFFSETFROM:-0700
TZOFFSETTO:-0800
TZNAME:PST
DTSTART:20251102T090000
END:STANDARD
END:VTIMEZONE
BEGIN:VEVENT
DTSTART;TZID=America/Los_Angeles:20240325T040000
DTEND;TZID=America/Los_Angeles:20240325T210000
DTSTAMP:20260422T171617
CREATED:20240322T220836Z
LAST-MODIFIED:20240322T220836Z
UID:1907341-1711339200-1711400400@ramayogainstitute.com
SUMMARY:Lunar Eclipse | Full Moon in Libra
DESCRIPTION:SIGN UP\nTUNE IN\nMonday\, March 25\, 2024\nLunar Eclipse – Full Moon in Libra\n4:00am-6:30am PDT + EDT\n2.5 Guru Ram Das Healing Meditation\nSpecial Sadhana\nIn Person at RA MA Los Angeles PDT\nIn Person at RA MA New York EDT\nVirtually on RA MA TV Community Content Channel PDT / EDT \n6:00am-7:30am PDT \n9:00am – 10:30am EDT\nGODDESS OF LOVE\nHarmonize & Elevate All Your Relations\nLunar Eclipse Full Moon Special Class with Pritam Siri\nIn Person at RA MA New York\nVirtually on RA MA TV Live \n9:00am-10:30am PDT\nLunar Eclipse\nKundalini Yoga + Long Mul Mantra\nwith Mandev\nIn Person at RA MA Los Angeles\nVirtually on RA MA TV Live \n10:00am-12:00pm PDT \n6:00pm-8:00pm CET\nFull Moon in Libra:\nThe Art of Equilibrium with NAM SATYA\nIn Person at RA MA Mallorca\nVirtually on RA MA TV\nPPV 50/55\n*Included for RA MA TV Live \n11:00am-12:15pm PDT\nShadow & Light | Lunar Eclipse Kundalini Yoga\nwith Teg Prakash\nIn Person at RA MA Los Angeles\nVirtually on RA MA TV Live \n12:15pm-12:45pm PDT\nLooking up: ECLIPSE Astrology\nwith Teg Prakash\ncomplimentary\nIn Person at RA MA Los Angeles\nVirtually on RA MA TV Community Content Channel\n+ RA MA TV Live \n2:45pm-3:45pm PDT\n5:45pm – 6:45pm EDT\nINTUITION | Kundalini Yoga & Meditation with Seva Jagat\nIn Person at RA MA New York\nVirtually on RA MA TV Live \n4:00pm-6:00pm PDT \n7:00pm – 9:00pm EDT\nVenusian Full Moon\nLunar Eclipse Workshop\nwith Siri Rishi\nIn Person at RA MA New York\nVirtually on RA MA TV\n$50 In Advance\, $55 Day of \n5:30pm-6:30pm PDT\nDoorway to Bliss\nEclipse Kundalini Yoga & Deep Meditation\nwith Jen Saltiel\nIn Person at RA MA Los Angeles\nVirtually on RA MA TV Live \n7:00pm-9:00pm PDT\nIllumination Acceleration\nLunar Eclipse Kundalini Yoga & Deep Meditation Workshop\nwith Gurujas\nIn Person at RA MA Los Angeles\nVirtually on RA MA TV\n$50 In Advance\, $55 Day of
URL:https://ramayogainstitute.com/event/lunar-eclipse-full-moon-in-libra/
LOCATION:RA MA Los Angeles\, RA MA New York & Online
CATEGORIES:Courses & Events,In Person,Pay Per View Workshops,RA MA TV Live
ATTACH;FMTTYPE=image/jpeg:https://ramayogainstitute.com/wp-content/uploads/2024/03/LunarEclipse_Header.jpg
END:VEVENT
BEGIN:VEVENT
DTSTART;TZID=America/Los_Angeles:20240325T100000
DTEND;TZID=America/Los_Angeles:20240325T120000
DTSTAMP:20260422T171617
CREATED:20240322T233737Z
LAST-MODIFIED:20240323T093120Z
UID:1907397-1711360800-1711368000@ramayogainstitute.com
SUMMARY:The Art of Equilibrium with Nam Satya
DESCRIPTION:SIGN UP\nTUNE IN\n\nThe Art of Equilibrium\nEclipse Kundalini Yoga Workshop with Nam Satya\nMonday\, March 25\, 2024\n6:00pm-8:00pm CET\n10:00am-2:00pm PDT\n1:00pm-5:00pm EDT\nIn Person at RA MA Mallorca\nVirtually on RA MA TV \nKeeping balance means constantly being in motion\, and having the agility and intelligence to know where to more\, how much to move and when to move. \nOn the Full Moon in Libra join me/Nam Satya for a special workshop where we explore the art of equilibrium\, and root more deeply in our innate knowing. \nThis day is also a Lunar Eclipse\, a very auspicious day\, when the moon’s light is blocked by the sun. The eclipses can take us places fast. It’s a very good day to meditate and tune in with a focus
URL:https://ramayogainstitute.com/event/the-art-of-equilibrium-with-nam-satya/
LOCATION:RA MA Mallorca & Online
CATEGORIES:Courses & Events,In Person,Pay Per View Workshops,RA MA TV Live
ATTACH;FMTTYPE=image/jpeg:https://ramayogainstitute.com/wp-content/uploads/2024/03/Nam-Satya-Mallorca-Kundalini-Teacher.jpg
END:VEVENT
BEGIN:VEVENT
DTSTART;TZID=America/Los_Angeles:20240325T160000
DTEND;TZID=America/Los_Angeles:20240325T180000
DTSTAMP:20260422T171617
CREATED:20240322T232522Z
LAST-MODIFIED:20240323T093802Z
UID:1907377-1711382400-1711389600@ramayogainstitute.com
SUMMARY:Venusian Full Moon with Siri Rishi
DESCRIPTION:SIGN UP\nTUNE IN\n\nVenusian Full Moon\nLunar Eclipse Workshop with Siri Rishi\nMonday\, March 25\, 2024\n7:00pm – 9:00pm EDT\nRA MA New York | RA MA TV\n$50 In Advance\, $55 Day of \nThis Venusian Lunar Eclipse Full Moon is a powerful window to release and make peace with all of our relations. Strengthen\, affirm and balance the relations that are working and peacefully release what no longer is. We will dance the Shiva Shakti\, beautify our heart\, and embrace MAAT. MAAT is the Neter that represents justice\, truth\, and equanimity. \n\n 
URL:https://ramayogainstitute.com/event/venusian-full-moon-with-siri-rishi/
LOCATION:RA MA Intitute New York and online
CATEGORIES:In Person,Pay Per View Workshops
ATTACH;FMTTYPE=image/jpeg:https://ramayogainstitute.com/wp-content/uploads/2024/03/LunarEclipse_SiriRishi_header.jpg
END:VEVENT
BEGIN:VEVENT
DTSTART;TZID=America/Los_Angeles:20240325T190000
DTEND;TZID=America/Los_Angeles:20240325T210000
DTSTAMP:20260422T171617
CREATED:20240322T231950Z
LAST-MODIFIED:20240323T093931Z
UID:1907367-1711393200-1711400400@ramayogainstitute.com
SUMMARY:Illumination Acceleration with Gurujas
DESCRIPTION:SIGN UP\nTUNE IN\n\nIllumination Acceleration\nPractice on the Full Moon Lunar Eclipse in Libra with Gurujas\nMonday\, March 25\, 2024\n7:00pm-9:00pm PDT\nIn Person at RA MA Los Angeles\nVirtually on RA MA TV\n$50 ahead of time\, $55 day of \n\n\n\nAbout Gurujas\n\n\n\n\nGurujas is a kundalini yoga teacher and a singer\, songwriter\, and musician. She has gained a worldwide reputation as the lead singer of White Sun\, a Grammy-award winning band\, and a Billboard #1 artist. Gurujas’ kundalini practice began in 2005\, when she met her teacher\, Harijiwan\, who is also the founder of White Sun. \nAs a kundalini yoga teacher\, she is known as being intensely devoted to the accuracy of the teachings\, as well as incorporating contemporary science and practical every-day applications. As a singer\, she is known for her distinctive vocals\, her ethereal live performances\, and her ability to heal through song. She spends her time creating music\, teaching kundalini yoga\, working with clients\, and raising her two young daughters.
URL:https://ramayogainstitute.com/event/illumination-acceleration-with-gurujas/
LOCATION:Online
CATEGORIES:In Person,Pay Per View Workshops
ATTACH;FMTTYPE=image/jpeg:https://ramayogainstitute.com/wp-content/uploads/2024/03/LunarEclipse_Gurujas_Header.jpg
END:VEVENT
BEGIN:VEVENT
DTSTART;TZID=America/Los_Angeles:20240330T190000
DTEND;TZID=America/Los_Angeles:20240330T210000
DTSTAMP:20260422T171617
CREATED:20240313T193940Z
LAST-MODIFIED:20240329T134411Z
UID:1904380-1711825200-1711832400@ramayogainstitute.com
SUMMARY:Live Kirtan with Govind Das | March 2024
DESCRIPTION:SIGN UP\nTUNE IN\n\nLive Kirtan with Govind Das \n\nSaturday\, March 30\, 2024\n7:00pm – 9:00pm\nVirtually on RA MA TV with 48 hour replay \nKirtan is an ancient bhakti yoga practice using chanting\, mantra\, and music as an expression of our devotion and heartfelt prayer. \nExperience this live Kirtan presented by Bhakti Yoga Shala\, led and directed by Govind Das\, who aims to spread the practice of bhakti around the world. At the Shala\, teachings of the great saint Neem Karoli Baba are followed\, who celebrated all Gods as one. Anyone and everyone is welcome\, and we are happy to serve you on your spiritual journey. \n\n 
URL:https://ramayogainstitute.com/event/live-kirtan-with-govind-das-jacqueline-march-2024/
LOCATION:Online
CATEGORIES:In Person,Pay Per View Workshops
ATTACH;FMTTYPE=image/jpeg:https://ramayogainstitute.com/wp-content/uploads/2023/04/Govind-Das-Kirtan-Horizontal.jpg
END:VEVENT
BEGIN:VEVENT
DTSTART;TZID=America/Los_Angeles:20240331T003000
DTEND;TZID=America/Los_Angeles:20240331T123000
DTSTAMP:20260422T171617
CREATED:20240328T005908Z
LAST-MODIFIED:20240328T005908Z
UID:1908569-1711845000-1711888200@ramayogainstitute.com
SUMMARY:Easter Sunday with RA MA
DESCRIPTION:SIGN UP\nTUNE IN\nEaster Sunday with RA MA\nSunday\, March 31\, 2024\nTimes in PDT. +3 EDT +9 CEST \n12:30am-2:00pm PDT \n9:30am– 11:00am CEST\nLight of God\nKundalini Yoga & Meditation\nwith Siri Manprem\nRA MA Los Angeles\nRA MA TV Live \n8:00am-9:30am PDT \n11:00am-12:30pm EST\nSpiritual Spring: Cosmic Easter Practices\nKundalini Yoga & Meditation with Pritam Siri\nRA MA New York\nRA MA TV Live \n9:00am-10:30am PDT\nInner Light\nKundalini Yoga & Meditation on Easter Sunday\nwith Gurujas\nRA MA Los Angeles\nRA MA TV Live \n11:00am-12:30pm PDT\nLiving Truth\nKundalini Yoga & Meditation\nwith Mikal\nRA MA Los Angeles\nRA MA TV Live \n 
URL:https://ramayogainstitute.com/event/easter-sunday-with-ra-ma/
LOCATION:RA MA Los Angeles\, RA MA New York & Online
CATEGORIES:Courses & Events,In Person,Pay Per View Workshops,RA MA TV Live
ATTACH;FMTTYPE=image/jpeg:https://ramayogainstitute.com/wp-content/uploads/2024/03/RAMA_EasterSunday_Header.jpg
END:VEVENT
END:VCALENDAR