BEGIN:VCALENDAR
VERSION:2.0
PRODID:-//RA MA LIFE - ECPv6.15.15//NONSGML v1.0//EN
CALSCALE:GREGORIAN
METHOD:PUBLISH
X-WR-CALNAME:RA MA LIFE
X-ORIGINAL-URL:https://ramayogainstitute.com
X-WR-CALDESC:Events for RA MA LIFE
REFRESH-INTERVAL;VALUE=DURATION:PT1H
X-Robots-Tag:noindex
X-PUBLISHED-TTL:PT1H
BEGIN:VTIMEZONE
TZID:America/Los_Angeles
BEGIN:DAYLIGHT
TZOFFSETFROM:-0800
TZOFFSETTO:-0700
TZNAME:PDT
DTSTART:20230312T100000
END:DAYLIGHT
BEGIN:STANDARD
TZOFFSETFROM:-0700
TZOFFSETTO:-0800
TZNAME:PST
DTSTART:20231105T090000
END:STANDARD
BEGIN:DAYLIGHT
TZOFFSETFROM:-0800
TZOFFSETTO:-0700
TZNAME:PDT
DTSTART:20240310T100000
END:DAYLIGHT
BEGIN:STANDARD
TZOFFSETFROM:-0700
TZOFFSETTO:-0800
TZNAME:PST
DTSTART:20241103T090000
END:STANDARD
BEGIN:DAYLIGHT
TZOFFSETFROM:-0800
TZOFFSETTO:-0700
TZNAME:PDT
DTSTART:20250309T100000
END:DAYLIGHT
BEGIN:STANDARD
TZOFFSETFROM:-0700
TZOFFSETTO:-0800
TZNAME:PST
DTSTART:20251102T090000
END:STANDARD
END:VTIMEZONE
BEGIN:VEVENT
DTSTART;TZID=America/Los_Angeles:20240308T073000
DTEND;TZID=America/Los_Angeles:20240308T213000
DTSTAMP:20260422T211826
CREATED:20240307T201101Z
LAST-MODIFIED:20240307T201101Z
UID:1902793-1709883000-1709933400@ramayogainstitute.com
SUMMARY:International Women's Day 2024
DESCRIPTION:SIGN UP\nTUNE IN\nInternational Women’s Day\nFriday\, March 8\, 2024\n7:30am–9:30pm\n7:30am-8:45am PST\nAWLS Presents: International Women’s Day\nFemme Body Radiance\nVirtually only on Zoom \n9:00am-10:30am PST\nSeriously Shakti\nInternational Women’s Day Class\nwith Mandev\nRA MA Los Angeles\nRA MA TV Live \n11:00am-12:00pm PST\nAdi Shakti Activation\nwith Ana Netanel\nRA MA Los Angeles\nRA MA TV Live \n2:45pm-3:45pm PST\nWOMAN AS POWER\nwith Pritam Siri\nRA MA New York\nRA MA TV Live\n+ Complimentary on the RA MA TV Community content channel \n7:30pm-9:30pm\nHealing Ceremony with Onyi Love\nIn Person only at RA MA Los Angeles
URL:https://ramayogainstitute.com/event/international-womens-day-2024/
LOCATION:RA MA Los Angeles\, RA MA New York & Online
CATEGORIES:Courses & Events,In Person,Pay Per View Workshops,RA MA TV Live
ATTACH;FMTTYPE=image/jpeg:https://ramayogainstitute.com/wp-content/uploads/2024/03/WomensDay_Header3.jpg
END:VEVENT
BEGIN:VEVENT
DTSTART;TZID=America/Los_Angeles:20240310T040000
DTEND;TZID=America/Los_Angeles:20240310T210000
DTSTAMP:20260422T211826
CREATED:20240307T195629Z
LAST-MODIFIED:20240307T195629Z
UID:1902790-1710043200-1710104400@ramayogainstitute.com
SUMMARY:New Moon in Pisces | March 2024
DESCRIPTION:SIGN UP\nTUNE IN\nSunday\, March 10\, 2024\n4:00am-7:30pm PST\n4:00am-6:30am PST + EST\nNew Moon Healing Sadhana\n2.5 Hours of Guru Ram Das Recitations\nIn Person at RA MA Los Angeles (PST)\nVirtually on the RA MA TV Community Content Channel (PST)\nVirtually only on Zoom (EST) \n16:00-18:00 CEST | 7:00am-9:00am PST | 10:00am-12:00pm EST\nNEW MOON IN PISCES: MASTERY & MYSTERY\nWorkshop with Nam Satya\nIn Person at RA MA Mallorca\nVirtually on RA MA TV ($44 in advance\, $55 day of)\n*Included for members of RA MA TV Live \n8:00am-9:30am PST\nNEW MOON IN PISCES | Super Sensory System Kundalini Yoga & Deep Meditation\nwith Pritam Siri\nIn Person at RA MA New York\nVirtually on RA MA TV Live \n9:00am-10:30am PST\nThe Mystic’s Journey\nPisces New Moon\nwith Gurujas\nIn Person at RA MA Los Angeles\nVirtually on RA MA TV Live \n11:00am-12:30am PST\nNectar of the Mind| Moving Beyond the Mental Construct\nwith Mikal\nIn Person at RA MA Los Angeles\nVirtually on RA MA TV Live \n3:00pm – 4:30pm PST /6:00 – 7:30pm EST\nNEW MOON IN PISCES: EXPERIENCE OF THE EXPANDED SELF\nwith Desirée Pais\nRA MA New York\nRA MA TV – $50\, $55 \n4:00pm-5:30pm PST\nDiagonal Moves\nPisces New Moon\nwith Atma Santokh\nIn Person at RA MA Los Angeles\nVirtually on RA MA TV Live \n  \n  \n  \n  \n 
URL:https://ramayogainstitute.com/event/new-moon-in-pisces-march-2024/
LOCATION:RA MA Los Angeles\, RA MA New York & Online
CATEGORIES:Courses & Events,In Person,Pay Per View Workshops,RA MA TV Live
ATTACH;FMTTYPE=image/jpeg:https://ramayogainstitute.com/wp-content/uploads/2023/05/NewMoon_Taurus_Kundalini_Header2.jpg
END:VEVENT
BEGIN:VEVENT
DTSTART;TZID=America/Los_Angeles:20240310T070000
DTEND;TZID=America/Los_Angeles:20240310T090000
DTSTAMP:20260422T211826
CREATED:20240310T065207Z
LAST-MODIFIED:20240310T065207Z
UID:1903433-1710054000-1710061200@ramayogainstitute.com
SUMMARY:Mastery & Mystery
DESCRIPTION:SIGN UP\nTUNE IN\nMastery & Mystery\nA New Moon in Pisces Workshop with Nam Satya\nSunday\, March 10\, 2024\n16:00-18:00 CEST\n7:00am-9:00am PST\n10:00am-12:00pm EST \nIn Person at RA MA Mallorca\nVirtually on RA MA TV \nAllow yourself to flow with this New Moon in Pisces. \nWe’re not looking for the answers\, but rather finding comfort rooted in the mysteries of life. Sometimes when we let go the tides will take us exactly to where we need to be. Don’t waste energy fighting the stream. Things are not always as they seem—look for the deeper meaning and layers. Pisces dwell in that mysterious space. And finding security and comfort in the changes and the unknown is a high attainment. \nPractice Kundalini Yoga & Meditation to support your joyous surrender into this infinite flow of life and the universe with Nam Satya supported by the energy of the Pisces New Moon. \nAbout Nam Satya Kaur\nNam Satya is a Kundalini Yoga and meditation teacher\, creative artisan\, mother and former model. She’s the founder of Nam Satya CO and Mothers Divine.  After more than a decade working in the fashion industry she decided to “leave it all behind” and move to Mallorca to study with her spiritual teacher\, Guru Jagat. \nNam Satya’s work as a teacher is dedicated to elevating the consciousness of the planet\, particularly through helping mothers thrive in pregnancy and motherhood\, thereby raising the new generation of kind and conscious children of the Aquarian Age. \n 
URL:https://ramayogainstitute.com/event/mastery-mystery/
LOCATION:RA MA Mallorca & Online
CATEGORIES:In Person,Pay Per View Workshops,RA MA TV Live
ATTACH;FMTTYPE=image/jpeg:https://ramayogainstitute.com/wp-content/uploads/2024/03/MASTERYMYSTERY_NamSatya_Header.jpg
END:VEVENT
BEGIN:VEVENT
DTSTART;TZID=America/Los_Angeles:20240310T150000
DTEND;TZID=America/Los_Angeles:20240310T163000
DTSTAMP:20260422T211826
CREATED:20240310T072210Z
LAST-MODIFIED:20240310T072210Z
UID:1903435-1710082800-1710088200@ramayogainstitute.com
SUMMARY:Experience of the Expanded Self
DESCRIPTION:SIGN UP\nTUNE IN\n\nNew Moon in Pisces:\nExperience of the Expanded Self with Desirée Pais\nSunday\, March 10\, 2024\n3:00pm – 4:30pm PST\n6:00 – 7:30pm EST\nRA MA New York | RA MA TV\nIn Advance $50 | Day of $55
URL:https://ramayogainstitute.com/event/experience-of-the-expanded-self/
LOCATION:Online
CATEGORIES:In Person,Pay Per View Workshops
ATTACH;FMTTYPE=image/jpeg:https://ramayogainstitute.com/wp-content/uploads/2023/10/RAMA_Kundalini_DesireePais_Header.jpg
END:VEVENT
END:VCALENDAR