BEGIN:VCALENDAR
VERSION:2.0
PRODID:-//RA MA LIFE - ECPv6.15.15//NONSGML v1.0//EN
CALSCALE:GREGORIAN
METHOD:PUBLISH
X-WR-CALNAME:RA MA LIFE
X-ORIGINAL-URL:https://ramayogainstitute.com
X-WR-CALDESC:Events for RA MA LIFE
REFRESH-INTERVAL;VALUE=DURATION:PT1H
X-Robots-Tag:noindex
X-PUBLISHED-TTL:PT1H
BEGIN:VTIMEZONE
TZID:America/Los_Angeles
BEGIN:DAYLIGHT
TZOFFSETFROM:-0800
TZOFFSETTO:-0700
TZNAME:PDT
DTSTART:20230312T100000
END:DAYLIGHT
BEGIN:STANDARD
TZOFFSETFROM:-0700
TZOFFSETTO:-0800
TZNAME:PST
DTSTART:20231105T090000
END:STANDARD
BEGIN:DAYLIGHT
TZOFFSETFROM:-0800
TZOFFSETTO:-0700
TZNAME:PDT
DTSTART:20240310T100000
END:DAYLIGHT
BEGIN:STANDARD
TZOFFSETFROM:-0700
TZOFFSETTO:-0800
TZNAME:PST
DTSTART:20241103T090000
END:STANDARD
BEGIN:DAYLIGHT
TZOFFSETFROM:-0800
TZOFFSETTO:-0700
TZNAME:PDT
DTSTART:20250309T100000
END:DAYLIGHT
BEGIN:STANDARD
TZOFFSETFROM:-0700
TZOFFSETTO:-0800
TZNAME:PST
DTSTART:20251102T090000
END:STANDARD
END:VTIMEZONE
BEGIN:VEVENT
DTSTART;TZID=America/Los_Angeles:20240209T150000
DTEND;TZID=America/Los_Angeles:20240209T180000
DTSTAMP:20260423T004009
CREATED:20240201T210631Z
LAST-MODIFIED:20240207T202833Z
UID:1892449-1707490800-1707501600@ramayogainstitute.com
SUMMARY:Vibrate the Cosmos
DESCRIPTION:SIGN UP\nTUNE IN\nVIBRATE THE COSMOS\nA New Moon in Aquarius Workshop with Pritam Siri\nThere is unlimited prosperity to be tapped within your life. When you practice on these special lunar days\, you can place yourself in alignment with the infinite energy of the cosmos. \nFriday\, February 9\, 2024\n6:00pm-8:00pm EST\n$50 In Advance | $55 Day of\nRA MA New York | Virtually on RA MA TV \nFollowed by: \nRELAX IN THE COSMOS\nA New Moon in Aquarius Gong Bath with Florian Hartmann\nFriday\, February 9\, 2024\n8:00pm-9:00pm EST\nRA MA New York | Virtually on RA MA TV \n 
URL:https://ramayogainstitute.com/event/vibrate-the-cosmos/
LOCATION:RA MA Intitute New York and online
CATEGORIES:In Person,Pay Per View Workshops
ATTACH;FMTTYPE=image/jpeg:https://ramayogainstitute.com/wp-content/uploads/2024/01/VibratetheCosmos_PritamSiri_Header.jpg
END:VEVENT
BEGIN:VEVENT
DTSTART;TZID=America/Los_Angeles:20240209T170000
DTEND;TZID=America/Los_Angeles:20240209T190000
DTSTAMP:20260423T004009
CREATED:20240201T210937Z
LAST-MODIFIED:20240207T202810Z
UID:1892451-1707498000-1707505200@ramayogainstitute.com
SUMMARY:Frequency of Luck
DESCRIPTION:SIGN UP\nTUNE IN\nThe Frequency of Luck\nNew Moon Workshop with Harmanjot\n\n\nFriday\, February 9\, 2024\n5:00pm-7:00pm PST\n $50 In Advance | $55 Day of\nRA MA Los Angeles  | Virtually on RA MA TV
URL:https://ramayogainstitute.com/event/frequency-of-luck/
LOCATION:Online
CATEGORIES:In Person,Pay Per View Workshops
ATTACH;FMTTYPE=image/jpeg:https://ramayogainstitute.com/wp-content/uploads/2022/05/Harmanjot-Kaur-Vimeo-Thumbnail.jpg
END:VEVENT
BEGIN:VEVENT
DTSTART;TZID=America/Los_Angeles:20240211T130000
DTEND;TZID=America/Los_Angeles:20240211T140000
DTSTAMP:20260423T004009
CREATED:20240111T002807Z
LAST-MODIFIED:20240121T184923Z
UID:1887746-1707656400-1707660000@ramayogainstitute.com
SUMMARY:Vocal Lab: Zoom Calls with Gurujas
DESCRIPTION:SIGN UP\nTUNE IN\n\n\nVocal Lab: The Legacy of Your Sound\nA 6-week Immersive Sound Course with Gurujas\n\n\n\n\nVocal Lab 2024 Zoom Calls with Gurujas\n#1 | Sunday January 28\n#2 | Sunday\, February 4\n#3 | Sunday\, February 11\n#4 | Sunday\, February 18\n1:00pm-2:00pm PST\nRA MA TV\nRA MA Los Angeles \n\nThe format of Vocal Lab is designed to give you both an experiential energetic transformation\, skill development and exercises related to the technical development of your voice\, and guidance and support every step of the way. \nIf you aspire to make music\, during this course you will produce your own musical track. \nIf you aspire to make great impact on the planet (& if you find yourself here\, you do)\, you will use your voice as a creation vessel to leave a lasting positive impact. \n\n\n\nAbout Gurujas\n\n\n\n\nGurujas is a kundalini yoga teacher and a singer\, songwriter\, and musician. She has gained a worldwide reputation as the lead singer of White Sun\, a Grammy-award winning band\, and a Billboard #1 artist. Gurujas’ kundalini practice began in 2005\, when she met her teacher\, Harijiwan\, who is also the founder of White Sun. \nAs a kundalini yoga teacher\, she is known as being intensely devoted to the accuracy of the teachings\, as well as incorporating contemporary science and practical every-day applications. As a singer\, she is known for her distinctive vocals\, her ethereal live performances\, and her ability to heal through song. She spends her time creating music\, teaching kundalini yoga\, working with clients\, and raising her two young daughters.
URL:https://ramayogainstitute.com/event/vocal-lab-zoom-calls-with-gurujas-2024-02-11/2024-02-11/
LOCATION:Online
CATEGORIES:In Person,Pay Per View Workshops
ATTACH;FMTTYPE=image/jpeg:https://ramayogainstitute.com/wp-content/uploads/2024/01/VocalLab_Gurujas_Header13.jpg
END:VEVENT
END:VCALENDAR