BEGIN:VCALENDAR
VERSION:2.0
PRODID:-//RA MA LIFE - ECPv6.15.15//NONSGML v1.0//EN
CALSCALE:GREGORIAN
METHOD:PUBLISH
X-WR-CALNAME:RA MA LIFE
X-ORIGINAL-URL:https://ramayogainstitute.com
X-WR-CALDESC:Events for RA MA LIFE
REFRESH-INTERVAL;VALUE=DURATION:PT1H
X-Robots-Tag:noindex
X-PUBLISHED-TTL:PT1H
BEGIN:VTIMEZONE
TZID:America/Los_Angeles
BEGIN:DAYLIGHT
TZOFFSETFROM:-0800
TZOFFSETTO:-0700
TZNAME:PDT
DTSTART:20230312T100000
END:DAYLIGHT
BEGIN:STANDARD
TZOFFSETFROM:-0700
TZOFFSETTO:-0800
TZNAME:PST
DTSTART:20231105T090000
END:STANDARD
BEGIN:DAYLIGHT
TZOFFSETFROM:-0800
TZOFFSETTO:-0700
TZNAME:PDT
DTSTART:20240310T100000
END:DAYLIGHT
BEGIN:STANDARD
TZOFFSETFROM:-0700
TZOFFSETTO:-0800
TZNAME:PST
DTSTART:20241103T090000
END:STANDARD
BEGIN:DAYLIGHT
TZOFFSETFROM:-0800
TZOFFSETTO:-0700
TZNAME:PDT
DTSTART:20250309T100000
END:DAYLIGHT
BEGIN:STANDARD
TZOFFSETFROM:-0700
TZOFFSETTO:-0800
TZNAME:PST
DTSTART:20251102T090000
END:STANDARD
END:VTIMEZONE
BEGIN:VEVENT
DTSTART;TZID=America/Los_Angeles:20240120T080000
DTEND;TZID=America/Los_Angeles:20240120T093000
DTSTAMP:20260423T012441
CREATED:20240112T134238Z
LAST-MODIFIED:20240119T231049Z
UID:1888168-1705737600-1705743000@ramayogainstitute.com
SUMMARY:Balance and Harmony| Kundalini Yoga & Meditation with Kelle Jacob
DESCRIPTION:Tune in virtually on RA MA TV LIVE or IN PERSON @ RA MA New York \nDelve into practices that promote emotional balance and mental clarity. This week\, you’ll explore techniques to harmonize your inner world\, helping you navigate life’s ups and downs with greater ease. Discover how inner balance leads to outer confidence. \n  \n \n  \n 
URL:https://ramayogainstitute.com/event/balance-and-harmony-kundalini-yoga-meditation-with-kelle-jacob/
LOCATION:RA MA New York & Online
CATEGORIES:In Person,Pay Per View Workshops,RA MA TV Live
ATTACH;FMTTYPE=image/jpeg:https://ramayogainstitute.com/wp-content/uploads/2023/06/Kelle-Jacobs-Kundalini-Yoga-Meditation-Teacher.jpg
END:VEVENT
BEGIN:VEVENT
DTSTART;TZID=America/Los_Angeles:20240120T090000
DTEND;TZID=America/Los_Angeles:20240120T180000
DTSTAMP:20260423T012441
CREATED:20240109T234024Z
LAST-MODIFIED:20240110T083448Z
UID:1887458-1705741200-1705773600@ramayogainstitute.com
SUMMARY:Beam Energy: You Are What You Project
DESCRIPTION:SIGN UP\nTUNE IN\n\n\n\n\nBeam Energy — You Are What You Project\nwith Mandev & Shabadpreet\nSaturday\, January 20  – Sunday\, January 21\, 2024\nIn-Person At RA MA Mallorca + Virtually On RA MA TV\n$199 early bird | $249 after \nYOU WILL: \n\nLearn how to enhance your beam power by activating your pineal and pituitary glands\nRaise the frequency of your upper chakras to align with the will of your higher self\nPractice yoga to strengthen your system hold more energy for manifestation\nPractice deep meditations to enhance your ability to focus and beam on your goals\, intentions\, & desires\nCreate the outcomes you want to experience with ease & grace\nDiscover and practice chanting the sound codes that will help speed up the materialization of your desired outcomes\n& So much more\n\n\n\n\n\n 
URL:https://ramayogainstitute.com/event/beam-energy-you-are-what-you-project/
LOCATION:Online
CATEGORIES:Courses & Events,In Person,Pay Per View Workshops
ATTACH;FMTTYPE=image/jpeg:https://ramayogainstitute.com/wp-content/uploads/2024/01/ImmenseGrace_Beam_Header.jpg
END:VEVENT
BEGIN:VEVENT
DTSTART;TZID=America/Los_Angeles:20240120T150000
DTEND;TZID=America/Los_Angeles:20240120T170000
DTSTAMP:20260423T012441
CREATED:20240112T232047Z
LAST-MODIFIED:20240119T020901Z
UID:1888270-1705762800-1705770000@ramayogainstitute.com
SUMMARY:Aquarian Shift: The Essence of Transformation
DESCRIPTION:SIGN UP\nTUNE IN\nAquarian Shift: The Essence of Transformation\nAstrology + Kundalini Yoga & Meditation Workshop\nwith Teg Prakash and Harnoon Kaur\n\n\nThe movement of Pluto into the sign of Aquarius on January 20th stands to be one of the most powerful movements of the year. This shift is one that’s been greatly anticipated by astrologers everywhere\, as it signals a large step in the transformation of consciousness necessary to continue into the Aquarian age.\nJoin Teg Prakash and Harnoon Kaur in a series of powerful Kundalini Yoga & Meditation practices to harness the energy of this once-in-a-lifetime cosmic power day.\nTune your human vessel to higher energies\, shed and be reborn from the limited self\, and open to the frequency of inevitable miracles.\n\n\nSaturday\, January 20\, 2024\n6:00pm – 8:00pm PST\nIn Person at RA MA Los Angeles\nVirtually on RA MA TV\n$40 In Advance / $45 Day Of\n\n\nAbout Cher Jolyne | Harnoor Kaur\nCher Jolyne / Harnoor Kaur is a ‘metaphysical midwife’ and uses her gifts to see others in their highest and gently guide them towards reclaiming their power. Harnoor has spent 15 years studying the MIND/SOUL/BODY connection through advanced yoga asana and kriya\, ceremonial arts and a plethora of healing modalities. She believes “Prayer is a highly sophisticated technology that we embody through activating the divinity within.” Her workshops will leave you feeling strong and nourished.\n\nAbout Teg Prakash\nTeg Prakash is an evolutionary astrologer and Kundalini Yoga & Meditation teacher aiming to connect the tools and practices of yoga with the knowledge of self gained through astrology. He began the study of astrology in 2017 from an early curiosity that quickly grew into an endless fascination with the vast world that can be revealed within a birth chart. Teg Prakash continues to deepen his understanding of evolutionary astrology and broaden his study of the human form and human experience through the studies of mythology and archetypes\, kundalini yoga\, sound healing\, psychology and physiology\, as well as various intuitive arts. His desire is to offer an understanding of the complexity of human life that is accessible\, practical and relevant to each individual soul he has the opportunity and blessing to work with.
URL:https://ramayogainstitute.com/event/aquarian-shift-the-essence-of-transformation/
LOCATION:Online on RA MA TV
CATEGORIES:In Person,Pay Per View Workshops
ATTACH;FMTTYPE=image/jpeg:https://ramayogainstitute.com/wp-content/uploads/2024/01/AquarianShift_Header.jpg
END:VEVENT
BEGIN:VEVENT
DTSTART;TZID=America/Los_Angeles:20240120T180000
DTEND;TZID=America/Los_Angeles:20240120T200000
DTSTAMP:20260423T012441
CREATED:20240119T195723Z
LAST-MODIFIED:20240119T195723Z
UID:1890128-1705773600-1705780800@ramayogainstitute.com
SUMMARY:The Breathwork Journey with Anna Lesun
DESCRIPTION:SIGN UP\nTUNE IN\n\nThe Breathwork Journey with Anna Lesun\n\n\nSaturday\, January 20\, 2024\n6:00pm-8:00pm EST\nIn Person at RA MA New York\nVirtually on RA MA TV \nDive into a 2-hour breathwork journey to delve deep into your subconscious and create a massive shift. \nWhether you seek an energy shift in your life\, trauma resolution\, or self-manifestation\, this workshop might be your gateway. Based on the breathing technique called “Vivation”\, this experience includes sound healing and body psychotherapy. \n\nAccess the ancient wisdom stored within your body and let go of analytical thinking\, allowing profound healing to unfold naturally.\nDiscover the power of your breath and unearth hidden facets of your being\, fostering growth\, healing\, and self-empowerment.\n\n*This event is not suitable for pregnant women.
URL:https://ramayogainstitute.com/event/the-breathwork-journey-with-anna-lesun/
LOCATION:Online
CATEGORIES:In Person,Pay Per View Workshops
ATTACH;FMTTYPE=image/jpeg:https://ramayogainstitute.com/wp-content/uploads/2024/01/BreathworkJourney_Anna_Lesun_Header.jpg
END:VEVENT
BEGIN:VEVENT
DTSTART;TZID=America/Los_Angeles:20240121T140000
DTEND;TZID=America/Los_Angeles:20240121T160000
DTSTAMP:20260423T012441
CREATED:20240110T235223Z
LAST-MODIFIED:20240111T001706Z
UID:1887714-1705845600-1705852800@ramayogainstitute.com
SUMMARY:Vocal Lab: Kick-Off Workshop
DESCRIPTION:SIGN UP\nTUNE IN\n\n\nVocal Lab: The Legacy of Your Sound\nA 6-week Immersive Sound Course with Gurujas\n\n\n\n\nVocal Lab Course Kick-Off Workshop with Gurujas\nSunday\, January 21\, 2024\n2:00pm-4:00pm PST\nRA MA TV\nRA MA Los Angeles \n\nThe format of Vocal Lab is designed to give you both an experiential energetic transformation\, skill development and exercises related to the technical development of your voice\, and guidance and support every step of the way. \nIf you aspire to make music\, during this course you will produce your own musical track. \nIf you aspire to make great impact on the planet (& if you find yourself here\, you do)\, you will use your voice as a creation vessel to leave a lasting positive impact. \n\n\n\nAbout Gurujas\n\n\n\n\nGurujas is a kundalini yoga teacher and a singer\, songwriter\, and musician. She has gained a worldwide reputation as the lead singer of White Sun\, a Grammy-award winning band\, and a Billboard #1 artist. Gurujas’ kundalini practice began in 2005\, when she met her teacher\, Harijiwan\, who is also the founder of White Sun. \nAs a kundalini yoga teacher\, she is known as being intensely devoted to the accuracy of the teachings\, as well as incorporating contemporary science and practical every-day applications. As a singer\, she is known for her distinctive vocals\, her ethereal live performances\, and her ability to heal through song. She spends her time creating music\, teaching kundalini yoga\, working with clients\, and raising her two young daughters.
URL:https://ramayogainstitute.com/event/vocal-lab-the-legacy-of-your-sound/
LOCATION:Online
CATEGORIES:In Person,Pay Per View Workshops
ATTACH;FMTTYPE=image/jpeg:https://ramayogainstitute.com/wp-content/uploads/2024/01/VocalLab_Gurujas_Header13.jpg
END:VEVENT
END:VCALENDAR