BEGIN:VCALENDAR
VERSION:2.0
PRODID:-//RA MA LIFE - ECPv6.15.15//NONSGML v1.0//EN
CALSCALE:GREGORIAN
METHOD:PUBLISH
X-WR-CALNAME:RA MA LIFE
X-ORIGINAL-URL:https://ramayogainstitute.com
X-WR-CALDESC:Events for RA MA LIFE
REFRESH-INTERVAL;VALUE=DURATION:PT1H
X-Robots-Tag:noindex
X-PUBLISHED-TTL:PT1H
BEGIN:VTIMEZONE
TZID:America/Los_Angeles
BEGIN:DAYLIGHT
TZOFFSETFROM:-0800
TZOFFSETTO:-0700
TZNAME:PDT
DTSTART:20230312T100000
END:DAYLIGHT
BEGIN:STANDARD
TZOFFSETFROM:-0700
TZOFFSETTO:-0800
TZNAME:PST
DTSTART:20231105T090000
END:STANDARD
BEGIN:DAYLIGHT
TZOFFSETFROM:-0800
TZOFFSETTO:-0700
TZNAME:PDT
DTSTART:20240310T100000
END:DAYLIGHT
BEGIN:STANDARD
TZOFFSETFROM:-0700
TZOFFSETTO:-0800
TZNAME:PST
DTSTART:20241103T090000
END:STANDARD
BEGIN:DAYLIGHT
TZOFFSETFROM:-0800
TZOFFSETTO:-0700
TZNAME:PDT
DTSTART:20250309T100000
END:DAYLIGHT
BEGIN:STANDARD
TZOFFSETFROM:-0700
TZOFFSETTO:-0800
TZNAME:PST
DTSTART:20251102T090000
END:STANDARD
END:VTIMEZONE
BEGIN:VEVENT
DTSTART;TZID=America/Los_Angeles:20240111T040000
DTEND;TZID=America/Los_Angeles:20240111T203000
DTSTAMP:20260422T232710
CREATED:20240107T214141Z
LAST-MODIFIED:20240107T214141Z
UID:1886772-1704945600-1705005000@ramayogainstitute.com
SUMMARY:New Moon in Capricorn | January 2024
DESCRIPTION:SIGN UP\nTUNE IN\nThursday\, January 11\, 2024\n6:00am – 7:30am PST\nENERGIZE\nKundalini Yoga & Meditation with Pritam Siri\nRA MA New York\nRA MA TV Live \n7:00am-8:00am PST\nAWAKEN\nKundalini Power Hour with Kim Krans\nRA MA Los Angeles\nRA MA TV Live \n9:00am-10:30am PST\nNew Moon in Capricorn\nKundalini Yoga & Meditation with Jen Saltiel\nRA MA Los Angeles\nRA MA TV Live \n11:00am-12:00pm PST\nNew Moon in Capricorn with Kira\nRA MA Los Angeles\nRA MA TV Live \n12:15pm-12:45pm PST\nLooking Up: New Moon in Capricorn Astrology\nwith Teg Prakash\nRA MA TV Community Content Channel\nRA MA Los Angeles \n4:00pm – 6:00pm PST\nCaliber of Infinity\nNew Moon in Capricorn Workshop with Pritam Siri\nRA MA New York\nRA MA TV \n5:00pm-7:00pm PST\n1/11 Gateway to Infinity\nKundalini Yoga & Deep Meditation Workshop\nwith Gurujas\nRA MA Los Angeles\nRA MA TV \n7:00pm-8:30pm PST\nNew Moon Chi Restoration\nKundalini Yoga\, Meditation\, & Deep Healing with Shabadpreet\nRA MA Los Angeles\nRA MA TV Live \n 
URL:https://ramayogainstitute.com/event/new-moon-in-capricorn-january-2024/
LOCATION:RA MA Los Angeles\, RA MA New York & Online
CATEGORIES:Courses & Events,In Person,Pay Per View Workshops,RA MA TV Live
ATTACH;FMTTYPE=image/jpeg:https://ramayogainstitute.com/wp-content/uploads/2024/01/RAMA_NewMoonCapricorn_Header.jpg
END:VEVENT
BEGIN:VEVENT
DTSTART;TZID=America/Los_Angeles:20240111T160000
DTEND;TZID=America/Los_Angeles:20240111T183000
DTSTAMP:20260422T232710
CREATED:20240111T214330Z
LAST-MODIFIED:20240111T214426Z
UID:1887929-1704988800-1704997800@ramayogainstitute.com
SUMMARY:Caliber of Infinity with Pritam Siri
DESCRIPTION:SIGN UP\nTUNE IN\nCaliber of Infinity\nNew Moon in Capricorn with Pritam Siri\nThursday\, January 11\, 2024\n7:00pm – 9:00pm EST\nIn Person at RA MA New York\nVirtually on RA MA TV \nThe first New Moon of 2024 which takes place on the numerological portal of 1/11 invites us to evoke radical self-responsibility in all facets of our life\, including the great work of relating to our own infinite nature.\nExperience an evening workshop of kundalini yoga & meditation practices designed to wake the dormant power within and inspire great action for this lunar cycle and entire new year. \nAbout Pritam Siri\nPritam Siri is an artist and yogi based in New York City. She has dedicated her time to studying\, working\, and traveling with Guru Jagat from 2016 until her passing in 2021. She is an active student of Kundalini Yoga and Meditation as Taught by Yogi Bhajan and is committed to practicing and sharing kundalini yoga technology.\nHer classes are open and welcome to beginners and seasoned practitioners. \n@pritamsiri
URL:https://ramayogainstitute.com/event/caliber-of-infinity-with-pritam-siri/
LOCATION:RA MA Intitute New York and online
CATEGORIES:In Person,Pay Per View Workshops
ATTACH;FMTTYPE=image/jpeg:https://ramayogainstitute.com/wp-content/uploads/2024/01/Pritam-Siri-New-Moon-1.11_Header.jpg
END:VEVENT
BEGIN:VEVENT
DTSTART;TZID=America/Los_Angeles:20240111T170000
DTEND;TZID=America/Los_Angeles:20240111T190000
DTSTAMP:20260422T232710
CREATED:20240107T213545Z
LAST-MODIFIED:20240110T233423Z
UID:1886773-1704992400-1704999600@ramayogainstitute.com
SUMMARY:1/11 Gateway to Infinity with Gurujas
DESCRIPTION:SIGN UP\nTUNE IN\n1/11 Gateway to Infinity\nKundalini Yoga & Deep Meditation Workshop with Gurujas\nThursday\, January 11\, 2024\n5:00pm-7:00pm PST\nRA MA Los Angeles\nRA MA TV \n\n\nAbout Gurujas\n\n\n\n\nGurujas is a kundalini yoga teacher and a singer\, songwriter\, and musician. She has gained a worldwide reputation as the lead singer of White Sun\, a Grammy-award winning band\, and a Billboard #1 artist. Gurujas’ kundalini practice began in 2005\, when she met her teacher\, Harijiwan\, who is also the founder of White Sun. \nAs a kundalini yoga teacher\, she is known as being intensely devoted to the accuracy of the teachings\, as well as incorporating contemporary science and practical every-day applications. As a singer\, she is known for her distinctive vocals\, her ethereal live performances\, and her ability to heal through song. She spends her time creating music\, teaching kundalini yoga\, working with clients\, and raising her two young daughters.
URL:https://ramayogainstitute.com/event/1-11-gateway-to-infinity-with-gurujas/
LOCATION:Online
CATEGORIES:In Person,Pay Per View Workshops
ATTACH;FMTTYPE=image/jpeg:https://ramayogainstitute.com/wp-content/uploads/2024/01/RAMA_Gurujas_Header8.jpg
END:VEVENT
END:VCALENDAR