BEGIN:VCALENDAR
VERSION:2.0
PRODID:-//RA MA LIFE - ECPv6.15.15//NONSGML v1.0//EN
CALSCALE:GREGORIAN
METHOD:PUBLISH
X-WR-CALNAME:RA MA LIFE
X-ORIGINAL-URL:https://ramayogainstitute.com
X-WR-CALDESC:Events for RA MA LIFE
REFRESH-INTERVAL;VALUE=DURATION:PT1H
X-Robots-Tag:noindex
X-PUBLISHED-TTL:PT1H
BEGIN:VTIMEZONE
TZID:America/Los_Angeles
BEGIN:DAYLIGHT
TZOFFSETFROM:-0800
TZOFFSETTO:-0700
TZNAME:PDT
DTSTART:20220313T100000
END:DAYLIGHT
BEGIN:STANDARD
TZOFFSETFROM:-0700
TZOFFSETTO:-0800
TZNAME:PST
DTSTART:20221106T090000
END:STANDARD
BEGIN:DAYLIGHT
TZOFFSETFROM:-0800
TZOFFSETTO:-0700
TZNAME:PDT
DTSTART:20230312T100000
END:DAYLIGHT
BEGIN:STANDARD
TZOFFSETFROM:-0700
TZOFFSETTO:-0800
TZNAME:PST
DTSTART:20231105T090000
END:STANDARD
BEGIN:DAYLIGHT
TZOFFSETFROM:-0800
TZOFFSETTO:-0700
TZNAME:PDT
DTSTART:20240310T100000
END:DAYLIGHT
BEGIN:STANDARD
TZOFFSETFROM:-0700
TZOFFSETTO:-0800
TZNAME:PST
DTSTART:20241103T090000
END:STANDARD
BEGIN:DAYLIGHT
TZOFFSETFROM:-0800
TZOFFSETTO:-0700
TZNAME:PDT
DTSTART:20250309T100000
END:DAYLIGHT
BEGIN:STANDARD
TZOFFSETFROM:-0700
TZOFFSETTO:-0800
TZNAME:PST
DTSTART:20251102T090000
END:STANDARD
END:VTIMEZONE
BEGIN:VEVENT
DTSTART;TZID=America/Los_Angeles:20231226T040000
DTEND;TZID=America/Los_Angeles:20231226T203000
DTSTAMP:20260422T232714
CREATED:20231221T220814Z
LAST-MODIFIED:20231221T220814Z
UID:1881824-1703563200-1703622600@ramayogainstitute.com
SUMMARY:Full Moon in Cancer | December 2023
DESCRIPTION:SIGN UP\nTUNE IN\nTuesday\, December 26\, 2023 \n4:00am-6:30am PST\n2.5 Hours of Bahota Karam\nIn-Person at RA MA Los Angeles\nVirtually on RA MA TV \n9:00am-10:30am PST\nKundalini Yoga + Meditation\nwith Atma Santokh\nIn-Person at RA MA Los Angeles\nVirtually on RA MA TV Live \n11:00am-12:00pm PST\nKundalini Yoga + the Cosmos with Teg Prakash\nIn-Person at RA MA Los Angeles\nVirtually on RA MA TV Live \n12:00pm-12:30pm PST\nLooking Up: Full Moon in Cancer Astrology\nwith Teg Prakash\nIn-Person at RA MA Los Angeles\nVirtually on RA MA TV Community Content Channel \n4:00pm-6:00pm PST\nFull Moon in Cancer\nWorkshop with Siri Rishi\nRA MA New York\nRA MA TV Live \n5:30pm-7:00pm PST\nFull Moon Kundalini Yoga & Meditation from\nThe Golden Archives with Guru Jagat\nRA MA TV Live \n7:00pm-8:30pm PST\nFull Moon: Inner Sound with Shabadpreet\nKundalini Yoga & Meditation\nwith Shabadpreet\nIn-Person at RA MA Los Angeles\nVirtually on RA MA TV Live
URL:https://ramayogainstitute.com/event/full-moon-in-cancer-december-2023/
LOCATION:RA MA Los Angeles\, RA MA New York & Online
CATEGORIES:Courses & Events,In Person,Pay Per View Workshops,RA MA TV Live
ATTACH;FMTTYPE=image/jpeg:https://ramayogainstitute.com/wp-content/uploads/2023/12/FullMoon_Cancer_Header.jpg
END:VEVENT
BEGIN:VEVENT
DTSTART;TZID=America/Los_Angeles:20231231T180000
DTEND;TZID=America/Los_Angeles:20240101T003000
DTSTAMP:20260422T232714
CREATED:20231221T060157Z
LAST-MODIFIED:20231229T055707Z
UID:1881607-1704045600-1704069000@ramayogainstitute.com
SUMMARY:New Year’s Eve 2024 Elevation Celebration
DESCRIPTION:SIGN UP\nTUNE IN\nRA MA Presents\nNew Year’s Eve 2024\nElevation Celebration\nwith Gurujas\, Shabadpreet\, Kim Krans\, & friends\n6:00pm-12:30am PST\nIn-Person Dinner to Follow \nRA MA Los Angeles\nRA MA New York\nRA MA TV \nLaunch into 2024 ready for ultimate expansion\, acceleration\, & limitless love.\nJoin us for an evening of deep practice\, 2024 celestial and esoteric insights\, high-vibe community\, and an elevated frequency to carry you forward wherever you want to go in 2024. \nWe can’t wait to celebrate with you. \n$99 until Thursday\, December 28/ $111 after
URL:https://ramayogainstitute.com/event/new-years-eve-2024-elevation-celebration/
LOCATION:Online
CATEGORIES:Courses & Events,In Person
ATTACH;FMTTYPE=image/jpeg:https://ramayogainstitute.com/wp-content/uploads/2023/12/NewYearsEve_2024_NEW_Header.jpg
END:VEVENT
END:VCALENDAR