BEGIN:VCALENDAR
VERSION:2.0
PRODID:-//RA MA LIFE - ECPv6.15.15//NONSGML v1.0//EN
CALSCALE:GREGORIAN
METHOD:PUBLISH
X-WR-CALNAME:RA MA LIFE
X-ORIGINAL-URL:https://ramayogainstitute.com
X-WR-CALDESC:Events for RA MA LIFE
REFRESH-INTERVAL;VALUE=DURATION:PT1H
X-Robots-Tag:noindex
X-PUBLISHED-TTL:PT1H
BEGIN:VTIMEZONE
TZID:America/Los_Angeles
BEGIN:DAYLIGHT
TZOFFSETFROM:-0800
TZOFFSETTO:-0700
TZNAME:PDT
DTSTART:20220313T100000
END:DAYLIGHT
BEGIN:STANDARD
TZOFFSETFROM:-0700
TZOFFSETTO:-0800
TZNAME:PST
DTSTART:20221106T090000
END:STANDARD
BEGIN:DAYLIGHT
TZOFFSETFROM:-0800
TZOFFSETTO:-0700
TZNAME:PDT
DTSTART:20230312T100000
END:DAYLIGHT
BEGIN:STANDARD
TZOFFSETFROM:-0700
TZOFFSETTO:-0800
TZNAME:PST
DTSTART:20231105T090000
END:STANDARD
BEGIN:DAYLIGHT
TZOFFSETFROM:-0800
TZOFFSETTO:-0700
TZNAME:PDT
DTSTART:20240310T100000
END:DAYLIGHT
BEGIN:STANDARD
TZOFFSETFROM:-0700
TZOFFSETTO:-0800
TZNAME:PST
DTSTART:20241103T090000
END:STANDARD
END:VTIMEZONE
BEGIN:VEVENT
DTSTART;TZID=America/Los_Angeles:20231106T090000
DTEND;TZID=America/Los_Angeles:20231106T103000
DTSTAMP:20260422T151501
CREATED:20231030T024537Z
LAST-MODIFIED:20231103T031709Z
UID:1864840-1699261200-1699266600@ramayogainstitute.com
SUMMARY:Kundalini Yoga & Meditation + Long Mul Mantra  with Ashley Kassan
DESCRIPTION:TUNE IN\nKundalini Yoga and Meditation all levels
URL:https://ramayogainstitute.com/event/kundalini-yoga-meditation-long-mul-mantra-with-ashley-kassan-2/
LOCATION:Online
CATEGORIES:In Person,RA MA TV Live
ATTACH;FMTTYPE=image/jpeg:https://ramayogainstitute.com/wp-content/uploads/2023/10/IMG_0648.jpg
END:VEVENT
BEGIN:VEVENT
DTSTART;TZID=America/Los_Angeles:20231106T143000
DTEND;TZID=America/Los_Angeles:20231106T153000
DTSTAMP:20260422T151501
CREATED:20230924T235557Z
LAST-MODIFIED:20231030T032634Z
UID:1860128-1699281000-1699284600@ramayogainstitute.com
SUMMARY:ENERGIZE YOURSELF| Kundalini Yoga & Meditation with Seva Jagat
DESCRIPTION:TUNE IN VIRTUALLY\nOR \nIN PERSON\nMONDAYS  | 5:30-6:30 EDT\nVirtually on RA MA TV Live\nIn Person @ RA MA New York \nAbout Seva Jagat \nSeva Jagat is an Independent Photographer from Puerto Rico\, he worked and travelled with Guru Jagat and the RA MA Global Crew since he arrived to Venice\, California. Becoming Guru Jagat’s Iconic and personal photographer\, her passion for the Kundalini Technology and the Teachings of Yogi Bhajan\, promptly had him teaching in both English and Spanish\, launching You Tube Channels and traveling the World as private teacher for celebrities. \nWhen he is not teaching or filming at the RA MA New York Studio you can catch him surfing\, skating or at an art gallery where probably some of his Photographs are part of it. \n@sevajagat
URL:https://ramayogainstitute.com/event/kundalini-yoga-mediation-with-seva-jagat-2-2023-11-06/
LOCATION:RA MA Intitute New York and online
CATEGORIES:In Person,RA MA TV Live
ATTACH;FMTTYPE=image/jpeg:https://ramayogainstitute.com/wp-content/uploads/2023/09/Seva-Jagat-Plane.jpg
END:VEVENT
BEGIN:VEVENT
DTSTART;TZID=America/Los_Angeles:20231106T160000
DTEND;TZID=America/Los_Angeles:20231106T173000
DTSTAMP:20260422T151501
CREATED:20231030T031654Z
LAST-MODIFIED:20231030T031654Z
UID:1864856-1699286400-1699291800@ramayogainstitute.com
SUMMARY:Kundalini Yoga & Meditation with Siri Rishi
DESCRIPTION:TUNE IN\nSiri Rishi Kaur: (Creatrix / Mother / Entrepreneur) This Avant-Garde Yogini is a KRI Teacher of Kundalini Yoga as taught by the Mahan Tantric Yogi Bhajan. Siri Rishi is a Moon Dancer and Sacred Pipe Carrier. She walks the path of many spiritual lineages and enjoys weaving the threads back into oneness. Siri Rishi has been teaching Kundalini Yoga and Meditation globally for over 20 years. She delivers this ancient technology authentically and with reverence.
URL:https://ramayogainstitute.com/event/kundalini-yoga-meditation-with-siri-rishi/2023-11-06/
LOCATION:RA MA Intitute New York and online
CATEGORIES:In Person,RA MA TV Live
ATTACH;FMTTYPE=image/jpeg:https://ramayogainstitute.com/wp-content/uploads/2022/04/Siri-Rishi-4.25.22.jpg
END:VEVENT
BEGIN:VEVENT
DTSTART;TZID=America/Los_Angeles:20231106T173000
DTEND;TZID=America/Los_Angeles:20231106T184500
DTSTAMP:20260422T151501
CREATED:20231030T025822Z
LAST-MODIFIED:20231030T025822Z
UID:1864844-1699291800-1699296300@ramayogainstitute.com
SUMMARY:Kundalini Yoga & Meditation with Atma Santokh
DESCRIPTION:TUNE IN\nSpending time with Atma Santokh is an invitation into joyful integration of the vast perfection of Spirit into this faceted human vehicle\, arriving home in rich and rising expression Me. Experience challenging mudras\, deep mantra selections\, and transformative meditation experiences with practical\, engaging\, and down-to-earth verbiage to express the deep love he has for\, and practical application of\, the Kundalini Yoga teachings and techniques. \n  \n@atmasantokh108
URL:https://ramayogainstitute.com/event/kundalini-yoga-meditation-with-atma-santokh/2023-11-06/
LOCATION:Online
CATEGORIES:In Person,RA MA TV Live
ATTACH;FMTTYPE=image/jpeg:https://ramayogainstitute.com/wp-content/uploads/2022/08/Atma-Santokh-Cal-Thumbnail.jpg
END:VEVENT
BEGIN:VEVENT
DTSTART;TZID=America/Los_Angeles:20231106T190000
DTEND;TZID=America/Los_Angeles:20231106T203000
DTSTAMP:20260422T151501
CREATED:20231030T030203Z
LAST-MODIFIED:20231030T032734Z
UID:1864851-1699297200-1699302600@ramayogainstitute.com
SUMMARY:BEAM| Kundalini Yoga & Meditation with Jen Saltiel
DESCRIPTION:TUNE IN\nJen Saltiel has been practicing and working with the Kundalini Yoga technology since 2012. As a devout student of Guru Jagat’s and Chief of Staff of the RA MA Institute Global team\, she has a deep connection with the teachings and genuine love and desire to deliver them to the world. \n@jensaltiel
URL:https://ramayogainstitute.com/event/beam-kundalini-yoga-meditation-with-jen-saltiel-6/2023-11-06/
LOCATION:Online
CATEGORIES:In Person,RA MA TV Live
ATTACH;FMTTYPE=image/jpeg:https://ramayogainstitute.com/wp-content/uploads/2022/06/Jen-Saltiel-Vimeo-Thumbnail.jpg
END:VEVENT
BEGIN:VEVENT
DTSTART;TZID=America/Los_Angeles:20231107T090000
DTEND;TZID=America/Los_Angeles:20231107T103000
DTSTAMP:20260422T151501
CREATED:20230708T001408Z
LAST-MODIFIED:20231030T024949Z
UID:1812150-1699347600-1699353000@ramayogainstitute.com
SUMMARY:Kundalini Yoga & Meditation with Jen Saltiel
DESCRIPTION:TUNE IN LIVE OR IN PERSON\nJen Saltiel has been practicing and working with the Kundalini Yoga technology since 2012. As a devout student of Guru Jagat’s and member of RA MA Institute Global team\, she has a deep connection with the teachings and genuine love and desire to deliver them to the world. Her classes are clear\, uplifting\, rhythmic\, and meditative. \n 
URL:https://ramayogainstitute.com/event/kundalini-yoga-meditation-with-mandev-11-2023-11-07/
LOCATION:Online
CATEGORIES:In Person,RA MA TV Live
ATTACH;FMTTYPE=image/jpeg:https://ramayogainstitute.com/wp-content/uploads/2021/01/Screen-Shot-2021-01-07-at-1.48.41-AM.jpg
END:VEVENT
BEGIN:VEVENT
DTSTART;TZID=America/Los_Angeles:20231107T190000
DTEND;TZID=America/Los_Angeles:20231107T203000
DTSTAMP:20260422T151501
CREATED:20231104T024915Z
LAST-MODIFIED:20231107T171249Z
UID:1866546-1699383600-1699389000@ramayogainstitute.com
SUMMARY:Kundalini Yoga & Meditation with Kira
DESCRIPTION:TUNE IN\n\n\n\n\n\nKi*ra\n1.(ra) she who radiates (ki) universal energy\n2. a loving & joyous guide for activating the innate\, fountainous energy within you \nWith deep enthusiasm\, Kira embodies a wealth of experience from 8+ years practicing & training with many of training with many of the best Kundalini Teachers in the world.\nAs part of the team at RA MA \, she is fully immerse in a daily playing ground for honing yogic skills. \nShe invites you to experience more of your boundless nature\, your power as a creator\, your mental luminosity\, your unique spirit\, and your infinite capacity to love and uplift.
URL:https://ramayogainstitute.com/event/kundalini-yoga-meditation-with-kim-krans-13/
LOCATION:Online
CATEGORIES:In Person,RA MA TV Live
ATTACH;FMTTYPE=image/jpeg:https://ramayogainstitute.com/wp-content/uploads/2022/03/Ego-Eradicator-Kira.jpg
END:VEVENT
BEGIN:VEVENT
DTSTART;TZID=America/Los_Angeles:20231108T080000
DTEND;TZID=America/Los_Angeles:20231108T093000
DTSTAMP:20260422T151501
CREATED:20231102T233624Z
LAST-MODIFIED:20231110T045830Z
UID:1866125-1699430400-1699435800@ramayogainstitute.com
SUMMARY:Kundalini Yoga & Meditation with Anne V
DESCRIPTION:TUNE IN\nAnne V is a fashion model\, mom and yogi based in New York City. \nShe has trained as a teacher and studied kundalini at RAMA Yoga Institute for Applied Science and Technology \nwith Guru Jagat\, Harijiwan and Tej. Her classes are inspired by her own journey. \n“This practice gives me the ability to handle life. We are here to experience our potential ….full of power\, ease and radiance. After all happiness is our birth right.”
URL:https://ramayogainstitute.com/event/kundalini-yoga-meditation-with-anne-v/2023-11-08/
LOCATION:RA MA Intitute New York and online
CATEGORIES:In Person,RA MA TV Live
ATTACH;FMTTYPE=image/jpeg:https://ramayogainstitute.com/wp-content/uploads/2023/03/Anne-V-1024x577-1.jpeg
END:VEVENT
BEGIN:VEVENT
DTSTART;TZID=America/Los_Angeles:20231108T090000
DTEND;TZID=America/Los_Angeles:20231108T103000
DTSTAMP:20260422T151501
CREATED:20230708T001408Z
LAST-MODIFIED:20231108T121733Z
UID:1812152-1699434000-1699439400@ramayogainstitute.com
SUMMARY:Kundalini Yoga & Meditation with Ashley Kassan
DESCRIPTION:TUNE IN LIVE OR IN PERSON\nAshley enjoys teaching Kriyas that push and challenge the physical body. \nExpect a nice sweat! She finds this physical strength to help sharpen and positively direct the mind. \n 
URL:https://ramayogainstitute.com/event/kundalini-yoga-meditation-with-mandev-11-2023-11-08/
LOCATION:Online
CATEGORIES:In Person,RA MA TV Live
ATTACH;FMTTYPE=image/jpeg:https://ramayogainstitute.com/wp-content/uploads/2023/07/IMG_0648.jpg
END:VEVENT
BEGIN:VEVENT
DTSTART;TZID=America/Los_Angeles:20231108T160000
DTEND;TZID=America/Los_Angeles:20231108T173000
DTSTAMP:20260422T151501
CREATED:20231102T234353Z
LAST-MODIFIED:20231102T234353Z
UID:1866128-1699459200-1699464600@ramayogainstitute.com
SUMMARY:Kundalini Yoga as Alchemy with Pritam Siri
DESCRIPTION:TUNE IN\nPritam Siri is an artist and yogi based in New York City. She has dedicated her time to studying\, \nworking\, and traveling with Guru Jagat from 2016 until her passing in 2021. \nShe is an active student of Kundalini Yoga and Meditation as Taught by Yogi Bhajan \nand is committed to practicing and sharing kundalini yoga technology. \nHer classes are open and welcome to beginners and seasoned practitioners.
URL:https://ramayogainstitute.com/event/kundalini-yoga-as-alchemy-with-pritam-siri/
LOCATION:RA MA Intitute New York and online
CATEGORIES:In Person,RA MA TV Live
ATTACH;FMTTYPE=image/jpeg:https://ramayogainstitute.com/wp-content/uploads/2023/10/solar-eclipse-self-harmonization_PritamSiri_Header.jpg
END:VEVENT
BEGIN:VEVENT
DTSTART;TZID=America/Los_Angeles:20231108T173000
DTEND;TZID=America/Los_Angeles:20231108T184500
DTSTAMP:20260422T151501
CREATED:20231108T001021Z
LAST-MODIFIED:20231108T001021Z
UID:1867399-1699464600-1699469100@ramayogainstitute.com
SUMMARY:Kundalini Yoga & Meditation with Charandev
DESCRIPTION:TUNE IN\nCharandev has taught kundalini yoga classes and led trainings for several years. He delivers the teachings in an energetic\, practical manner. He sees the kundalini technology as a high performance vehicle that arrives at the highest human experiences. \nCharandev is a longtime student of Harijiwan and has followed his teacher to Mexico\, India\, Nepal and Tibet to gain a real experience of the mystical kundalini energy.
URL:https://ramayogainstitute.com/event/kundalini-yoga-meditation-with-charandev-2/
LOCATION:Online
CATEGORIES:In Person,RA MA TV Live
ATTACH;FMTTYPE=image/png:https://ramayogainstitute.com/wp-content/uploads/2021/03/charandev-featured.png
END:VEVENT
BEGIN:VEVENT
DTSTART;TZID=America/Los_Angeles:20231108T190000
DTEND;TZID=America/Los_Angeles:20231108T203000
DTSTAMP:20260422T151501
CREATED:20231030T042922Z
LAST-MODIFIED:20231107T212229Z
UID:1865098-1699470000-1699475400@ramayogainstitute.com
SUMMARY:CHAKRAS TUNE UP| Kundalini Yoga & meditation with Harmanjot
DESCRIPTION:TUNE IN\nHARMANJOT began practicing\, studying and teaching Kundalini yoga in 2008 when she met her teacher Guru Jagat. She worked side by side with Guru Jagat until her passing in August 2021. During this time\, Harmanjot was instrumental to opening and growing the three RA MA Institutes (Los Angeles\, New York City\, Palma de Mallorca)\, and developing the creative programming that made RA MA the unique blend of sacred and secular it became known for. With Guru Jagat’s passing\, Harmanjot’s destiny called her to continue the mission they worked so closely on together. \nIn the effort to expand the awareness and practice of Kundalini yoga\, Harmanjot has partnered with top brands as a yoga and meditation teacher\, and has worked with L’Oréal USA as an astrologer to their corporate team. She hosts workshops and retreats through her lifestyle brand The 10th Gate and works with mothers and mothers-to-be through her program Infinity Ma. \nHarmanjot’s polestar has always been the same\, to share with all people of the world how beautiful they are within and without. She believes that Kundalini yoga is the best technology available in the world to do that. This is why Harmanjot continues to teach Kundalini yoga. \n 
URL:https://ramayogainstitute.com/event/kundalini-yoga-meditation-with-kim-krans-11/
LOCATION:Online
CATEGORIES:In Person,RA MA TV Live
ATTACH;FMTTYPE=image/jpeg:https://ramayogainstitute.com/wp-content/uploads/2022/04/Harmanjot-AWLS-April-2022-landscape.jpg
END:VEVENT
BEGIN:VEVENT
DTSTART;TZID=America/Los_Angeles:20231109T080000
DTEND;TZID=America/Los_Angeles:20231109T093000
DTSTAMP:20260422T151501
CREATED:20230725T002548Z
LAST-MODIFIED:20231107T212409Z
UID:1815852-1699516800-1699522200@ramayogainstitute.com
SUMMARY:SUPER CHARGE YOUR SOUL| Nurturing the Soul's Garden with Kelle Jacob
DESCRIPTION:Tune in virtually on RA MA TV LIVE or IN PERSON @ RA MA New York \nSaturdays @11:00am – 12:30pm EDT \n  \nHarvesting Abundance: A 4-Week Kundalini Journey to Prosperity and Fulfillment \n? This November\, why let only trees shed gold? Dive into a transformative Kundalini series and rake in abundance in love\, wealth\, and purpose. Embrace the journey and harvest YOUR potential. ? \n  \nAbout Kelle: \nIntroducing Kelle Jacob\, a catalyst for profound personal transformation\, guiding seekers on a path of power\, wisdom\, and growth through Kundalini yoga and meditation. With a multidisciplinary background in neuroscience\, integrative nutrition\, and ancient technologies\, Kelle merges ancient wisdom with modern science to ignite the dormant potential within individuals. Together\, Kelle and their students explore the intricate landscapes of the human spirit\, unlocking creativity\, vitality\, and purpose. Whether one is an executive\, a high-performing professional\, or simply seeking inner alignment\, Kelle surpasses expectations and leads individuals to new heights of success and self-mastery. Join Kelle on this extraordinary journey to unlock true potential and embrace the boundless power within\, manifesting a life of limitless possibilities together. \n  \n 
URL:https://ramayogainstitute.com/event/kundalini-yoga-meditation-with-kelle-jacob-2023-11-11/
LOCATION:RA MA New York & Online
CATEGORIES:In Person,RA MA TV Live
ATTACH;FMTTYPE=image/jpeg:https://ramayogainstitute.com/wp-content/uploads/2023/06/Kelle-Jacobs-Kundalini-Yoga-Meditation-Teacher.jpg
END:VEVENT
BEGIN:VEVENT
DTSTART;TZID=America/Los_Angeles:20231109T090000
DTEND;TZID=America/Los_Angeles:20231109T180000
DTSTAMP:20260422T151501
CREATED:20230724T053439Z
LAST-MODIFIED:20231026T192529Z
UID:1815604-1699520400-1699552800@ramayogainstitute.com
SUMMARY:Becoming a Healer Kundalini Training I November 2023
DESCRIPTION:SIGN UP\nTUNE IN\nBecoming a Healer | Kundalini Training\nEvery human being has a sensory system. In the Aquarian Age the level of sensitive awareness is increasing exponentially\, as is the computerization of the planet. Your sensitivity is a strength & a gift. In Kundalini Yoga\, we have techniques & methods to increase your sensory sensitivity & your capacity to heal. Become a healing force. Heal yourself\, heal your loved ones\, heal the planet. \nThis training includes: \n\nOver 42 hours of program content\n5 Q&A Sessions with Harijiwan\nCourse Materials and Resources\n\nYou will receive a Certificate upon completion of this course presented by RA MA Global Alliance. \nThursday\, November 9 – Monday\, November 13\, 2023\nRA MA Los Angeles\nVirtually on RA MA TV \n$1300 \n 
URL:https://ramayogainstitute.com/event/becoming-a-healer-kundalini-training/2023-11-09/
LOCATION:Online
CATEGORIES:In Person,Pay Per View Workshops
ATTACH;FMTTYPE=image/jpeg:https://ramayogainstitute.com/wp-content/uploads/2023/03/Becoming-a-Healer-Header.jpg
END:VEVENT
BEGIN:VEVENT
DTSTART;TZID=America/Los_Angeles:20231109T160000
DTEND;TZID=America/Los_Angeles:20231109T173000
DTSTAMP:20260422T151501
CREATED:20220106T172913Z
LAST-MODIFIED:20231102T235051Z
UID:1866131-1699545600-1699551000@ramayogainstitute.com
SUMMARY:Kundalini Yoga as Alchemy with Pritam Siri
DESCRIPTION:TUNE IN\nPritam Siri is an artist and yogi based in New York City. She has dedicated her time to studying\, working\, and traveling with Guru Jagat from 2016 until her passing in 2021. She is an active student of Kundalini Yoga and Meditation as Taught by Yogi Bhajan and is committed to practicing and sharing kundalini yoga technology.\nHer classes are open and welcome to beginners and seasoned practitioners. \n 
URL:https://ramayogainstitute.com/event/kundalini-yoga-as-alchemy-with-pritam-siri-2/
LOCATION:RA MA New York & Online
CATEGORIES:In Person,RA MA TV Live
ATTACH;FMTTYPE=image/jpeg:https://ramayogainstitute.com/wp-content/uploads/2023/10/solar-eclipse-self-harmonization_PritamSiri_Header.jpg
END:VEVENT
BEGIN:VEVENT
DTSTART;TZID=America/Los_Angeles:20231109T190000
DTEND;TZID=America/Los_Angeles:20231109T203000
DTSTAMP:20260422T151501
CREATED:20230308T220405Z
LAST-MODIFIED:20231107T221729Z
UID:1800606-1699556400-1699561800@ramayogainstitute.com
SUMMARY:Kundalini Yoga &  Meditation with Anneka
DESCRIPTION:TUNE IN\nAnneka is a Kundalini Yoga practitioner\, teacher\, and helps run the women’s program at RA MA. She is passionate about bringing the mystical and magical into the day-to-day so that everyone can experience the bliss of living an extraordinary life.
URL:https://ramayogainstitute.com/event/kundalini-yoga-meditation-with-shabadpreet-2-2023-05-23-2023-09-07-2023-09-12-2023-09-19-2023-09-21-2023-11-09/
LOCATION:Online
CATEGORIES:In Person,RA MA TV Live
ATTACH;FMTTYPE=image/jpeg:https://ramayogainstitute.com/wp-content/uploads/2023/03/KundaliniYoga_Anneka_Header.jpg
END:VEVENT
BEGIN:VEVENT
DTSTART;TZID=America/Los_Angeles:20231110T060000
DTEND;TZID=America/Los_Angeles:20231110T073000
DTSTAMP:20260422T151501
CREATED:20231102T235603Z
LAST-MODIFIED:20231107T212552Z
UID:1866129-1699596000-1699601400@ramayogainstitute.com
SUMMARY:COMPASS FOR COMPASSION| Disarming Defensiveness with Melissa Wu
DESCRIPTION:TUNE IN\nInspired by the 4-Immeasurables (Immeasurable love\, Immeasurable compassion\, Immeasurable joy and Immeasurable equanimity) in Tibetan Buddhism\, a heart focused series to open the heart chakra to find our way back to deep compassion\, happiness\, serenity and peace and recover our ability to love.  \nMay all beings have happiness and the cause of happiness. \nMay they be free of suffering and the cause of suffering. \nMay they never be disassociated from the supreme happiness which is without suffering. \nMay they remain in the boundless equanimity\, free from both attachment to close ones and rejection of others. \nAbout Melissa \nThrough the investigative process on how to navigate her spinal injuries as a dancer\, postpartum recovery as a single mother/survivor of domestic violence\, PTSD\, chronic depression and anxiety under the sociopolitical climate as a millennial alone in a foreign country\, Melissa combines her research and studies in movement/somatics\, psychology\, reiki\, biology\, quantum physics\, archeology and eastern medicine\, into the systemic teachings of Kundalini Yoga and her own movement practice. She aims to share practical tools and be an example of how one can elevate and propel beyond sufferings and alchemize one’s life circumstance into its fullest potential.
URL:https://ramayogainstitute.com/event/compass-for-compassion-with-melissa-wu/
LOCATION:RA MA Intitute New York and online
CATEGORIES:In Person,RA MA TV Live
ATTACH;FMTTYPE=image/png:https://ramayogainstitute.com/wp-content/uploads/2023/08/Melissa-Wu.png
END:VEVENT
BEGIN:VEVENT
DTSTART;TZID=America/Los_Angeles:20231110T143000
DTEND;TZID=America/Los_Angeles:20231110T153000
DTSTAMP:20260422T151501
CREATED:20231103T000339Z
LAST-MODIFIED:20231103T001216Z
UID:1866141-1699626600-1699630200@ramayogainstitute.com
SUMMARY:Kundalini Yoga as Alchemy with Pritam Siri
DESCRIPTION:TUNE IN\nPritam Siri is an artist and yogi based in New York City. She has dedicated her time to studying\, working\, and traveling with Guru Jagat from 2016 until her passing in 2021. She is an active student of Kundalini Yoga and Meditation as Taught by Yogi Bhajan and is committed to practicing and sharing kundalini yoga technology.\nHer classes are open and welcome to beginners and seasoned practitioners. \n 
URL:https://ramayogainstitute.com/event/kundalini-yoga-as-alchemy-with-pritam-siri-3/
LOCATION:RA MA Intitute New York and online
CATEGORIES:In Person,RA MA TV Live
ATTACH;FMTTYPE=image/jpeg:https://ramayogainstitute.com/wp-content/uploads/2023/10/solar-eclipse-self-harmonization_PritamSiri_Header.jpg
END:VEVENT
BEGIN:VEVENT
DTSTART;TZID=America/Los_Angeles:20231111T090000
DTEND;TZID=America/Los_Angeles:20231111T103000
DTSTAMP:20260422T151501
CREATED:20231109T230414Z
LAST-MODIFIED:20231109T230414Z
UID:1867971-1699693200-1699698600@ramayogainstitute.com
SUMMARY:11/11 Quantum Healing Portal with Mandev
DESCRIPTION:TUNE IN\n11/11 Quantum Healing Portal with Mandev\n9:00am-10:30am PST\nRA MA TV Live\nRA MA Los Angeles \n  \n 
URL:https://ramayogainstitute.com/event/11-11-quantum-healing-portal-with-mandev/
LOCATION:Online
CATEGORIES:In Person,RA MA TV Live
ATTACH;FMTTYPE=image/jpeg:https://ramayogainstitute.com/wp-content/uploads/2023/10/Mandev-Celstial-photoshoot-2-Photo-by-Santosh-SMALL.jpg
END:VEVENT
BEGIN:VEVENT
DTSTART;TZID=America/Los_Angeles:20231112T080000
DTEND;TZID=America/Los_Angeles:20231112T093000
DTSTAMP:20260422T151501
CREATED:20231103T001513Z
LAST-MODIFIED:20231103T001513Z
UID:1866146-1699776000-1699781400@ramayogainstitute.com
SUMMARY:Kundalini Yoga as Alchemy with Pritam Siri
DESCRIPTION:TUNE IN\nPritam Siri is an artist and yogi based in New York City. She has dedicated her time to studying\, working\, and traveling with Guru Jagat from 2016 until her passing in 2021. She is an active student of Kundalini Yoga and Meditation as Taught by Yogi Bhajan and is committed to practicing and sharing kundalini yoga technology.\nHer classes are open and welcome to beginners and seasoned practitioners.
URL:https://ramayogainstitute.com/event/kundalini-yoga-as-alchemy-with-pritam-siri-4/
LOCATION:RA MA Intitute New York and online
CATEGORIES:In Person,RA MA TV Live
ATTACH;FMTTYPE=image/jpeg:https://ramayogainstitute.com/wp-content/uploads/2023/10/solar-eclipse-self-harmonization_PritamSiri_Header.jpg
END:VEVENT
BEGIN:VEVENT
DTSTART;TZID=America/Los_Angeles:20231112T090000
DTEND;TZID=America/Los_Angeles:20231112T103000
DTSTAMP:20260422T151501
CREATED:20231101T202615Z
LAST-MODIFIED:20231101T202615Z
UID:1865881-1699779600-1699785000@ramayogainstitute.com
SUMMARY:Kundalini Yoga & Meditation with Gurujas Khalsa
DESCRIPTION:TUNE IN\nGurujas is a kundalini yoga teacher and a singer\, songwriter\, and musician. She has gained a worldwide reputation as the lead singer of White Sun\, a Grammy-award winning band\, and a Billboard #1 artist. Gurujas’ kundalini practice began in 2005\, when she met her teacher\, Harijiwan\, who is also the founder of White Sun. \nAs a kundalini yoga teacher\, she is known as being intensely devoted to the accuracy of the teachings\, as well as incorporating contemporary science and practical every-day applications. As a singer\, she is known for her distinctive vocals\, her ethereal live performances\, and her ability to heal through song. She spends her time creating music\, teaching kundalini yoga\, working with clients\, and raising her two young daughters.
URL:https://ramayogainstitute.com/event/kundalini-yoga-meditation-with-gurujas-khalsa/2023-11-12/
LOCATION:Online
CATEGORIES:In Person,RA MA TV Live
ATTACH;FMTTYPE=image/jpeg:https://ramayogainstitute.com/wp-content/uploads/2022/04/Gurujas-2.jpg
END:VEVENT
BEGIN:VEVENT
DTSTART;TZID=America/Los_Angeles:20231112T110000
DTEND;TZID=America/Los_Angeles:20231112T150000
DTSTAMP:20260422T151501
CREATED:20231031T061319Z
LAST-MODIFIED:20231031T061600Z
UID:1865300-1699786800-1699801200@ramayogainstitute.com
SUMMARY:The Mystic’s Mind with Kim Krans
DESCRIPTION:SIGN UP\nTUNE IN\nTHE MYSTIC’S MIND\nAn Immersive Workshop with Visionary Artist Kim Krans\nSunday\, November 12\, 2023\n2:00pm – 6:00pm EDT\n$88 in advance $99 day of\nRA MA New York | RA MA TVVisionary artist\, author\, and yogi Kim Krans takes you through a series of interactive practices designed to activate the mystical nature of the mind. Learn to traverse further into the liminal realms and integrate these mystical experiences into everyday life. Build your sensitivity\, creativity\, and vitality.\nThis workshop includes various movement and breath practices (yoga\, meditation\, chanting\, creative exercises). Bring pen\, paper\, cushion. \n\n 
URL:https://ramayogainstitute.com/event/the-mystics-mind-with-kim-krans/
LOCATION:RA MA New York & Online
CATEGORIES:In Person,Pay Per View Workshops
ATTACH;FMTTYPE=image/jpeg:https://ramayogainstitute.com/wp-content/uploads/2023/10/KimKrans_MysticMind_Header.jpg
END:VEVENT
BEGIN:VEVENT
DTSTART;TZID=America/Los_Angeles:20231112T163000
DTEND;TZID=America/Los_Angeles:20231112T180000
DTSTAMP:20260422T151501
CREATED:20231031T061534Z
LAST-MODIFIED:20231031T061534Z
UID:1865302-1699806600-1699812000@ramayogainstitute.com
SUMMARY:The Mystic’s Dream with Kim Krans
DESCRIPTION:SIGN UP\nTUNE IN\n\nTHE MYSTIC’S DREAM\nEve of New Moon Nidra with Kim Krans\nSunday\, November 12\, 2023\n7:30pm – 9:00pm EDT\nRA MA New York | RA MA TV\n$33 \nAn extended yoga nidra practice designed to take you deep into yogic sleep. Within this liminal realm the mystic seeks new visions for healing and guidance.\nThis practice is done lying down. Bring pen\, paper\, pillow. \n\n 
URL:https://ramayogainstitute.com/event/the-mystics-dream-with-kim-krans/
LOCATION:RA MA Intitute New York and online
CATEGORIES:In Person,Pay Per View Workshops
ATTACH;FMTTYPE=image/jpeg:https://ramayogainstitute.com/wp-content/uploads/2023/10/KimKrans_MysticMind_Header.jpg
END:VEVENT
END:VCALENDAR