BEGIN:VCALENDAR
VERSION:2.0
PRODID:-//RA MA LIFE - ECPv6.15.15//NONSGML v1.0//EN
CALSCALE:GREGORIAN
METHOD:PUBLISH
X-WR-CALNAME:RA MA LIFE
X-ORIGINAL-URL:https://ramayogainstitute.com
X-WR-CALDESC:Events for RA MA LIFE
REFRESH-INTERVAL;VALUE=DURATION:PT1H
X-Robots-Tag:noindex
X-PUBLISHED-TTL:PT1H
BEGIN:VTIMEZONE
TZID:America/Los_Angeles
BEGIN:DAYLIGHT
TZOFFSETFROM:-0800
TZOFFSETTO:-0700
TZNAME:PDT
DTSTART:20220313T100000
END:DAYLIGHT
BEGIN:STANDARD
TZOFFSETFROM:-0700
TZOFFSETTO:-0800
TZNAME:PST
DTSTART:20221106T090000
END:STANDARD
BEGIN:DAYLIGHT
TZOFFSETFROM:-0800
TZOFFSETTO:-0700
TZNAME:PDT
DTSTART:20230312T100000
END:DAYLIGHT
BEGIN:STANDARD
TZOFFSETFROM:-0700
TZOFFSETTO:-0800
TZNAME:PST
DTSTART:20231105T090000
END:STANDARD
BEGIN:DAYLIGHT
TZOFFSETFROM:-0800
TZOFFSETTO:-0700
TZNAME:PDT
DTSTART:20240310T100000
END:DAYLIGHT
BEGIN:STANDARD
TZOFFSETFROM:-0700
TZOFFSETTO:-0800
TZNAME:PST
DTSTART:20241103T090000
END:STANDARD
END:VTIMEZONE
BEGIN:VEVENT
DTSTART;TZID=America/Los_Angeles:20231009T170000
DTEND;TZID=America/Los_Angeles:20231009T190000
DTSTAMP:20260423T071819
CREATED:20230929T211855Z
LAST-MODIFIED:20230929T212003Z
UID:1855091-1696870800-1696878000@ramayogainstitute.com
SUMMARY:Guru Ram Das Birthday with Gurujas
DESCRIPTION:SIGN UP\nTUNE IN\nThe House of Miracles with Gurujas\nKundalini Yoga & Meditation on Guru Ram Das’ Birthday\nMonday. October 9\, 2023\n5:00pm-7:00pm PDT \nRA MA TV\nRA MA Los Angeles\n$50 In Advance| $55 Day of
URL:https://ramayogainstitute.com/event/guru-ram-das-birthday-with-gurujas/
LOCATION:Online
CATEGORIES:In Person,Pay Per View Workshops
ATTACH;FMTTYPE=image/jpeg:https://ramayogainstitute.com/wp-content/uploads/2021/10/Gurujas-7.jpg
END:VEVENT
BEGIN:VEVENT
DTSTART;TZID=America/Los_Angeles:20231013T180000
DTEND;TZID=America/Los_Angeles:20231013T200000
DTSTAMP:20260423T071819
CREATED:20231004T175108Z
LAST-MODIFIED:20231004T175108Z
UID:1858595-1697220000-1697227200@ramayogainstitute.com
SUMMARY:Ambassador of Love with Shaman Durek
DESCRIPTION:SIGN UP\nTUNE IN\nAmbassador of Love:\nA 3-Day Intensive Shamanic Immersion with Shaman Durek\nFriday\, October 13 – Sunday\, October 15\, 2023\nFriday\, October 13\, 2023 | 6:00pm-8:00pm PDT\nSaturday\, October 14\, 2023 | 1:00pm-3:00pm PDT\nSunday\, October 15\, 2023 | 1:00pm-3:00pm PDT\nIn Person at RA MA Los Angeles\nVirtually on RA MA TV + Infinite Replay \n\nThis 3-day intensive shamanic immersion is a discovery of your potential as a as a lit leader of legacy. \n\nDive deep into the transformative power of love for yourself\, other people\, the earth\, and spirit.\nPractice Shamanic exercises to explore the mind\nDiscover your uniqueness through sacred emotional journeys\nAccelerate your evolution\nTransform your life forever by embracing ancient shamanic wisdom\n\nThe power of ancient Shamanic practices will enlighten you to no longer hide your greatest strength— that of your true light source. Come and experience deep Shamanic self-discovery with Shaman Durek. \nBecause in everyone\, there is a shaman inside waiting to bring forth its medicine. \n  \n\nAbout Shaman Durek \nShaman Durek is a 6th generation shaman\, and author of the best seller\, ‘Spirit Hacking: Shamanic Keys to Reclaim Your Personal Power\, Transform Yourself\, and Light Up the World.’ \nHe is a visionary for the ‘Now Age\,’ with a strong focus on the evolution of humanity\, while also simplifying our experience through common sense practices. Shaman Durek has studied extensively\, extracting the best from all the world philosophies\, religions\, spiritual teachings\, and theories. Through his no nonsense teachings\, he demystifies spirituality by making it attainable and understandable for not only the layman\, but also for the more spiritually advanced\, and everyone in between. \nHis teachings have impacted thousands\, ranging from diverse public figures like Nina Dobrev and Gwyneth Paltrow\, to tech giants like Dave Asprey of Bulletproof Coffee. Known as the first ‘spirit shaman’ to be featured in People Magazine\, Shaman Durek’s work has been recognized globally by major publications such as\, Vanity Fair\, The New York Times\, Elle\, Marie Claire\, The Los Angeles Times\, The Evening Standard\, You Magazine\, Good Morning America\, This Morning\, etc. \nHe has a recurring role on the nationwide CBS television show\, ‘The Doctors\,’ where he aids guests in overcoming challenges that are impacting the connection between their emotional/physical well-being. He has also been featured on prominent health and wellness podcasts–Bulletproof Radio\, Life Stylist\, Expanded\, and Goop Fellas. \nShaman Durek’s online ‘The Shaman School\,’ and widely popular ‘The Healing Temple‘\, and ‘Ancient Wisdom Today\,’ have been instrumental in benefiting participants tap into their personal power\, while unblocking negative patterns that prevent them from reaching their optimal human performance. \n@shamandurek
URL:https://ramayogainstitute.com/event/ambassador-of-love-with-shaman-durek/2023-10-13/
LOCATION:Online
CATEGORIES:In Person,Pay Per View Workshops
ATTACH;FMTTYPE=image/jpeg:https://ramayogainstitute.com/wp-content/uploads/2019/04/Shaman-Durek-Into-the-Heart.jpg
END:VEVENT
BEGIN:VEVENT
DTSTART;TZID=America/Los_Angeles:20231014T060000
DTEND;TZID=America/Los_Angeles:20231014T183000
DTSTAMP:20260423T071819
CREATED:20231004T174307Z
LAST-MODIFIED:20231004T174307Z
UID:1858592-1697263200-1697308200@ramayogainstitute.com
SUMMARY:Solar Eclipse New Moon in Libra | October 2023
DESCRIPTION:SIGN UP\nTUNE IN\nSolar Eclipse New Moon in Libra\nSaturday\, October 14\, 2023 | 1:00pm-3:00pm PDT\n9:00am-6:30pm \n9:00am-11:00am PDT\nSolar Eclipse\nNew Moon in Libra\nKundalini Yoga & Mediation Workshop\nwith Gurujas\n$50/$55\nRA MA TV\nRA MA Los Angeles \n11am-12:30pm PDT\nHow to Vibrate the Cosmos\nEclipse Kundalini Yoga & Meditation\nwith Harmanjot\nRA MA TV Live\nRA MA Los Angeles \nFriday\, October 13\, 2023 | 6:00pm-8:00pm PDT\nSaturday\, October 14\, 2023 | 1:00pm-3:00pm PDT\nSunday\, October 15\, 2023 | 1:00pm-3:00pm PDT\nAmbassador of Love\nA 3-Day Intensive Shamanic Immersion\nwith Shaman Durek\nRA MA Los Angeles\nVirtually on RA MA TV with Infinite Replay\n$222 \n4:00pm-6:30pm PDT \n7:00pm – 9:30pm EDT\nSOLAR ECLIPSE SELF-HARMONIZATION\nA Meditation Workshop on the Solar Eclipse & New Moon in Libra\nWith Pritam Siri\n$50 In Advance\, $55 Day Of
URL:https://ramayogainstitute.com/event/solar-eclipse-new-moon-in-libra-october-2023/
LOCATION:RA MA Los Angeles\, RA MA New York & Online
CATEGORIES:Courses & Events,In Person,Pay Per View Workshops,RA MA TV Live
ATTACH;FMTTYPE=image/jpeg:https://ramayogainstitute.com/wp-content/uploads/2023/10/SolarEclipse_Kundalini_Header-1.jpg
END:VEVENT
BEGIN:VEVENT
DTSTART;TZID=America/Los_Angeles:20231014T090000
DTEND;TZID=America/Los_Angeles:20231014T110000
DTSTAMP:20260423T071819
CREATED:20231014T065037Z
LAST-MODIFIED:20231014T065038Z
UID:1861139-1697274000-1697281200@ramayogainstitute.com
SUMMARY:Solar Eclipse: New Moon in Libra with Gurujas
DESCRIPTION:TUNE IN\nSIGN UP\nKundalini Yoga & Mediation Workshop \nGurujas is a kundalini yoga teacher and a singer\, songwriter\, and musician. She has gained a worldwide reputation as the lead singer of White Sun\, a Grammy®-award winning band\, and a Billboard #1 artist. As a kundalini yoga teacher\, she is known as being intensely devoted to the accuracy of the teachings\, as well as incorporating contemporary science and practical every-day applications. As a singer\, she is known for her distinctive vocals\, her ethereal live performances\, and her ability to heal through song.
URL:https://ramayogainstitute.com/event/solar-eclipse-new-moon-in-libra-with-gurujas/
LOCATION:Online
CATEGORIES:In Person,Pay Per View Workshops
ATTACH;FMTTYPE=image/jpeg:https://ramayogainstitute.com/wp-content/uploads/2023/10/gurujas-teacher-Header.jpg
END:VEVENT
END:VCALENDAR