BEGIN:VCALENDAR
VERSION:2.0
PRODID:-//RA MA LIFE - ECPv6.15.15//NONSGML v1.0//EN
CALSCALE:GREGORIAN
METHOD:PUBLISH
X-WR-CALNAME:RA MA LIFE
X-ORIGINAL-URL:https://ramayogainstitute.com
X-WR-CALDESC:Events for RA MA LIFE
REFRESH-INTERVAL;VALUE=DURATION:PT1H
X-Robots-Tag:noindex
X-PUBLISHED-TTL:PT1H
BEGIN:VTIMEZONE
TZID:America/Los_Angeles
BEGIN:DAYLIGHT
TZOFFSETFROM:-0800
TZOFFSETTO:-0700
TZNAME:PDT
DTSTART:20220313T100000
END:DAYLIGHT
BEGIN:STANDARD
TZOFFSETFROM:-0700
TZOFFSETTO:-0800
TZNAME:PST
DTSTART:20221106T090000
END:STANDARD
BEGIN:DAYLIGHT
TZOFFSETFROM:-0800
TZOFFSETTO:-0700
TZNAME:PDT
DTSTART:20230312T100000
END:DAYLIGHT
BEGIN:STANDARD
TZOFFSETFROM:-0700
TZOFFSETTO:-0800
TZNAME:PST
DTSTART:20231105T090000
END:STANDARD
BEGIN:DAYLIGHT
TZOFFSETFROM:-0800
TZOFFSETTO:-0700
TZNAME:PDT
DTSTART:20240310T100000
END:DAYLIGHT
BEGIN:STANDARD
TZOFFSETFROM:-0700
TZOFFSETTO:-0800
TZNAME:PST
DTSTART:20241103T090000
END:STANDARD
END:VTIMEZONE
BEGIN:VEVENT
DTSTART;TZID=America/Los_Angeles:20230929T060000
DTEND;TZID=America/Los_Angeles:20230929T210000
DTSTAMP:20260423T032806
CREATED:20230918T181510Z
LAST-MODIFIED:20230926T014327Z
UID:1843918-1695967200-1696021200@ramayogainstitute.com
SUMMARY:Full Moon in Aries | September 2023
DESCRIPTION:SIGN UP\nTUNE IN\n\n\n\nFriday\, September 29\, 2023\n6:00am-9:00pm \n6:00am-7:30am PDT\n9:00am-10:30am EDT\nCreativity for Social Reform\nKundalini Yoga & Meditation with Melissa\nRA MA TV Live\nRA MA New York \n9:00am-10:30am PDT\nBurn Your Karma on the Aries Full Moon\nKundalini Yoga & Meditation\nwith Mandev\nRA MA TV Live\nLos Angeles \n11:00am-12:00pm PDT\nFull Moon in Aries\nKundalini Yoga & Meditation\nwith Paresh \n12:15pm-12:45pm PDT\nLooking Up: Full Moon in Aries Astrology with Teg Prakash\nRA MA TV Live\nRA MA TV Community Content Channel\nRA MA Los Angeles \n3:00pm-5:00pm PDT\n6:00pm-8:00pm EDT\nFull Moon Electric Heart Power\nAn Energizing Full Moon in Aries Kundalini Yoga & Meditation Workshop with Pritam Siri\nRA MA New York\nRA MA TV Live\n$50 In Advance\, $55 Day Of\nRA MA TV PPV\nIn-Person RA MA New York \n5:30pm-6:45pm PDT\n“I Am Agni\,\nI Am The Source of Life.”\nFull Moon in Aries with Atma Santokh\nRA MA TV Live\nRA MA Los Angeles \n7:00-9:00pm PDT\nShamanic Water Healing: Full Moon Workshop with Shaman Durek\nwith Shaman Durek\nRA MA TV PPV\nRA MA Los Angeles
URL:https://ramayogainstitute.com/event/equinox-acceleration-2023-2/
LOCATION:RA MA Los Angeles\, RA MA New York & Online
CATEGORIES:Courses & Events,In Person,Pay Per View Workshops,RA MA TV Live
ATTACH;FMTTYPE=image/jpeg:https://ramayogainstitute.com/wp-content/uploads/2023/09/RAMA_Kundalini_FullMoon_Header.jpg
END:VEVENT
BEGIN:VEVENT
DTSTART;TZID=America/Los_Angeles:20230929T150000
DTEND;TZID=America/Los_Angeles:20230929T170000
DTSTAMP:20260423T032806
CREATED:20230926T012434Z
LAST-MODIFIED:20230928T233201Z
UID:1850356-1695999600-1696006800@ramayogainstitute.com
SUMMARY:Full Moon Electric Heart Power with Pritam Siri
DESCRIPTION:SIGN UP\nTUNE IN\nFull Moon Electric Heart Power\nAn Energizing Full Moon in Aries Kundalini Yoga & Meditation Workshop with Pritam Siri\nFriday\, September 29\, 2023\n3:00pm-5:00pm PDT | 6:00pm-8:00pm EDT \nRA MA New York\nRA MA TV Live\n$50 In Advance\, $55 Day Of \nPritam Siri is an artist and yogi based in New York City. She has dedicated her time to studying\, working\, and traveling with Guru Jagat from 2016 until her passing in 2021. She is an active student of Kundalini Yoga and Meditation as Taught by Yogi Bhajan and is committed to practicing and sharing kundalini yoga technology.\nHer classes are open and welcome to beginners and seasoned practitioners. \n@pritamsiri
URL:https://ramayogainstitute.com/event/full-moon-electric-heart-power-with-pritam-siri/
LOCATION:RA MA Intitute New York and online
CATEGORIES:In Person,Pay Per View Workshops
ATTACH;FMTTYPE=image/jpeg:https://ramayogainstitute.com/wp-content/uploads/2023/08/Pritam-Siri_Flowers.jpg
END:VEVENT
BEGIN:VEVENT
DTSTART;TZID=America/Los_Angeles:20230929T190000
DTEND;TZID=America/Los_Angeles:20230929T210000
DTSTAMP:20260423T032806
CREATED:20230922T040703Z
LAST-MODIFIED:20230928T233454Z
UID:1845932-1696014000-1696021200@ramayogainstitute.com
SUMMARY:Shamanic Water Healing with Shaman Durek
DESCRIPTION:SIGN UP\nTUNE IN\nShamanic Water Healing: Full Moon Workshop with Shaman Durek\nFriday\, September 29\, 2023\n7:00pm – 9:00pm PDT\nIn Person at RA MA Los Angeles\nVirtually on RA MA TV + Infinite Replay \nIn this workshop with Shaman Durek\, learn how to: \n\nActivate water for healin\nUse water to increase visions\nUse water to clear the body of heavy energy in the four directions\nIncrease water intelligence using water\nFeel and understand water for heightening intuition\nActivate water to clean the organs.\nThis is shamanic water healing is an enhanced healing technique. Add this to your Shamanic toolbelt for healing yourself & others for optimal living.\n\nAbout Shaman Durek \nShaman Durek is a 6th generation shaman\, and author of the best seller\, ‘Spirit Hacking: Shamanic Keys to Reclaim Your Personal Power\, Transform Yourself\, and Light Up the World.’ \nHe is a visionary for the ‘Now Age\,’ with a strong focus on the evolution of humanity\, while also simplifying our experience through common sense practices. Shaman Durek has studied extensively\, extracting the best from all the world philosophies\, religions\, spiritual teachings\, and theories. Through his no nonsense teachings\, he demystifies spirituality by making it attainable and understandable for not only the layman\, but also for the more spiritually advanced\, and everyone in between. \nHis teachings have impacted thousands\, ranging from diverse public figures like Nina Dobrev and Gwyneth Paltrow\, to tech giants like Dave Asprey of Bulletproof Coffee. Known as the first ‘spirit shaman’ to be featured in People Magazine\, Shaman Durek’s work has been recognized globally by major publications such as\, Vanity Fair\, The New York Times\, Elle\, Marie Claire\, The Los Angeles Times\, The Evening Standard\, You Magazine\, Good Morning America\, This Morning\, etc. \nHe has a recurring role on the nationwide CBS television show\, ‘The Doctors\,’ where he aids guests in overcoming challenges that are impacting the connection between their emotional/physical well-being. He has also been featured on prominent health and wellness podcasts–Bulletproof Radio\, Life Stylist\, Expanded\, and Goop Fellas. \nShaman Durek’s online ‘The Shaman School\,’ and widely popular ‘The Healing Temple‘\, and ‘Ancient Wisdom Today\,’ have been instrumental in benefiting participants tap into their personal power\, while unblocking negative patterns that prevent them from reaching their optimal human performance. \n@shamandurek
URL:https://ramayogainstitute.com/event/shamanic-water-healing-with-shaman-durek/
LOCATION:Online
CATEGORIES:In Person,Pay Per View Workshops
ATTACH;FMTTYPE=image/jpeg:https://ramayogainstitute.com/wp-content/uploads/2023/09/Shaman-Durek-Water-Healing_Header.jpg
END:VEVENT
BEGIN:VEVENT
DTSTART;TZID=America/Los_Angeles:20230930T090000
DTEND;TZID=America/Los_Angeles:20230930T180000
DTSTAMP:20260423T032806
CREATED:20230913T051556Z
LAST-MODIFIED:20230926T013857Z
UID:1839955-1696064400-1696096800@ramayogainstitute.com
SUMMARY:Downloading Success Patterns
DESCRIPTION:SIGN UP\nTUNE IN\nDownloading Success Patterns\nA Day-long Creativity Immersion with Mandev & Shabadpreet\n\n\n\n\nSaturday\, September 30\, 2023\n9:00am – 6:00pm PDT\nIn Person at RA MA Los Angeles\nVirtually on RA MA TV with Infinite Replay \n\n\nPrice: $199 pre-registration\, $249 day-of \n\n\nSuccess starts inside of you. Success is a pattern\, an energy stream\, and a frequency. Each outward attainment must have a corresponding inner movement— it must have a balance. \nKundalini Yoga is a technology for your acceleration. Upgrade your frequency. Activate & discover dormant parts of yourself. Change your life beyond the imaginable. \nLearn how to merge your current frequency into the level of success you envision.
URL:https://ramayogainstitute.com/event/downloading-success-patterns/
LOCATION:Online
CATEGORIES:Courses & Events,In Person,Pay Per View Workshops
ATTACH;FMTTYPE=image/jpeg:https://ramayogainstitute.com/wp-content/uploads/2023/09/ImmenseGrace_Kundalini_Success_Header2.jpg
END:VEVENT
END:VCALENDAR