BEGIN:VCALENDAR
VERSION:2.0
PRODID:-//RA MA LIFE - ECPv6.15.15//NONSGML v1.0//EN
CALSCALE:GREGORIAN
METHOD:PUBLISH
X-WR-CALNAME:RA MA LIFE
X-ORIGINAL-URL:https://ramayogainstitute.com
X-WR-CALDESC:Events for RA MA LIFE
REFRESH-INTERVAL;VALUE=DURATION:PT1H
X-Robots-Tag:noindex
X-PUBLISHED-TTL:PT1H
BEGIN:VTIMEZONE
TZID:America/Los_Angeles
BEGIN:DAYLIGHT
TZOFFSETFROM:-0800
TZOFFSETTO:-0700
TZNAME:PDT
DTSTART:20220313T100000
END:DAYLIGHT
BEGIN:STANDARD
TZOFFSETFROM:-0700
TZOFFSETTO:-0800
TZNAME:PST
DTSTART:20221106T090000
END:STANDARD
BEGIN:DAYLIGHT
TZOFFSETFROM:-0800
TZOFFSETTO:-0700
TZNAME:PDT
DTSTART:20230312T100000
END:DAYLIGHT
BEGIN:STANDARD
TZOFFSETFROM:-0700
TZOFFSETTO:-0800
TZNAME:PST
DTSTART:20231105T090000
END:STANDARD
BEGIN:DAYLIGHT
TZOFFSETFROM:-0800
TZOFFSETTO:-0700
TZNAME:PDT
DTSTART:20240310T100000
END:DAYLIGHT
BEGIN:STANDARD
TZOFFSETFROM:-0700
TZOFFSETTO:-0800
TZNAME:PST
DTSTART:20241103T090000
END:STANDARD
END:VTIMEZONE
BEGIN:VEVENT
DTSTART;TZID=America/Los_Angeles:20230918T110000
DTEND;TZID=America/Los_Angeles:20230918T121500
DTSTAMP:20260422T151501
CREATED:20230918T161804Z
LAST-MODIFIED:20230918T172152Z
UID:1843604-1695034800-1695039300@ramayogainstitute.com
SUMMARY:Kundalini Yoga and the Cosmos with Anneka
DESCRIPTION:TUNE IN\n 
URL:https://ramayogainstitute.com/event/kundalini-yoga-and-the-cosmos-with-anneka/
LOCATION:Online
CATEGORIES:In Person,RA MA TV Live
ATTACH;FMTTYPE=image/jpeg:https://ramayogainstitute.com/wp-content/uploads/2021/06/stars-background2.jpg
END:VEVENT
BEGIN:VEVENT
DTSTART;TZID=America/Los_Angeles:20230918T173000
DTEND;TZID=America/Los_Angeles:20230918T184500
DTSTAMP:20260422T151501
CREATED:20230918T165349Z
LAST-MODIFIED:20230918T165514Z
UID:1843696-1695058200-1695062700@ramayogainstitute.com
SUMMARY:Kundalini Yoga & Meditation with Kim Krans
DESCRIPTION:TUNE IN\n  \nArtist Kim Krans brings her creative sensibility to her Kundalini Yoga and meditation classes. Using Breathwork\, asanas\, mantra and Mudra\, you will activate your own creative force and experience radical transformation. \n 
URL:https://ramayogainstitute.com/event/kundalini-yoga-meditation-with-kim-krans-4/
LOCATION:Online
CATEGORIES:In Person,RA MA TV Live
ATTACH;FMTTYPE=image/jpeg:https://ramayogainstitute.com/wp-content/uploads/2022/06/Kim-Krans.jpg
END:VEVENT
BEGIN:VEVENT
DTSTART;TZID=America/Los_Angeles:20230918T190000
DTEND;TZID=America/Los_Angeles:20230918T203000
DTSTAMP:20260422T151501
CREATED:20230916T021425Z
LAST-MODIFIED:20230916T021650Z
UID:1842074-1695063600-1695069000@ramayogainstitute.com
SUMMARY:BEAM: Kundalini Yoga & Meditation with Jen Saltiel
DESCRIPTION:TUNE IN\nJen Saltiel has been practicing and working with the Kundalini Yoga technology since 2012. As a devout student of Guru Jagat’s and Chief of Staff of the RA MA Institute Global team\, she has a deep connection with the teachings and genuine love and desire to deliver them to the world.
URL:https://ramayogainstitute.com/event/beam-kundalini-yoga-meditation-with-jen-saltiel-2/2023-09-18/
LOCATION:Online
CATEGORIES:In Person,RA MA TV Live
ATTACH;FMTTYPE=image/jpeg:https://ramayogainstitute.com/wp-content/uploads/2021/02/Jen-Saltiel-1.jpg
END:VEVENT
BEGIN:VEVENT
DTSTART;TZID=America/Los_Angeles:20230919T083000
DTEND;TZID=America/Los_Angeles:20230919T090000
DTSTAMP:20260422T151501
CREATED:20220726T034942Z
LAST-MODIFIED:20230923T202220Z
UID:1847034-1695112200-1695114000@ramayogainstitute.com
SUMMARY:Daily Global Meditations
DESCRIPTION:A short series of meditations to practice daily. \n\nAddiction Meditation\nIntelligence Meditation\nArd Kachari\n\nTUNE IN
URL:https://ramayogainstitute.com/event/daily-global-meditations-2022-2023-09-26/
LOCATION:Online
CATEGORIES:Community Content,In Person,RA MA TV Live
ATTACH;FMTTYPE=image/jpeg:https://ramayogainstitute.com/wp-content/uploads/2021/12/Students-Training-Los-Angeles.jpg
END:VEVENT
BEGIN:VEVENT
DTSTART;TZID=America/Los_Angeles:20230919T110000
DTEND;TZID=America/Los_Angeles:20230919T120000
DTSTAMP:20260422T151501
CREATED:20230916T023628Z
LAST-MODIFIED:20230918T163742Z
UID:1842172-1695121200-1695124800@ramayogainstitute.com
SUMMARY:PROSPERITY: Kundalini Yoga & Meditation with Malyvahn
DESCRIPTION:TUNE IN\nMalyvahn studied with Tej & Harijiwan. Kundalini Yoga and Meditation was a lighting fast practice for her self growth and healing. An entrepreneur at heart. Her goal is to hold a healing space\, guided by the teachings\, where each student can reach their highest bliss of prosperity! \n  \n 
URL:https://ramayogainstitute.com/event/prosperity-kundalini-yoga-meditation-with-msalyvahn/2023-09-19/
LOCATION:Online
CATEGORIES:In Person,RA MA TV Live
ATTACH;FMTTYPE=image/jpeg:https://ramayogainstitute.com/wp-content/uploads/2022/11/Malyvahn.jpg
END:VEVENT
BEGIN:VEVENT
DTSTART;TZID=America/Los_Angeles:20230919T190000
DTEND;TZID=America/Los_Angeles:20230919T203000
DTSTAMP:20260422T151501
CREATED:20230918T200016Z
LAST-MODIFIED:20230918T200413Z
UID:1844007-1695150000-1695155400@ramayogainstitute.com
SUMMARY:HEAL: Kundalini Yoga & Meditation with Kim Krans
DESCRIPTION:TUNE IN\nArtist Kim Krans brings her creative sensibility to her Kundalini Yoga and meditation classes. Using Breathwork\, Asanas\, mantra and Mudra\, you will activate your own creative force and experience radical transformation.
URL:https://ramayogainstitute.com/event/heal-kundalini-yoga-meditation-with-kim-krans/
LOCATION:Online
CATEGORIES:In Person,RA MA TV Live
ATTACH;FMTTYPE=image/jpeg:https://ramayogainstitute.com/wp-content/uploads/2022/06/KimKransSummerSolsticeBanner.jpg
END:VEVENT
BEGIN:VEVENT
DTSTART;TZID=America/Los_Angeles:20230920T173000
DTEND;TZID=America/Los_Angeles:20230920T190000
DTSTAMP:20260422T151501
CREATED:20230916T025615Z
LAST-MODIFIED:20230916T025615Z
UID:1842178-1695231000-1695236400@ramayogainstitute.com
SUMMARY:BEAM: Kundalini Yoga& Meditation with Jen Saltiel
DESCRIPTION:TUNE IN\nJen Saltiel has been practicing and working with the Kundalini Yoga technology since 2012. As a devout student of Guru Jagat’s and member of RA MA Institute Global team\, she has a deep connection with the teachings and genuine love and desire to deliver them to the world. Her classes are clear\, uplifting\, rhythmic\, and meditative.
URL:https://ramayogainstitute.com/event/beam-kundalini-yoga-meditation-with-jen-saltiel-3/2023-09-20/
LOCATION:Online
CATEGORIES:In Person,RA MA TV Live
ATTACH;FMTTYPE=image/jpeg:https://ramayogainstitute.com/wp-content/uploads/2021/02/Jen-Saltiel-1.jpg
END:VEVENT
BEGIN:VEVENT
DTSTART;TZID=America/Los_Angeles:20230920T190000
DTEND;TZID=America/Los_Angeles:20230920T203000
DTSTAMP:20260422T151501
CREATED:20230918T184155Z
LAST-MODIFIED:20230918T184843Z
UID:1843917-1695236400-1695241800@ramayogainstitute.com
SUMMARY:Kundalini Yoga & Meditation with Jot Gianpreet
DESCRIPTION:TUNE IN\nJot Gianpreet is a writer\, Holistic Chef\, dancer and artist part of the RA MA Community since 2016\, combining a strong background in different yoga lineages and Somatic Dance. Her classes are an invitation to use the Kundalini Technology as healing tools to reach our highest potential and Destiny. With Masters Degree in Political Sciences and Educational Psychology\, Jot Gianpreet has a special sensitivity to guide her students into a devotional exploration of the SELF\, in a fun and creative way. \n  \n  \n  \n 
URL:https://ramayogainstitute.com/event/kundalini-yoga-meditation-with-jot-gianpreet-2/
LOCATION:Online
CATEGORIES:In Person,RA MA TV Live
ATTACH;FMTTYPE=image/jpeg:https://ramayogainstitute.com/wp-content/uploads/2023/04/Jot-Gianpreet.jpeg
END:VEVENT
BEGIN:VEVENT
DTSTART;TZID=America/Los_Angeles:20230922T060000
DTEND;TZID=America/Los_Angeles:20230922T073000
DTSTAMP:20260422T151501
CREATED:20230922T005622Z
LAST-MODIFIED:20231009T045822Z
UID:1845897-1695362400-1695367800@ramayogainstitute.com
SUMMARY:Creativity for Social Reform with Melissa Wu
DESCRIPTION:TUNE IN VIRTUALLY\nOR \nIN PERSON\nA series to explore cultivating creative energy and its expression through Kundalini Yoga\, as a collective social responsibility to process human emotions\, transforming and improving social structures and lives of individuals and our relationship to the planet. \nThe Sessions \n\nFRIDAYS | Sept 22\, 29\, Oct 6\, Nov 3 | 9am-10:30AM EDT\nVirtually on RA MA TV Live\nIn Person @ RA MA New York\n\n\nAbout Melissa Wu\nMelissa aims to share practical tools and be an example of how one can elevate and propel beyond sufferings and alchemize one’s life circumstance into its fullest potential. Melissa combines her research and studies in movement/somatics\, psychology\, reiki\, biology\, quantum physics\, archeology and eastern medicine\, into the systemic teachings of Kundalini Yoga and her own movement practice.
URL:https://ramayogainstitute.com/event/creativity-for-social-reform/
LOCATION:RA MA New York & Online
CATEGORIES:In Person,RA MA TV Live
ATTACH;FMTTYPE=image/jpeg:https://ramayogainstitute.com/wp-content/uploads/2023/09/Melissa-Wu-Creativity-for-Social-Reform-Kundalini-Yoga-Meditation.jpeg
END:VEVENT
BEGIN:VEVENT
DTSTART;TZID=America/Los_Angeles:20230923T080000
DTEND;TZID=America/Los_Angeles:20230923T093000
DTSTAMP:20260422T151501
CREATED:20230914T013309Z
LAST-MODIFIED:20230918T235410Z
UID:1840764-1695456000-1695461400@ramayogainstitute.com
SUMMARY:Mind Mastery — Kundalini Yoga & Meditation with Kelle Jacob
DESCRIPTION:TUNE IN\nIN PERSON\nA 5-Part Class Series To Conquer Self-Doubt and Tame Your Inner Critic\nDiscover powerful tools to manage stress\, anxiety and find more joy. Attract abundance and optimism into your life with a radiant mindset. When you are able to master your mind and yourself\, watch how greatly you can change and optimize your life. \nSESSIONS\n11:00am – 12:30pm EDT\nVirtually on RA MA TV Live\nIn Person @RA MA New York \nSEPT 16 | Taming The Inner Critic:\nBalancing the Negative Mind \nSEPT 23 | Cultivating Positivity:\nEmpowering the Positive Mind \nSEPT 30 | Neutral Mind Activation:\nEmbrace the Power of Equanimity \nOCT 7 | Conquering Mental Chaos:\nHarmonizing the Minds \nOCT 14 | Mind Mastery Unleashed:\nEmbrace Your Infinite Power \n+ In Person Only Sessions\nThursdays 11am – 12:30 & 5:30 – 6:30pm EDT \nABOUT KELLE JACOB \nIntroducing Kelle Jacob\, a catalyst for profound personal transformation\, guiding seekers on a path of power\, wisdom\, and growth through Kundalini yoga and meditation. With a multidisciplinary background in neuroscience\, integrative nutrition\, and ancient technologies\, Kelle merges ancient wisdom with modern science to ignite the dormant potential within individuals. Together\, Kelle and their students explore the intricate landscapes of the human spirit\, unlocking creativity\, vitality\, and purpose. Whether one is an executive\, a high-performing professional\, or simply seeking inner alignment\, Kelle surpasses expectations and leads individuals to new heights of success and self-mastery. Join Kelle on this extraordinary journey to unlock true potential and embrace the boundless power within\, manifesting a life of limitless possibilities together.
URL:https://ramayogainstitute.com/event/mind-mastery-2023-09-23/
LOCATION:RA MA New York & Online
CATEGORIES:In Person,RA MA TV Live
ATTACH;FMTTYPE=image/jpeg:https://ramayogainstitute.com/wp-content/uploads/2023/09/Kelle-Mind-Mastery-YouTube-Thumbnail.jpg
END:VEVENT
BEGIN:VEVENT
DTSTART;TZID=America/Los_Angeles:20230924T090000
DTEND;TZID=America/Los_Angeles:20230924T103000
DTSTAMP:20260422T151501
CREATED:20230924T143032Z
LAST-MODIFIED:20230924T143059Z
UID:1848578-1695546000-1695551400@ramayogainstitute.com
SUMMARY:Kundalini Yoga & Meditation with Alexis Di Salvo
DESCRIPTION:TUNE IN\nAlexis met her teacher\, Harijiwan in 2012 and in 2013 took her first of many kundalini trainings with Harijiwan and Tej. She began teaching at the brand new RA MA Venice and has been practicing and using the Kundalini Yoga technology to upgrade and expand her potential ever since. \nAlexis is also a mother and successful working actress. She has appeared in several television shows and feature films such as THIS IS US\, GRACE AND FRANKIE\, THE RESIDENT\, JERSEY BOYS AND THE GET DOWN. She also teaches and coaches other actors through Lesly Kahn & Co Acting Studio. \nAlexis loves deepening her daily practice and continuing to study and learn from her teacher\, Harijiwan.
URL:https://ramayogainstitute.com/event/kundalini-yoga-meditation-with-alexis-di-salvo-3/
LOCATION:Online
CATEGORIES:In Person,RA MA TV Live
ATTACH;FMTTYPE=image/jpeg:https://ramayogainstitute.com/wp-content/uploads/2019/04/Alexis-Di-Salvo.jpg
END:VEVENT
BEGIN:VEVENT
DTSTART;TZID=America/Los_Angeles:20230924T110000
DTEND;TZID=America/Los_Angeles:20230924T123000
DTSTAMP:20260422T151501
CREATED:20230918T173900Z
LAST-MODIFIED:20230920T171644Z
UID:1843910-1695553200-1695558600@ramayogainstitute.com
SUMMARY:Kundalini Yoga & Meditation with Atma Santokh
DESCRIPTION:TUNE IN\nSpending time with Atma Santokh is an invitation into joyful integration of the vast perfection of Spirit into this faceted human vehicle\, arriving home in rich and rising expression Me. Experience challenging mudras\, deep mantra selections\, and transformative meditation experiences with practical\, engaging\, and down-to-earth verbiage to express the deep love he has for\, and practical application of\, the Kundalini Yoga teachings and techniques.
URL:https://ramayogainstitute.com/event/vital-warrior-with-atma-santokh/
LOCATION:Online
CATEGORIES:In Person,RA MA TV Live
ATTACH;FMTTYPE=image/jpeg:https://ramayogainstitute.com/wp-content/uploads/2022/02/Screen-Shot-2022-02-25-at-7.57.55-PM.jpg
END:VEVENT
BEGIN:VEVENT
DTSTART;TZID=America/Los_Angeles:20230924T160000
DTEND;TZID=America/Los_Angeles:20230924T173000
DTSTAMP:20260422T151501
CREATED:20230922T182425Z
LAST-MODIFIED:20230924T203506Z
UID:1846624-1695571200-1695576600@ramayogainstitute.com
SUMMARY:Kundalini Yoga & Meditation with Anantjeet
DESCRIPTION:TUNE IN\nKundalini Yoga & Meditation all Levels
URL:https://ramayogainstitute.com/event/kundalini-yoga-meditation-with-anantjeet/
LOCATION:Online
CATEGORIES:In Person,RA MA TV Live
ATTACH;FMTTYPE=image/jpeg:https://ramayogainstitute.com/wp-content/uploads/2023/09/Welcome.jpg
END:VEVENT
END:VCALENDAR