BEGIN:VCALENDAR
VERSION:2.0
PRODID:-//RA MA LIFE - ECPv6.15.15//NONSGML v1.0//EN
CALSCALE:GREGORIAN
METHOD:PUBLISH
X-WR-CALNAME:RA MA LIFE
X-ORIGINAL-URL:https://ramayogainstitute.com
X-WR-CALDESC:Events for RA MA LIFE
REFRESH-INTERVAL;VALUE=DURATION:PT1H
X-Robots-Tag:noindex
X-PUBLISHED-TTL:PT1H
BEGIN:VTIMEZONE
TZID:America/Los_Angeles
BEGIN:DAYLIGHT
TZOFFSETFROM:-0800
TZOFFSETTO:-0700
TZNAME:PDT
DTSTART:20220313T100000
END:DAYLIGHT
BEGIN:STANDARD
TZOFFSETFROM:-0700
TZOFFSETTO:-0800
TZNAME:PST
DTSTART:20221106T090000
END:STANDARD
BEGIN:DAYLIGHT
TZOFFSETFROM:-0800
TZOFFSETTO:-0700
TZNAME:PDT
DTSTART:20230312T100000
END:DAYLIGHT
BEGIN:STANDARD
TZOFFSETFROM:-0700
TZOFFSETTO:-0800
TZNAME:PST
DTSTART:20231105T090000
END:STANDARD
BEGIN:DAYLIGHT
TZOFFSETFROM:-0800
TZOFFSETTO:-0700
TZNAME:PDT
DTSTART:20240310T100000
END:DAYLIGHT
BEGIN:STANDARD
TZOFFSETFROM:-0700
TZOFFSETTO:-0800
TZNAME:PST
DTSTART:20241103T090000
END:STANDARD
END:VTIMEZONE
BEGIN:VEVENT
DTSTART;TZID=America/Los_Angeles:20230808T060000
DTEND;TZID=America/Los_Angeles:20230808T190000
DTSTAMP:20260423T090104
CREATED:20230724T052318Z
LAST-MODIFIED:20230808T000916Z
UID:1815593-1691474400-1691521200@ramayogainstitute.com
SUMMARY:8:8 Lion's Gate
DESCRIPTION:SIGN UP\nTUNE IN\n8:8 Lion’s Gate: The Annual Cosmic Gateway\nwith Harijiwan\, Mandev\, Shabadpreet\, & Special Guests\nThe Lions Gate Portal is an annual cosmic gateway that happens when the Sun returns to its home in Leo and the star Sirius rises in the sky into alignment with the Earth. This auspicious celestial window coupled with the 8 numerological portal\, invokes the wisdom of the stars and unlocks an abundance of transformational energy. Practicing on this day sets prosperity intentions and prayers for your greatest fulfillment on the fast track to fruition. \nTuesday\, August 8\, 2023\n6:00am – 7:00pm PDT \nRA MA Los Angeles\nVirtually on RA MA TV \n$149 In Advance\, $199 Day Of \n 
URL:https://ramayogainstitute.com/event/88-lions-gate/
LOCATION:Online
CATEGORIES:In Person,Pay Per View Workshops
ATTACH;FMTTYPE=image/jpeg:https://ramayogainstitute.com/wp-content/uploads/2023/07/LionsGate_Header2.jpg
END:VEVENT
BEGIN:VEVENT
DTSTART;TZID=America/Los_Angeles:20230812T090000
DTEND;TZID=America/Los_Angeles:20230812T103000
DTSTAMP:20260423T090104
CREATED:20230729T234020Z
LAST-MODIFIED:20230808T181057Z
UID:1816796-1691830800-1691836200@ramayogainstitute.com
SUMMARY:Jala Prana Flow for All with Shiva Rea
DESCRIPTION:SIGN UP\nTUNE IN\nJala Prana Flow for All with Shiva Rea\nFeaturing Live Music with Jacqueline Michelle and Cooper\nExplore a meditative Jala Prana Flow as a flowing approach to transforming stress and awakening our fluid body. Reset your system.  Listen within. Like a massage for your inner system –  gala prana flow brings the power of body ritual\, slow flow movement meditation\, prana flow namaskars\, kriyas and fluid sahaja movement to land in shavasana and mudra meditation.Like a massage for your inner system\, Prana Flow cultivates heart-centered\, non-verbal states of flow through pathways of movement patterns\, intelligent\, creative sequencing and alchemical music for regenerating vital energy. Shiva Rea will be teaching at Bhakti Fest\, view her offerings at www.shivarea.love \nPlease bring your own yoga mat. \nSaturday\, August 12th\, 2023\n9:00 – 10:30am PDT\nIn-Person at RA MA Los Angeles & Virtually on RA MA TV\n$33 \nShiva Rea serves the art of yoga around the world inspired by her Sat Guru Mata Amritanandamayi and thirty years of pilgrimage and studies in India. As founder of Prana Vinyasa and the Samudra Global School for Living Yoga\, Shiva honors the roots of yoga\, Ayurveda\, and tantra in creative\, life-transforming courses and trainings. Her studies in Tantra\, Ayurveda\, Krishnamacharya lineage\, Kalaripayattu\, Odissi and somatic movement infuse an approach to living yoga and embodying the flow.  As a global teacher and movement anthropologist with her M.A\,. from UCLA’s Interdisciplinary Department of World Arts and Cultures\, Shiva empowers people from all walks of life to experience the flow of breath. She has done fieldwork and offered yoga in over 50 countries from urban centers to ancient sites\, large-scale festivals to indigenous communities. Her book\, “Tending the Heart Fire – Living in Flow with the Pulse of Life” is about the history and embodiment of our energetic heart and living vinyasa.You can find her live and online offerings at www.shivarea.love \n 
URL:https://ramayogainstitute.com/event/jala-prana-flow-for-all-with-shiva-rea/
LOCATION:Online
CATEGORIES:In Person,Pay Per View Workshops
ATTACH;FMTTYPE=image/jpeg:https://ramayogainstitute.com/wp-content/uploads/2023/07/RAMAResidency_Shiva_Rae_Header4.jpg
END:VEVENT
BEGIN:VEVENT
DTSTART;TZID=America/Los_Angeles:20230813T110000
DTEND;TZID=America/Los_Angeles:20230813T120000
DTSTAMP:20260423T090104
CREATED:20230812T085909Z
LAST-MODIFIED:20230812T090209Z
UID:1819407-1691924400-1691928000@ramayogainstitute.com
SUMMARY:The Jap-Ji Course | Live Q&A Call
DESCRIPTION:SIGN UP\nLearn more about the upcoming Kundalini Training exploring Jap-ji happening Thursday\, August 17 – Monday\, August 21\, 2023
URL:https://ramayogainstitute.com/event/the-jap-ji-course-live-qa-call/
LOCATION:Online on Zoom
CATEGORIES:Community Content,Courses & Events,RA MA TV Live
ATTACH;FMTTYPE=image/jpeg:https://ramayogainstitute.com/wp-content/uploads/2023/07/Japji_KundaliniTraining_Header-1.jpg
END:VEVENT
END:VCALENDAR