BEGIN:VCALENDAR
VERSION:2.0
PRODID:-//RA MA LIFE - ECPv6.15.15//NONSGML v1.0//EN
CALSCALE:GREGORIAN
METHOD:PUBLISH
X-ORIGINAL-URL:https://ramayogainstitute.com
X-WR-CALDESC:Events for RA MA LIFE
REFRESH-INTERVAL;VALUE=DURATION:PT1H
X-Robots-Tag:noindex
X-PUBLISHED-TTL:PT1H
BEGIN:VTIMEZONE
TZID:America/Los_Angeles
BEGIN:DAYLIGHT
TZOFFSETFROM:-0800
TZOFFSETTO:-0700
TZNAME:PDT
DTSTART:20220313T100000
END:DAYLIGHT
BEGIN:STANDARD
TZOFFSETFROM:-0700
TZOFFSETTO:-0800
TZNAME:PST
DTSTART:20221106T090000
END:STANDARD
BEGIN:DAYLIGHT
TZOFFSETFROM:-0800
TZOFFSETTO:-0700
TZNAME:PDT
DTSTART:20230312T100000
END:DAYLIGHT
BEGIN:STANDARD
TZOFFSETFROM:-0700
TZOFFSETTO:-0800
TZNAME:PST
DTSTART:20231105T090000
END:STANDARD
BEGIN:DAYLIGHT
TZOFFSETFROM:-0800
TZOFFSETTO:-0700
TZNAME:PDT
DTSTART:20240310T100000
END:DAYLIGHT
BEGIN:STANDARD
TZOFFSETFROM:-0700
TZOFFSETTO:-0800
TZNAME:PST
DTSTART:20241103T090000
END:STANDARD
END:VTIMEZONE
BEGIN:VEVENT
DTSTART;TZID=America/Los_Angeles:20230724T170000
DTEND;TZID=America/Los_Angeles:20230724T180000
DTSTAMP:20260422T192723
CREATED:20230724T230339Z
LAST-MODIFIED:20230724T230339Z
UID:1815780-1690218000-1690221600@ramayogainstitute.com
SUMMARY:Long Mul Mantra Monday with Mandev and Special Guest Harijiwan
DESCRIPTION:TUNE IN 
URL:https://ramayogainstitute.com/event/long-mul-mantra-monday-with-mandev-and-special-guest-harijiwan/
LOCATION:Online on RA MA TV
CATEGORIES:RA MA TV Live
ATTACH;FMTTYPE=image/jpeg:https://ramayogainstitute.com/wp-content/uploads/2023/05/L1320521_Harijiwan-Mandev-RA-MA-TV-small.jpg
END:VEVENT
BEGIN:VEVENT
DTSTART;TZID=America/Los_Angeles:20230724T190000
DTEND;TZID=America/Los_Angeles:20230724T201500
DTSTAMP:20260422T192723
CREATED:20230106T004156Z
LAST-MODIFIED:20230725T005141Z
UID:1796384-1690225200-1690229700@ramayogainstitute.com
SUMMARY:Kundalini Yoga & Meditation with Jot Gianpreet
DESCRIPTION:TUNE IN\n 
URL:https://ramayogainstitute.com/event/beam-with-jen-2023-07-24/
LOCATION:Online
CATEGORIES:In Person,RA MA TV Live
ATTACH;FMTTYPE=image/jpeg:https://ramayogainstitute.com/wp-content/uploads/2023/06/RA-MA-Los-Angeles-Kundalini-Yoga-Meditation.jpg
END:VEVENT
BEGIN:VEVENT
DTSTART;TZID=America/Los_Angeles:20230726T190000
DTEND;TZID=America/Los_Angeles:20230726T210000
DTSTAMP:20260422T192723
CREATED:20230721T020935Z
LAST-MODIFIED:20230724T225038Z
UID:1815028-1690398000-1690405200@ramayogainstitute.com
SUMMARY:10th Day of Moon with Harijiwan
DESCRIPTION:SIGN UP\nTUNE IN\n10th Day of Moon with Harijiwan\nKundalini Yoga\, Meditation\, & Gong Workshop\nWednesday\, July 26\, 2023\n7:00pm – 9:00pm PDT \nRA MA Los Angeles\nVirtually on RA MA TV \n$50 In Advance\, $55 Day Of \n  \nHarijiwan has been teaching Kundalini Yoga since 1975. He is the founder of the GRAMMY®-Award-Winning band\, White Sun. With over 44 years of experience in the science of Kundalini Yoga\, Harijiwan incorporates a vast knowledge of various methodologies and training into his practice. Today\, and throughout his years as a teacher and healer\, Harijiwan remains committed to expanding his knowledge and experience to provide his students with the most progressive\, effective\, self-empowering approaches that increase overall joy and wholeness within the context of everyday experiences.
URL:https://ramayogainstitute.com/event/10th-day-of-moon/
LOCATION:Online
CATEGORIES:In Person,Pay Per View Workshops
ATTACH;FMTTYPE=image/jpeg:https://ramayogainstitute.com/wp-content/uploads/2022/12/L1050856_Harijiwan-RA-MA-TV.jpg
END:VEVENT
BEGIN:VEVENT
DTSTART;TZID=America/Los_Angeles:20230727T190000
DTEND;TZID=America/Los_Angeles:20230727T210000
DTSTAMP:20260422T192723
CREATED:20230721T021050Z
LAST-MODIFIED:20230724T230018Z
UID:1815030-1690484400-1690491600@ramayogainstitute.com
SUMMARY:11th Day of Moon with Harijiwan
DESCRIPTION:SIGN UP\nTUNE IN\n11th day of the Moon with Harijiwan\nKundalini Yoga\, Meditation\, & Gong Workshop\nThursday\, July 27\, 2023\n7:00pm – 9:00pm PDT \nRA MA Los Angeles\nVirtually on RA MA TV \n$50 In Advance\, $55 Day Of \n  \nHarijiwan has been teaching Kundalini Yoga since 1975. He is the founder of the GRAMMY®-Award-Winning band\, White Sun. With over 44 years of experience in the science of Kundalini Yoga\, Harijiwan incorporates a vast knowledge of various methodologies and training into his practice. Today\, and throughout his years as a teacher and healer\, Harijiwan remains committed to expanding his knowledge and experience to provide his students with the most progressive\, effective\, self-empowering approaches that increase overall joy and wholeness within the context of everyday experiences.
URL:https://ramayogainstitute.com/event/11th-day-of-moon-with-harijiwan/
LOCATION:Online
CATEGORIES:In Person,Pay Per View Workshops
ATTACH;FMTTYPE=image/png:https://ramayogainstitute.com/wp-content/uploads/2021/12/Harijiwan-1-e1689906860775.png
END:VEVENT
BEGIN:VEVENT
DTSTART;TZID=America/Los_Angeles:20230729T190000
DTEND;TZID=America/Los_Angeles:20230729T220000
DTSTAMP:20260422T192723
CREATED:20230721T031722Z
LAST-MODIFIED:20230721T031756Z
UID:1815046-1690657200-1690668000@ramayogainstitute.com
SUMMARY:Circle of Light with Riz Mizra
DESCRIPTION:SIGN UP\nIndividuals who want to explore their spiritual life to individuals who are experiencing extreme trauma and pain in their life come to the Circle of Light to receive wisdom\, support\, and clarity about their soul path\, their situation\, and most importantly their belief systems.\nThe Circle of Light with Psychic Medium Riz Mirza \nSaturday\, July 29\, 2023\n1729 21st St\, Santa Monica\, CA 90404\, USA\nCircle of Light at Ra Ma Los Angeles\n*In Person Only \n  \nPsychic Medium and Trance Channel Riz enters into a deep trance and retreats within as master Spirit Guides speak through his body with love\, wisdom and powerful piercing insight. His main message bearer\, Red Eagle an unforgettable loving presence\, answers your personal questions on any aspect of your life. \nIt helps our guests feel their creations\, and co-creations with others to a higher degree\, helps people feel not only more enlightened but helps them heal faster\, find more peace in their decisions and overall propels people into deeper healing work for themselves or pushes them into a higher plane of existence. \nThere will also be an energy healing activation to close the gathering. You will feel a profound feeling of peace about the future. Riz is known as one of the only full trance channel shamans known to publically channel personal individual messages including mediumship messages. He has also channeled a record 5 hours\, giving messages in trance. \nRiz Mirza has trance-channeled numerous Spirit Guides who healed people in over 2500 live weekly channeled gatherings called the Circle of Light\, with over 8\,000 hrs of recorded sessions. Channeling over 100 different Spirit Guides\, in front of a live audience. He’s considered a master trance channel. A one-of-a-kind event.
URL:https://ramayogainstitute.com/event/circle-of-light-with-riz-mizra-2/
LOCATION:RA MA Institute Los Angeles\, 1729 21st St\, Santa Monica\, CA\, 90404\, United States
CATEGORIES:In Person
ATTACH;FMTTYPE=image/jpeg:https://ramayogainstitute.com/wp-content/uploads/2023/07/CircleofLight_RizMizra.jpg
END:VEVENT
END:VCALENDAR