BEGIN:VCALENDAR
VERSION:2.0
PRODID:-//RA MA LIFE - ECPv6.15.15//NONSGML v1.0//EN
CALSCALE:GREGORIAN
METHOD:PUBLISH
X-ORIGINAL-URL:https://ramayogainstitute.com
X-WR-CALDESC:Events for RA MA LIFE
REFRESH-INTERVAL;VALUE=DURATION:PT1H
X-Robots-Tag:noindex
X-PUBLISHED-TTL:PT1H
BEGIN:VTIMEZONE
TZID:America/Los_Angeles
BEGIN:DAYLIGHT
TZOFFSETFROM:-0800
TZOFFSETTO:-0700
TZNAME:PDT
DTSTART:20220313T100000
END:DAYLIGHT
BEGIN:STANDARD
TZOFFSETFROM:-0700
TZOFFSETTO:-0800
TZNAME:PST
DTSTART:20221106T090000
END:STANDARD
BEGIN:DAYLIGHT
TZOFFSETFROM:-0800
TZOFFSETTO:-0700
TZNAME:PDT
DTSTART:20230312T100000
END:DAYLIGHT
BEGIN:STANDARD
TZOFFSETFROM:-0700
TZOFFSETTO:-0800
TZNAME:PST
DTSTART:20231105T090000
END:STANDARD
BEGIN:DAYLIGHT
TZOFFSETFROM:-0800
TZOFFSETTO:-0700
TZNAME:PDT
DTSTART:20240310T100000
END:DAYLIGHT
BEGIN:STANDARD
TZOFFSETFROM:-0700
TZOFFSETTO:-0800
TZNAME:PST
DTSTART:20241103T090000
END:STANDARD
END:VTIMEZONE
BEGIN:VEVENT
DTSTART;TZID=America/Los_Angeles:20230627T190000
DTEND;TZID=America/Los_Angeles:20230627T203000
DTSTAMP:20260422T213903
CREATED:20230308T220405Z
LAST-MODIFIED:20230628T002922Z
UID:1795620-1687892400-1687897800@ramayogainstitute.com
SUMMARY:Kundalini Yoga & Meditation with Anneka
DESCRIPTION:TUNE IN\n 
URL:https://ramayogainstitute.com/event/kundalini-yoga-meditation-with-shabadpreet-2-2023-05-23-2023-06-27/
LOCATION:Online
CATEGORIES:In Person,RA MA TV Live
ATTACH;FMTTYPE=image/jpeg:https://ramayogainstitute.com/wp-content/uploads/2023/06/RA-MA-Los-Angeles-Kundalini-Yoga-Meditation.jpg
END:VEVENT
BEGIN:VEVENT
DTSTART;TZID=America/Los_Angeles:20230629T080000
DTEND;TZID=America/Los_Angeles:20230629T093000
DTSTAMP:20260422T213903
CREATED:20230628T205404Z
LAST-MODIFIED:20230629T035058Z
UID:1809865-1688025600-1688031000@ramayogainstitute.com
SUMMARY:Leading from the Heart with Benyamin Arno 
DESCRIPTION:TUNE IN\nEstablishing the relationship between the head and the heart to infinity. A four-part Kundalini series with Benyamin Arno. \nVirtually | Included with RA MA TV Live Membership\nIn-Person from RA MA New York \nThursdays June 29\, July 6\, July 13\, June 20\, 2023 \nBenyamin Arno teaches Kundalini yoga\, mediation and gong. Since 2017 he has practiced and studied yogic science and technology as well explored astrology\, numerology\, Human Design and Ayurveda. He was born and raised near Copenhagen\, Denmark where he spent his teens as a professional athlete followed by more than a decade working in the fashion industry. Today he is running a creative studio consulting for fashion and lifestyle brands.
URL:https://ramayogainstitute.com/event/leading-from-the-heart-with-benyamin-arno/2023-06-29/
LOCATION:RA MA New York & Online
CATEGORIES:In Person,RA MA TV Live
ATTACH;FMTTYPE=image/jpeg:https://ramayogainstitute.com/wp-content/uploads/2023/06/Benyamin-Arno-Leading-with-the-Heart-Kundalini-Series-2.jpg
END:VEVENT
BEGIN:VEVENT
DTSTART;TZID=America/Los_Angeles:20230629T190000
DTEND;TZID=America/Los_Angeles:20230629T210000
DTSTAMP:20260422T213903
CREATED:20230627T190142Z
LAST-MODIFIED:20230629T025150Z
UID:1809586-1688065200-1688072400@ramayogainstitute.com
SUMMARY:Golden Arc Reflection with Harijiwan
DESCRIPTION:SIGN UP\nTUNE IN\nA Post Solstice Radiant Body Integration Experience \nHarijiwan has been teaching Kundalini Yoga since 1975. He is the founder of the GRAMMY®-Award-Winning band\, White Sun. With over 44 years of experience in the science of Kundalini Yoga\, Harijiwan incorporates a vast knowledge of various methodologies and training into his practice. Today\, and throughout his years as a teacher and healer\, Harijiwan remains committed to expanding his knowledge and experience to provide his students with the most progressive\, effective\, self-empowering approaches that increase overall joy and wholeness within the context of everyday experiences.
URL:https://ramayogainstitute.com/event/golden-arc-reflection-with-harijiwan/
LOCATION:Online
CATEGORIES:In Person,Pay Per View Workshops
ATTACH;FMTTYPE=image/jpeg:https://ramayogainstitute.com/wp-content/uploads/2023/06/Radiant_Body_Harijiwan_Header.jpg
END:VEVENT
BEGIN:VEVENT
DTSTART;TZID=America/Los_Angeles:20230701T080000
DTEND;TZID=America/Los_Angeles:20230701T093000
DTSTAMP:20260422T213903
CREATED:20230701T010552Z
LAST-MODIFIED:20230701T012211Z
UID:1810299-1688198400-1688203800@ramayogainstitute.com
SUMMARY:Awaken Your Inner Radiance with Kelle Jacob (Taj Shanti Kaur)
DESCRIPTION:TUNE IN LIVE\nOR\nIN PERSON @ RA MA NY\nAre you ready to shed the layers that no longer serve you and embrace a life filled with abundance\, joy\, and radiant energy? Join us for an immersive four-part Kundalini workshop designed to help you release karmic blocks\, negative energies\, fears\, and self-doubt. \nThrough the transformative power of Kundalini Kriyas\, we will embark on a journey of letting go and creating space for the things you truly desire. Harnessing the energy of the full moon and the vibrant approach of summer\, now is the perfect time to embark on this powerful and empowering journey of personal transformation. \nJuly 1st\nBreaking Free: Dissolving Karmic Chains \nJuly 8th\nPurify and Liberate: Clearing Negative Energies \nJuly 15th\nEmbrace Your Inner Strength: Releasing Fears and Self-Doubt \nJuly 22nd\nRadiate and Attract: Becoming a Magnet for Your Desires \nIntroducing Kelle Jacob\, a catalyst for profound personal transformation\, guiding seekers on a path of power\, wisdom\, and growth through Kundalini yoga and meditation. With a multidisciplinary background in neuroscience\, integrative nutrition\, and ancient technologies\, Kelle merges ancient wisdom with modern science to ignite the dormant potential within individuals. Together\, Kelle and their students explore the intricate landscapes of the human spirit\, unlocking creativity\, vitality\, and purpose. Whether one is an executive\, a high-performing professional\, or simply seeking inner alignment\, Kelle surpasses expectations and leads individuals to new heights of success and self-mastery. Join Kelle on this extraordinary journey to unlock true potential and embrace the boundless power within\, manifesting a life of limitless possibilities together.
URL:https://ramayogainstitute.com/event/awaken-your-inner-radiance-kelle-jacob/2023-07-01/
LOCATION:RA MA New York & Online
CATEGORIES:In Person,RA MA TV Live
ATTACH;FMTTYPE=image/jpeg:https://ramayogainstitute.com/wp-content/uploads/2023/06/Kelle-Jacobs-Kundalini-Yoga-Meditation-Teacher.jpg
END:VEVENT
BEGIN:VEVENT
DTSTART;TZID=America/Los_Angeles:20230702T170000
DTEND;TZID=America/Los_Angeles:20230702T190000
DTSTAMP:20260422T213903
CREATED:20230618T235718Z
LAST-MODIFIED:20230629T032244Z
UID:1807885-1688317200-1688324400@ramayogainstitute.com
SUMMARY:Kirtan with Madhava Das
DESCRIPTION:SIGN UP\nTUNE IN\nKirtan with Madhava Das\nA Pre-Bhakti Fest Event presented by Bhakti Yoga Shala & RA MA Los Angeles\nJoin for the Kirtan of the summer with world class Kirtan leader Madhava Das for an uplifting\, heart-opening\, and deep devotional experience of KIRTAN- the praising of the Divine through chanting. It is a rare gift to have Madhava in Los Angeles. \nSunday\, July 2\, 2023\n5:00pm-7:00pm PDT\nDoors open at 4:30pm PDT
URL:https://ramayogainstitute.com/event/kirtan-with-madhava/
LOCATION:Online
CATEGORIES:In Person,Pay Per View Workshops
ATTACH;FMTTYPE=image/jpeg:https://ramayogainstitute.com/wp-content/uploads/2023/06/Live_Kirtan_Madhava_Header.jpg
END:VEVENT
END:VCALENDAR