BEGIN:VCALENDAR
VERSION:2.0
PRODID:-//RA MA LIFE - ECPv6.15.15//NONSGML v1.0//EN
CALSCALE:GREGORIAN
METHOD:PUBLISH
X-ORIGINAL-URL:https://ramayogainstitute.com
X-WR-CALDESC:Events for RA MA LIFE
REFRESH-INTERVAL;VALUE=DURATION:PT1H
X-Robots-Tag:noindex
X-PUBLISHED-TTL:PT1H
BEGIN:VTIMEZONE
TZID:America/Los_Angeles
BEGIN:DAYLIGHT
TZOFFSETFROM:-0800
TZOFFSETTO:-0700
TZNAME:PDT
DTSTART:20220313T100000
END:DAYLIGHT
BEGIN:STANDARD
TZOFFSETFROM:-0700
TZOFFSETTO:-0800
TZNAME:PST
DTSTART:20221106T090000
END:STANDARD
BEGIN:DAYLIGHT
TZOFFSETFROM:-0800
TZOFFSETTO:-0700
TZNAME:PDT
DTSTART:20230312T100000
END:DAYLIGHT
BEGIN:STANDARD
TZOFFSETFROM:-0700
TZOFFSETTO:-0800
TZNAME:PST
DTSTART:20231105T090000
END:STANDARD
BEGIN:DAYLIGHT
TZOFFSETFROM:-0800
TZOFFSETTO:-0700
TZNAME:PDT
DTSTART:20240310T100000
END:DAYLIGHT
BEGIN:STANDARD
TZOFFSETFROM:-0700
TZOFFSETTO:-0800
TZNAME:PST
DTSTART:20241103T090000
END:STANDARD
END:VTIMEZONE
BEGIN:VEVENT
DTSTART;TZID=America/Los_Angeles:20230619T160000
DTEND;TZID=America/Los_Angeles:20230619T173000
DTSTAMP:20260422T231110
CREATED:20230406T215039Z
LAST-MODIFIED:20230619T082623Z
UID:1787827-1687190400-1687195800@ramayogainstitute.com
SUMMARY:Kundalini Yoga & Meditation with Sher Kirtan
DESCRIPTION:TUNE IN\n 
URL:https://ramayogainstitute.com/event/kundalini-yoga-meditation-with-siri-rishi-4-2023-06-19/
LOCATION:RA MA New York & Online
CATEGORIES:In Person,RA MA TV Live
ATTACH;FMTTYPE=image/jpeg:https://ramayogainstitute.com/wp-content/uploads/2022/07/Sher-Kirtan-New-York.jpg
END:VEVENT
BEGIN:VEVENT
DTSTART;TZID=America/Los_Angeles:20230619T190000
DTEND;TZID=America/Los_Angeles:20230619T210000
DTSTAMP:20260422T231110
CREATED:20230616T042334Z
LAST-MODIFIED:20230619T232115Z
UID:1807286-1687201200-1687208400@ramayogainstitute.com
SUMMARY:Magnetic Projection with Harijiwan
DESCRIPTION:SIGN UP\nTUNE IN\nMagnetic Projection\nPre-Solstice Kundalini Yoga\, Meditation\, & Gong Workshop with Harijiwan\nMonday\, June 19\, 2023\n7:00pm – 9:00pm PDT \n$50 In Advance\, $55 Day Of \nVirtually on RA MA TV\nIn Person at RA MA Los Angeles
URL:https://ramayogainstitute.com/event/magnetic-projection/
LOCATION:Online
CATEGORIES:In Person,Pay Per View Workshops
ATTACH;FMTTYPE=image/jpeg:https://ramayogainstitute.com/wp-content/uploads/2023/02/Harijiwan-Playing-Gong-Black-White-e1686425489298.jpg
END:VEVENT
BEGIN:VEVENT
DTSTART;TZID=America/Los_Angeles:20230620T170000
DTEND;TZID=America/Los_Angeles:20230620T190000
DTSTAMP:20260422T231110
CREATED:20230616T043037Z
LAST-MODIFIED:20230619T232032Z
UID:1807290-1687280400-1687287600@ramayogainstitute.com
SUMMARY:Solstice Eve Workshop with Harijiwan
DESCRIPTION:SIGN UP\nTUNE IN\nSolstice Eve Workshop with Harijiwan\nKundalini Yoga\, Meditation\, & Gong Workshop\n+ Community Dinner to Follow\nTuesday\, June 20\, 2023\n5:00pm – 7:00pm PDT \n$50 In Advance\, $55 Day Of \nVirtually on RA MA TV\nIn Person at RA MA Los Angeles
URL:https://ramayogainstitute.com/event/solstice-eve/
LOCATION:Online
CATEGORIES:In Person,Pay Per View Workshops
ATTACH;FMTTYPE=image/jpeg:https://ramayogainstitute.com/wp-content/uploads/2023/04/Harijiwan-Blue-Gong.jpg
END:VEVENT
BEGIN:VEVENT
DTSTART;TZID=America/Los_Angeles:20230620T190000
DTEND;TZID=America/Los_Angeles:20230620T200000
DTSTAMP:20260422T231110
CREATED:20230509T035506Z
LAST-MODIFIED:20230620T002832Z
UID:1806517-1687287600-1687291200@ramayogainstitute.com
SUMMARY:Golden Archive: Pre-Solstice Meditation with Guru Jagat
DESCRIPTION:TUNE IN\nA Pre-Solstice Meditation for Love\, Unity\, & Respect \nGuru Jagat was a celebrated and iconoclastic thought leader who forged a new path of modern wellness. She embodied “creation culture” as an author\, fashion designer\, teacher\, musician\, chef\, and entrepreneur. She founded RA MA in 2013 and left a lasting legacy amongst her students\, family and friends.
URL:https://ramayogainstitute.com/event/a-golden-archive-class-with-guru-jagat-2023-06-20/
LOCATION:Online on RA MA TV
CATEGORIES:RA MA TV Live
ATTACH;FMTTYPE=image/jpeg:https://ramayogainstitute.com/wp-content/uploads/2022/03/Guru-Jagat-AWLS-April-2022-Landscape.jpg
END:VEVENT
BEGIN:VEVENT
DTSTART;TZID=America/Los_Angeles:20230621T083000
DTEND;TZID=America/Los_Angeles:20230621T100000
DTSTAMP:20260422T231110
CREATED:20230619T083840Z
LAST-MODIFIED:20230620T003330Z
UID:1807919-1687336200-1687341600@ramayogainstitute.com
SUMMARY:Summer Solstice: Mantra Meditation & Breathwork with Melissa Wu
DESCRIPTION:TUNE IN\nMelissa aims to share practical tools and be an example of how one can elevate and propel beyond sufferings and alchemize one’s life circumstance into its fullest potential. Melissa combines her research and studies in movement/somatics\, psychology\, reiki\, biology\, quantum physics\, archeology and eastern medicine\, into the systemic teachings of Kundalini Yoga and her own movement practice.
URL:https://ramayogainstitute.com/event/summer-solstice-mantra-meditation-breathwork-with-melissa-wu/
LOCATION:RA MA New York & Online
CATEGORIES:In Person,RA MA TV Live
ATTACH;FMTTYPE=image/jpeg:https://ramayogainstitute.com/wp-content/uploads/2023/05/Manyee_M-20-2.jpg
END:VEVENT
BEGIN:VEVENT
DTSTART;TZID=America/Los_Angeles:20230621T110000
DTEND;TZID=America/Los_Angeles:20230621T130000
DTSTAMP:20260422T231110
CREATED:20230509T035506Z
LAST-MODIFIED:20230620T003458Z
UID:1807539-1687345200-1687352400@ramayogainstitute.com
SUMMARY:Golden Archive: Golden Glitter Vistas with Guru Jagat
DESCRIPTION:TUNE IN\nA Solstice Kundalini Yoga & Meditation Workshop \nGuru Jagat was a celebrated and iconoclastic thought leader who forged a new path of modern wellness. She embodied “creation culture” as an author\, fashion designer\, teacher\, musician\, chef\, and entrepreneur. She founded RA MA in 2013 and left a lasting legacy amongst her students\, family and friends.
URL:https://ramayogainstitute.com/event/a-golden-archive-class-with-guru-jagat-2023-06-20-2023-06-21/
LOCATION:Online on RA MA TV
CATEGORIES:RA MA TV Live
ATTACH;FMTTYPE=image/jpeg:https://ramayogainstitute.com/wp-content/uploads/2022/03/Guru-Jagat-AWLS-April-2022-Landscape.jpg
END:VEVENT
BEGIN:VEVENT
DTSTART;TZID=America/Los_Angeles:20230621T160000
DTEND;TZID=America/Los_Angeles:20230621T180000
DTSTAMP:20260422T231110
CREATED:20230611T210915Z
LAST-MODIFIED:20230621T074640Z
UID:1806548-1687363200-1687370400@ramayogainstitute.com
SUMMARY:Solstice Night Kundalini Yoga & Meditation Workshop with Pritam Siri
DESCRIPTION:SIGN UP\nTUNE IN (TV Live Members)\nTUNE IN (Drop Ins)\nPritam Siri is an artist and yogi based in New York City. She has dedicated her time to studying\, working\, and traveling with Guru Jagat from 2016 until her passing in 2021. She is an active student of Kundalini Yoga and Meditation as Taught by Yogi Bhajan and is committed to practicing and sharing kundalini yoga technology.\nHer classes are open and welcome to beginners and seasoned practitioners.
URL:https://ramayogainstitute.com/event/kundalini-yoga-meditation-with-pritam-siri-9-2023-06-21/
LOCATION:RA MA New York & Online
CATEGORIES:In Person,Pay Per View Workshops,RA MA TV Live
ATTACH;FMTTYPE=image/jpeg:https://ramayogainstitute.com/wp-content/uploads/2023/06/Pritam-Siri-Kundalini-Yoga_Header.jpg
END:VEVENT
BEGIN:VEVENT
DTSTART;TZID=America/Los_Angeles:20230621T190000
DTEND;TZID=America/Los_Angeles:20230621T220000
DTSTAMP:20260422T231110
CREATED:20230609T191413Z
LAST-MODIFIED:20230621T041303Z
UID:1805868-1687374000-1687384800@ramayogainstitute.com
SUMMARY:Circle of Light with Riz Mizra
DESCRIPTION:SIGN UP\nIndividuals who want to explore their spiritual life to individuals who are experiencing extreme trauma and pain in their life come to the Circle of Light to receive wisdom\, support\, and clarity about their soul path\, their situation\, and most importantly their belief systems.\nThe Circle of Light: Solstice Channeled Messages from The Guides with Psychic Medium Riz Mirza \nWednesday\, June 21\, 2023\n1729 21st St\, Santa Monica\, CA 90404\, USA\nCircle of Light at Ra Ma Los Angeles\n*In Person Only \n  \nPsychic Medium and Trance Channel Riz enters into a deep trance and retreats within as master Spirit Guides speak through his body with love\, wisdom and powerful piercing insight. His main message bearer\, Red Eagle an unforgettable loving presence\, answers your personal questions on any aspect of your life. \nIt helps our guests feel their creations\, and co-creations with others to a higher degree\, helps people feel not only more enlightened but helps them heal faster\, find more peace in their decisions and overall propels people into deeper healing work for themselves or pushes them into a higher plane of existence. \nThere will also be an energy healing activation to close the gathering. You will feel a profound feeling of peace about the future. Riz is known as one of the only full trance channel shamans known to publically channel personal individual messages including mediumship messages. He has also channeled a record 5 hours\, giving messages in trance. \nRiz Mirza has trance-channeled numerous Spirit Guides who healed people in over 2500 live weekly channeled gatherings called the Circle of Light\, with over 8\,000 hrs of recorded sessions. Channeling over 100 different Spirit Guides\, in front of a live audience. He’s considered a master trance channel. A one-of-a-kind event.
URL:https://ramayogainstitute.com/event/circle-of-light-june-21/
LOCATION:RA MA Institute Los Angeles\, 1729 21st St\, Santa Monica\, CA\, 90404\, United States
CATEGORIES:In Person
ATTACH;FMTTYPE=image/jpeg:https://ramayogainstitute.com/wp-content/uploads/2023/06/riz_mirza_large_banner_col_2023_720.jpg
END:VEVENT
BEGIN:VEVENT
DTSTART;TZID=America/Los_Angeles:20230622T090000
DTEND;TZID=America/Los_Angeles:20230622T103000
DTSTAMP:20260422T231110
CREATED:20230619T082834Z
LAST-MODIFIED:20230620T005118Z
UID:1807913-1687424400-1687429800@ramayogainstitute.com
SUMMARY:Kundalini Yoga & Meditation with Ashely Kassan
DESCRIPTION:TUNE IN
URL:https://ramayogainstitute.com/event/kundalini-yoga-meditation-2/
LOCATION:Online
CATEGORIES:In Person,RA MA TV Live
ATTACH;FMTTYPE=image/jpeg:https://ramayogainstitute.com/wp-content/uploads/2023/06/RA-MA-Los-Angeles-Kundalini-Yoga-Meditation.jpg
END:VEVENT
BEGIN:VEVENT
DTSTART;TZID=America/Los_Angeles:20230623T090000
DTEND;TZID=America/Los_Angeles:20230623T103000
DTSTAMP:20260422T231110
CREATED:20230619T082834Z
LAST-MODIFIED:20230619T232514Z
UID:1807918-1687510800-1687516200@ramayogainstitute.com
SUMMARY:Kundalini Yoga & Meditation with Alexis Di Salvo
DESCRIPTION:TUNE IN\nAlexis met her teacher\, Harijiwan in 2012 and in 2013 took her first of many kundalini trainings with Harijiwan and Tej. She began teaching at the brand new RA MA Venice and has been practicing and using the Kundalini Yoga technology to upgrade and expand her potential ever since. \nAlexis is also a mother and successful working actress. She has appeared in several television shows and feature films such as THIS IS US\, GRACE AND FRANKIE\, THE RESIDENT\, JERSEY BOYS AND THE GET DOWN. She also teaches and coaches other actors through Lesly Kahn & Co Acting Studio. \nAlexis loves deepening her daily practice and continuing to study and learn from her teacher\, Harijiwan.
URL:https://ramayogainstitute.com/event/kundalini-yoga-meditation-2-2023-06-23/
LOCATION:Online
CATEGORIES:In Person,RA MA TV Live
ATTACH;FMTTYPE=image/jpeg:https://ramayogainstitute.com/wp-content/uploads/2019/04/Alexis-Di-Salvo.jpg
END:VEVENT
END:VCALENDAR