BEGIN:VCALENDAR
VERSION:2.0
PRODID:-//RA MA LIFE - ECPv6.15.15//NONSGML v1.0//EN
CALSCALE:GREGORIAN
METHOD:PUBLISH
X-WR-CALNAME:RA MA LIFE
X-ORIGINAL-URL:https://ramayogainstitute.com
X-WR-CALDESC:Events for RA MA LIFE
REFRESH-INTERVAL;VALUE=DURATION:PT1H
X-Robots-Tag:noindex
X-PUBLISHED-TTL:PT1H
BEGIN:VTIMEZONE
TZID:America/Los_Angeles
BEGIN:DAYLIGHT
TZOFFSETFROM:-0800
TZOFFSETTO:-0700
TZNAME:PDT
DTSTART:20220313T100000
END:DAYLIGHT
BEGIN:STANDARD
TZOFFSETFROM:-0700
TZOFFSETTO:-0800
TZNAME:PST
DTSTART:20221106T090000
END:STANDARD
BEGIN:DAYLIGHT
TZOFFSETFROM:-0800
TZOFFSETTO:-0700
TZNAME:PDT
DTSTART:20230312T100000
END:DAYLIGHT
BEGIN:STANDARD
TZOFFSETFROM:-0700
TZOFFSETTO:-0800
TZNAME:PST
DTSTART:20231105T090000
END:STANDARD
BEGIN:DAYLIGHT
TZOFFSETFROM:-0800
TZOFFSETTO:-0700
TZNAME:PDT
DTSTART:20240310T100000
END:DAYLIGHT
BEGIN:STANDARD
TZOFFSETFROM:-0700
TZOFFSETTO:-0800
TZNAME:PST
DTSTART:20241103T090000
END:STANDARD
END:VTIMEZONE
BEGIN:VEVENT
DTSTART;TZID=America/Los_Angeles:20230426T190000
DTEND;TZID=America/Los_Angeles:20230426T203000
DTSTAMP:20260423T011609
CREATED:20230424T222054Z
LAST-MODIFIED:20230424T223533Z
UID:1793518-1682535600-1682541000@ramayogainstitute.com
SUMMARY:Kundalini Yoga & Meditation with Jot Gianpreet
DESCRIPTION:TUNE IN
URL:https://ramayogainstitute.com/event/kundalini-yoga-meditation-with-jot-gianpreet/2023-04-26/
LOCATION:Online
CATEGORIES:In Person,RA MA TV Live
ATTACH;FMTTYPE=image/jpeg:https://ramayogainstitute.com/wp-content/uploads/2022/06/RA-MA-TV-In-Your-Home-2.jpg
END:VEVENT
BEGIN:VEVENT
DTSTART;TZID=America/Los_Angeles:20230428T193000
DTEND;TZID=America/Los_Angeles:20230428T213000
DTSTAMP:20260423T011609
CREATED:20230417T080153Z
LAST-MODIFIED:20230429T013539Z
UID:1788997-1682710200-1682717400@ramayogainstitute.com
SUMMARY:Live Kirtan with Govind Das
DESCRIPTION:SIGN UP\nTUNE IN\n\n\nKirtan is an ancient bhakti yoga practice using chanting\, mantra\, and music as an expression of our devotion and heartfelt prayer. Experience this live Kirtan presented by Bhakti Yoga Shala\, led by  Govind Das\, who is spreading the practice of bhakti around the world. At the Shala\, teachings of the great saint Neem Karoli Baba are followed\, who celebrated all Gods as one. Anyone and everyone is welcome\, and we are happy to serve you on your spiritual journey. \n\n\n\n\nFriday\, April 28\, 2023\n7:30pm – 9:30pm PDT \nIn-Person at RA MA Los Angeles\nVirtually on RA MA TV with 48 hour replay
URL:https://ramayogainstitute.com/event/live-kirtan-with-govind-das-jacqueline-3/
LOCATION:Online
CATEGORIES:In Person,Pay Per View Workshops
ATTACH;FMTTYPE=image/jpeg:https://ramayogainstitute.com/wp-content/uploads/2023/04/Govind-Das-Kirtan-Horizontal.jpg
END:VEVENT
BEGIN:VEVENT
DTSTART;TZID=America/Los_Angeles:20230430T110000
DTEND;TZID=America/Los_Angeles:20230430T123000
DTSTAMP:20260423T011609
CREATED:20230424T222054Z
LAST-MODIFIED:20230424T225058Z
UID:1793628-1682852400-1682857800@ramayogainstitute.com
SUMMARY:Kundalini Yoga & Meditation with Raj Harprem
DESCRIPTION:TUNE IN
URL:https://ramayogainstitute.com/event/kundalini-yoga-meditation-with-jot-gianpreet-2023-04-30/
LOCATION:Online
CATEGORIES:In Person,RA MA TV Live
ATTACH;FMTTYPE=image/jpeg:https://ramayogainstitute.com/wp-content/uploads/2022/06/RA-MA-TV-In-Your-Home-2.jpg
END:VEVENT
END:VCALENDAR